BEGIN:VCALENDAR
VERSION:2.0
PRODID:-//Markten en meer - ECPv6.15.20//NONSGML v1.0//EN
CALSCALE:GREGORIAN
METHOD:PUBLISH
X-WR-CALNAME:Markten en meer
X-ORIGINAL-URL:https://marktenmeer.nl
X-WR-CALDESC:Evenementen voor Markten en meer
REFRESH-INTERVAL;VALUE=DURATION:PT1H
X-Robots-Tag:noindex
X-PUBLISHED-TTL:PT1H
BEGIN:VTIMEZONE
TZID:Europe/Amsterdam
BEGIN:DAYLIGHT
TZOFFSETFROM:+0100
TZOFFSETTO:+0200
TZNAME:CEST
DTSTART:20250330T010000
END:DAYLIGHT
BEGIN:STANDARD
TZOFFSETFROM:+0200
TZOFFSETTO:+0100
TZNAME:CET
DTSTART:20251026T010000
END:STANDARD
BEGIN:DAYLIGHT
TZOFFSETFROM:+0100
TZOFFSETTO:+0200
TZNAME:CEST
DTSTART:20260329T010000
END:DAYLIGHT
BEGIN:STANDARD
TZOFFSETFROM:+0200
TZOFFSETTO:+0100
TZNAME:CET
DTSTART:20261025T010000
END:STANDARD
BEGIN:DAYLIGHT
TZOFFSETFROM:+0100
TZOFFSETTO:+0200
TZNAME:CEST
DTSTART:20270328T010000
END:DAYLIGHT
BEGIN:STANDARD
TZOFFSETFROM:+0200
TZOFFSETTO:+0100
TZNAME:CET
DTSTART:20271031T010000
END:STANDARD
END:VTIMEZONE
BEGIN:VEVENT
DTSTART;VALUE=DATE:20260424
DTEND;VALUE=DATE:20260426
DTSTAMP:20260424T020331
CREATED:20260401T210923Z
LAST-MODIFIED:20260401T210923Z
UID:24429-1776988800-1777161599@marktenmeer.nl
SUMMARY:Fair Priced Vintage – Rotterdam – 24 & 25 april 2026
DESCRIPTION:Op vrijdag 24 en zaterdag 25 april 2026 vindt Fair Priced Vintage plaats in Rotterdam. Deze vintage markt in Rotterdam wordt gehouden in de Schiecentrale en richt zich op een brede selectie betaalbare tweedehands kleding. Bezoekers kunnen binnen een tijdslot rustig rondkijken tussen grote hoeveelheden kleding\, waarbij vaste prijzen zorgen voor overzicht en toegankelijkheid. Het evenement trekt een mix van modeliefhebbers en bezoekers die bewust kiezen voor duurzame mode. \nDe sfeer is praktisch en gericht op ontdekken. Je vindt er een uitgebreide collectie kleding\, van basics tot unieke vintage items. Door de indoor locatie is dit evenement geschikt om langere tijd te blijven en op je gemak te zoeken. De nadruk ligt op hergebruik\, betaalbaarheid en een toegankelijke winkelervaring. \nVoor bezoekers\n\nDatum: 24 & 25 april 2026\nTijd:\n\nVrijdag: 12:00 – 18:00 uur (tijdsloten)\nZaterdag: 10:00 – 17:00 uur (tijdsloten)\n\n\nLocatie: Schiecentrale Events\, Sint-Jobsweg 116\, Rotterdam\nType markt: vintage markt / kledingmarkt\nEntree: gratis (reserveren per tijdslot)\nAanbod: vintage kleding en accessoires\nKenmerk: vaste prijzen\, toegang via tijdsloten\nBinnenlocatie: ja\n\nEen bezoek aan deze markt in Rotterdam is een praktische manier om vintage kleding te ontdekken.
URL:https://marktenmeer.nl/markt/fair-priced-vintage-rotterdam-24-25-april-2026/
LOCATION:Rotterdam\, Rotterdam\, Netherlands
CATEGORIES:Kledingbeurzen,Kledingbeurzen Zuid-Holland,Vintage,Vintage Zuid-Holland,Zuid-Holland
END:VEVENT
BEGIN:VEVENT
DTSTART;TZID=Europe/Amsterdam:20260424T080000
DTEND;TZID=Europe/Amsterdam:20260426T170000
DTSTAMP:20260424T020331
CREATED:20251218T074954Z
LAST-MODIFIED:20260329T055851Z
UID:17059-1777017600-1777222800@marktenmeer.nl
SUMMARY:Koningsdag 2026 in Dokkum | Koninklijk Bezoek & Feestweekend
DESCRIPTION:Koningsdag 2026 in Dokkum wordt een historisch en feestelijk evenement dat zijn weerga niet kent. Op maandag 27 april 2026 viert Koning Willem-Alexander zijn verjaardag in Dokkum\, samen met Koningin Máxima en de rest van de koninklijke familie. Daarmee staat de stad die dag letterlijk in het middelpunt van Nederland. Onder de naam Keningsdei wordt Koningsdag in Dokkum een vierdaags feest waarin cultuur\, muziek en gastvrijheid samenkomen. \nNiet alleen op Koningsdag zelf\, maar ook in het weekend vooraf – van vrijdag 24 tot en met zondag 26 april 2026 – is er volop bedrijvigheid in de stad. Dokkum wordt feestelijk aangekleed en bezoekers kunnen rekenen op een afwisselend programma waarin de stad en de regio zich van hun beste kant laten zien. Muziek\, optredens\, culturele activiteiten en een koninklijke route door het centrum zorgen voor een unieke beleving. \nHet koninklijk bezoek is extra bijzonder: het is 18 jaar geleden dat Koningsdag voor het laatst in Friesland werd gevierd. Dat maakt Koningsdag 2026 in Dokkum tot een unieke gebeurtenis voor inwoners\, bezoekers en iedereen die dit moment van dichtbij wil meemaken. Of je nu komt voor de festiviteiten\, de sfeer of het historische karakter: Dokkum is dé plek om Koningsdag 2026 te beleven. \nPraktische informatie\n\nEvenement: Koningsdag 2026 in Dokkum\nHoofddatum: maandag 27 april 2026\nFeestweekend: vrijdag 24 t/m zondag 26 april 2026\nLocatie: Centrum Dokkum\nType evenement: Stadsfeest / Koninklijk bezoek\nToegang: Gratis
URL:https://marktenmeer.nl/markt/oningsdag-2026-dokkum/
LOCATION:Dokkum\, Dokkum\, Netherlands
CATEGORIES:Friesland,Koningsdag
END:VEVENT
END:VCALENDAR