BEGIN:VCALENDAR
VERSION:2.0
PRODID:-//Markten en meer - ECPv6.15.20//NONSGML v1.0//EN
CALSCALE:GREGORIAN
METHOD:PUBLISH
X-WR-CALNAME:Markten en meer
X-ORIGINAL-URL:https://marktenmeer.nl
X-WR-CALDESC:Evenementen voor Markten en meer
REFRESH-INTERVAL;VALUE=DURATION:PT1H
X-Robots-Tag:noindex
X-PUBLISHED-TTL:PT1H
BEGIN:VTIMEZONE
TZID:Europe/Amsterdam
BEGIN:DAYLIGHT
TZOFFSETFROM:+0100
TZOFFSETTO:+0200
TZNAME:CEST
DTSTART:20250330T010000
END:DAYLIGHT
BEGIN:STANDARD
TZOFFSETFROM:+0200
TZOFFSETTO:+0100
TZNAME:CET
DTSTART:20251026T010000
END:STANDARD
BEGIN:DAYLIGHT
TZOFFSETFROM:+0100
TZOFFSETTO:+0200
TZNAME:CEST
DTSTART:20260329T010000
END:DAYLIGHT
BEGIN:STANDARD
TZOFFSETFROM:+0200
TZOFFSETTO:+0100
TZNAME:CET
DTSTART:20261025T010000
END:STANDARD
BEGIN:DAYLIGHT
TZOFFSETFROM:+0100
TZOFFSETTO:+0200
TZNAME:CEST
DTSTART:20270328T010000
END:DAYLIGHT
BEGIN:STANDARD
TZOFFSETFROM:+0200
TZOFFSETTO:+0100
TZNAME:CET
DTSTART:20271031T010000
END:STANDARD
END:VTIMEZONE
BEGIN:VEVENT
DTSTART;TZID=Europe/Amsterdam:20260503T110000
DTEND;TZID=Europe/Amsterdam:20260503T180000
DTSTAMP:20260420T193640
CREATED:20260311T163608Z
LAST-MODIFIED:20260311T163608Z
UID:22232-1777806000-1777831200@marktenmeer.nl
SUMMARY:Swan Market Antwerpen – 3 mei 2026
DESCRIPTION:Op zondag 3 mei 2026 vindt de Swan Market in Antwerpen plaats op de Grote Markt\, in het historische centrum van de stad. Deze creatieve makersmarkt brengt ontwerpers\, illustratoren en kleine merken samen die hun producten rechtstreeks aan bezoekers presenteren. \nTijdens de Swan Market kunnen bezoekers langs verschillende kramen wandelen met een gevarieerd aanbod aan handgemaakte sieraden\, illustraties\, accessoires\, kleding\, woondecoratie en unieke cadeaus. Veel producten worden door de makers zelf verkocht\, waardoor je vaak meer te weten komt over het ontwerp en het maakproces. \nDe Swan Market staat bekend om de creatieve sfeer en het aanbod van originele producten. Het is een leuke plek om nieuwe makers te ontdekken\, inspiratie op te doen en bijzondere cadeaus te vinden. \nPraktische informatie\n\nEvenement: Swan Market Antwerpen\nDatum: zondag 3 mei 2026\nLocatie: Grote Markt\, Antwerpen\nTijd: 11:00 – 18:00\nEntree: gratis\n\nDe markt is vrij toegankelijk en vindt plaats op een centrale locatie in Antwerpen.
URL:https://marktenmeer.nl/markt/swan-market-antwerpen-3-mei-2026/
LOCATION:Antwerpen\, Belgie\, Antwerpen\, Belgium
CATEGORIES:Belgie,Belgie - Antwerpen
END:VEVENT
BEGIN:VEVENT
DTSTART;TZID=Europe/Amsterdam:20260509T110000
DTEND;TZID=Europe/Amsterdam:20260510T170000
DTSTAMP:20260420T193640
CREATED:20260302T094142Z
LAST-MODIFIED:20260302T094142Z
UID:21034-1778324400-1778432400@marktenmeer.nl
SUMMARY:Shoppingweekend Beerse – 9 en 10 mei 2026
DESCRIPTION:Op zaterdag 9 en zondag 10 mei 2026 vindt opnieuw een Shoppingweekend plaats in het centrum van Beerse (België). Tijdens dit weekend zetten lokale handelaars\, winkels en horecazaken hun deuren open voor een extra winkelmoment in het voorjaar. Het initiatief wordt georganiseerd door Bruisend Beerse\, dat ondernemers in het centrum samenbrengt. \nHet Shoppingweekend in Beerse draait om lokaal winkelen en ontmoeting. Bezoekers kunnen terecht in de Gasthuisstraat\, Vrijwilligersstraat en Lindenlaan voor een gevarieerd aanbod. Op zondag zijn de winkels geopend van 11:00 tot 17:00 uur. \nVoor bezoekers\n\nType evenement: shoppingweekend\nPlaats: Beerse (België)\nData: zaterdag 9 en zondag 10 mei 2026\nLocatie: centrum van Beerse (Gasthuisstraat\, Vrijwilligersstraat\, Lindenlaan)\nZondag open: 11:00 – 17:00 uur\nEntree: gratis\n\nTijdens dit weekend voorzien deelnemende handelaars speciale acties. Bezoekers kunnen mode\, schoenen\, kinderartikelen en andere producten ontdekken bij lokale ondernemers. Ook horecazaken in het centrum doen mee\, waardoor het bezoek eenvoudig te combineren is met een pauze of lunchmoment. \nHet Shoppingweekend in Beerse op 9 en 10 mei 2026 biedt een laagdrempelige gelegenheid om lokaal te winkelen en kennis te maken met ondernemers uit het centrum.
URL:https://marktenmeer.nl/markt/shoppingweekend-beerse-9-en-10-mei-2026/
LOCATION:Beerse\, Beerse\, Belgium
CATEGORIES:Belgie,Belgie - Antwerpen,Belgie Braderie Braderij
END:VEVENT
BEGIN:VEVENT
DTSTART;TZID=Europe/Amsterdam:20260510T103000
DTEND;TZID=Europe/Amsterdam:20260510T163000
DTSTAMP:20260420T193640
CREATED:20260302T094931Z
LAST-MODIFIED:20260302T094931Z
UID:21039-1778409000-1778430600@marktenmeer.nl
SUMMARY:Plantenmarkt Boom – 10 mei 2026
DESCRIPTION:Op zondag 10 mei 2026 vindt een plantenmarkt plaats aan de Pastorijstraat 23 in Boom (België). Tijdens deze markt staan zeldzame kamerplanten\, stoere cactussen en bijpassende accessoires centraal. Tussen 10:30 en 16:30 uur kunnen bezoekers rustig rondkijken en inspiratie opdoen voor huis en tuin. \nDe plantenmarkt in Boom richt zich op liefhebbers van bijzondere planten en groen in huis. Het aanbod varieert van unieke kamerplanten tot cactussoorten en verzorgingsaccessoires. Naast het plantenaanbod is er een foodtruck aanwezig en is er extra aandacht voor kinderplezier\, waardoor het evenement geschikt is voor een breed publiek. \nVoor bezoekers\n\nType markt: plantenmarkt\nPlaats: Boom (België)\nDatum: zondag 10 mei 2026\nTijd: 10:30 – 16:30 uur\nLocatie: Pastorijstraat 23\, Boom\n\nBezoekers kunnen rekenen op: \n\nZeldzame kamerplanten\nCactussen en accessoires\nFoodtruck\nActiviteiten voor kinderen\n\nDe markt is geschikt voor plantenliefhebbers\, gezinnen en iedereen die op zoek is naar een bijzonder groen accent voor interieur of tuin. \nVoor standhouders\nDe organisatie verloopt via de website www.tiaplnts.be. \nDe doelgroep bestaat uit plantenliefhebbers en gezinnen uit Boom en omgeving. Een gespecialiseerd en kwalitatief aanbod sluit goed aan bij dit publiek. \nDe plantenmarkt in Boom op 10 mei 2026 biedt een complete dag in het teken van groen\, inspiratie en ontmoeting.
URL:https://marktenmeer.nl/markt/plantenmarkt-boom-10-mei-2026/
LOCATION:Boom\, Boom\, Belgium
CATEGORIES:Belgie,Belgie - Antwerpen
END:VEVENT
BEGIN:VEVENT
DTSTART;TZID=Europe/Amsterdam:20260524T083000
DTEND;TZID=Europe/Amsterdam:20260524T130000
DTSTAMP:20260420T193640
CREATED:20260410T084847Z
LAST-MODIFIED:20260410T084847Z
UID:25368-1779611400-1779627600@marktenmeer.nl
SUMMARY:Sinksenmarkt Dessel – 24 mei 2026
DESCRIPTION:De Sinksenmarkt in Dessel is een goederen- en rommelmarkt die jaarlijks tijdens Pinksteren plaatsvindt in het centrum van het dorp. Op zondag 24 mei 2026 worden de Turnhoutsebaan en Kolkstraat gevuld met een mix van particuliere verkopers en marktkramers. Bezoekers kunnen hier rustig rondkijken tussen tweedehands spullen\, curiosa en uiteenlopende producten. \nDe markt heeft een laagdrempelig karakter en is gericht op zowel lokale bewoners als bezoekers uit de regio. Door de combinatie van particuliere verkoop en professionele handel ontstaat een gevarieerd aanbod. \nVoor bezoekers\n\nDatum: zondag 24 mei 2026\nLocatie: Turnhoutsebaan en Kolkstraat\, Dessel\nType markt: goederenmarkt / rommelmarkt\nEntree: gratis\nAanbod: tweedehands spullen\, diverse verkoopkramen\n\nDe markt speelt zich af in het centrum en is goed te combineren met een bezoek aan de omgeving. \nVoor standhouders\nDe Sinksenmarkt biedt ruimte aan zowel particulieren als professionele verkopers. \n\nType plaats: grondplaats / marktkraam\nKraamprijs: gratis\nStroom: gratis beschikbaar\nDoelgroep: breed publiek\n\nVoorwaarden: \n\nVooraf inschrijven is verplicht\n\nInschrijven: \n\nVia het e-loket (aanvraag standplaats)\nTelefonisch via 014 39 39 35\nPer e-mail via lokale.economie@dessel.be\n\nSfeer en aanbod\nDe Sinksenmarkt in Dessel is een toegankelijke en overzichtelijke markt met een lokaal karakter. Het aanbod varieert van tweedehands spullen tot commerciële producten\, waardoor er voor verschillende bezoekers iets te vinden is. \nEen laagdrempelige rommelmarkt in het centrum van Dessel tijdens Pinksteren.
URL:https://marktenmeer.nl/markt/sinksenmarkt-dessel-24-mei-2026/
LOCATION:Dessel\, Dessel\, Belgium
CATEGORIES:Belgie,Belgie - Antwerpen,Belgie Braderie Braderij,Braderie Belgie
END:VEVENT
BEGIN:VEVENT
DTSTART;TZID=Europe/Amsterdam:20260531T080000
DTEND;TZID=Europe/Amsterdam:20260531T170000
DTSTAMP:20260420T193640
CREATED:20260307T075029Z
LAST-MODIFIED:20260307T075029Z
UID:21723-1780214400-1780246800@marktenmeer.nl
SUMMARY:Zomermarkt B&B Hullebrug – Heist-op-den-Berg – 31 mei 2026
DESCRIPTION:Op zondag 31 mei 2026 vindt in de tuinen van B&B Hullebrug in Heist-op-den-Berg een kleinschalige zomermarkt plaats. Tijdens deze markt staan handgemaakte producten\, lokale creativiteit en streekproducten centraal. Bezoekers kunnen in een rustige en groene omgeving langs verschillende stands wandelen en kennismaken met makers en kunstenaars uit de regio. \nDe zomermarkt richt zich op ambacht en creatieve hobby’s. Standhouders presenteren onder andere keramiek\, houtcreaties en handwerk zoals haken en breien. Daarnaast zijn er lokale kunstenaars aanwezig en worden er streekproducten aangeboden. Bezoekers kunnen de markt combineren met een drankje of een kleine versnapering in de tuin van de bed & breakfast\, wat bijdraagt aan een ontspannen en informele sfeer. \nVoor bezoekers\nDe zomermarkt vindt plaats in de tuin van B&B Hullebrug en is bedoeld als een toegankelijke markt waar bezoekers rustig kunnen rondkijken tussen creatieve en ambachtelijke producten. \nPraktische informatie: \n\nDatum: zondag 31 mei 2026\nTijd: 10:00 – 18:00 uur\nPlaats: Heist-op-den-Berg (BE)\nLocatie: B&B Hullebrug\n\nTijdens de markt zijn verschillende soorten stands aanwezig\, waaronder: \n\nKeramiek\nHoutcreaties\nHandwerk zoals haken en breien\nLokale kunstenaars\nStreekproducten\n\nBezoekers kunnen daarnaast genieten van een drankje en kleine lekkernijen terwijl ze de markt bezoeken. \nVoor standhouders\nDe organisatie biedt standplaatsen aan voor creatieve makers\, hobbyverkopers en aanbieders van ambachtelijke of streekproducten. De zomermarkt richt zich vooral op handgemaakte en lokale producten. \nDe zomermarkt bij B&B Hullebrug biedt een kleinschalige markt waar bezoekers en makers elkaar ontmoeten in een rustige\, groene omgeving.
URL:https://marktenmeer.nl/markt/zomermarkt-bb-hullebrug-heist-op-den-berg-31-mei-2026/
LOCATION:Heist-op-den-Berg (BE)\, Heist-op-den-Berg\, Belgium
CATEGORIES:Belgie,Belgie - Antwerpen
END:VEVENT
BEGIN:VEVENT
DTSTART;TZID=Europe/Amsterdam:20260607T110000
DTEND;TZID=Europe/Amsterdam:20260607T180000
DTSTAMP:20260420T193640
CREATED:20260311T164651Z
LAST-MODIFIED:20260311T164651Z
UID:22245-1780830000-1780855200@marktenmeer.nl
SUMMARY:Swan Market Antwerpen – 7 juni 2026
DESCRIPTION:Op zondag 7 juni 2026 vindt de Swan Market in Antwerpen plaats op de Grote Markt\, midden in het historische centrum van de stad. Deze creatieve makersmarkt brengt ontwerpers\, illustratoren en kleine merken samen die hun producten rechtstreeks aan bezoekers presenteren. \nTijdens de Swan Market kun je langs verschillende kramen wandelen met een gevarieerd aanbod aan handgemaakte sieraden\, illustraties\, accessoires\, kleding\, woondecoratie en originele cadeaus. Veel producten worden door de makers zelf verkocht\, waardoor je vaak meer te weten komt over het ontwerp en het maakproces. \nDe Swan Market staat bekend om de creatieve sfeer en het brede aanbod aan unieke producten. Het is een leuke plek om nieuwe makers te ontdekken\, inspiratie op te doen of een bijzonder cadeau te vinden. \nPraktische informatie\n\nEvenement: Swan Market Antwerpen\nDatum: zondag 7 juni 2026\nLocatie: Grote Markt\, Antwerpen\nTijd: 11:00 – 18:00\nEntree: gratis\n\nDe markt is vrij toegankelijk en vindt plaats op een centrale locatie in Antwerpen.
URL:https://marktenmeer.nl/markt/swan-market-antwerpen-7-juni-2026/
LOCATION:Antwerpen\, Belgie\, Antwerpen\, Belgium
CATEGORIES:Belgie,Belgie - Antwerpen
END:VEVENT
BEGIN:VEVENT
DTSTART;TZID=Europe/Amsterdam:20260802T110000
DTEND;TZID=Europe/Amsterdam:20260802T180000
DTSTAMP:20260420T193640
CREATED:20260311T165923Z
LAST-MODIFIED:20260311T165923Z
UID:22259-1785668400-1785693600@marktenmeer.nl
SUMMARY:Swan Market Antwerpen – 2 augustus 2026
DESCRIPTION:Op zondag 2 augustus 2026 vindt de Swan Market in Antwerpen plaats op de Grote Markt\, midden in het historische centrum van de stad. Deze creatieve makersmarkt brengt ontwerpers\, illustratoren en kleine merken samen die hun producten rechtstreeks aan bezoekers presenteren. \nTijdens de Swan Market kun je langs diverse kramen wandelen met een gevarieerd aanbod aan handgemaakte sieraden\, illustraties\, accessoires\, kleding\, woondecoratie en originele cadeaus. Veel producten worden door de makers zelf verkocht\, waardoor bezoekers vaak meer te weten komen over het ontwerp en het maakproces. \nDe Swan Market staat bekend om de creatieve sfeer en het brede aanbod aan unieke producten. Het is een leuke plek om nieuwe makers te ontdekken\, inspiratie op te doen of een bijzonder cadeau te vinden. \nPraktische informatie\n\nEvenement: Swan Market Antwerpen\nDatum: zondag 2 augustus 2026\nLocatie: Grote Markt\, Antwerpen\nTijd: 11:00 – 18:00\nEntree: gratis\n\nDe markt is vrij toegankelijk en vindt plaats op een centrale locatie in Antwerpen.
URL:https://marktenmeer.nl/markt/swan-market-antwerpen-2-augustus-2026/
LOCATION:Antwerpen\, Belgie\, Antwerpen\, Belgium
CATEGORIES:Belgie,Belgie - Antwerpen
END:VEVENT
BEGIN:VEVENT
DTSTART;TZID=Europe/Amsterdam:20260905T080000
DTEND;TZID=Europe/Amsterdam:20260905T160000
DTSTAMP:20260420T193640
CREATED:20260302T095452Z
LAST-MODIFIED:20260302T095452Z
UID:21041-1788595200-1788624000@marktenmeer.nl
SUMMARY:Rommelmarkt FC Verachtert Oosterwijk – 5 september 2026
DESCRIPTION:Op zaterdag 5 september 2026 vindt de eerste rommelmarkt bij FC Verachtert plaats in Oosterwijk (Westerlo\, België). Deze rommelmarkt biedt bezoekers de kans om koopjes te scoren in een toegankelijke en gezellige omgeving. De markt wordt georganiseerd door Ditjes & Datjes Rommelmarkten en gaat door aan de kantine van FC Verachtert. \nTussen 08:00 en 16:00 uur kunnen bezoekers snuisteren tussen tweedehands spullen\, curiosa en bruikbare vondsten. De inkom en parking zijn gratis\, wat het laagdrempelig maakt voor gezinnen en koopjesjagers uit de regio Westerlo. \nVoor bezoekers\n\nType markt: rommelmarkt\nPlaats: Oosterwijk (Westerlo\, België)\nDatum: zaterdag 5 september 2026\nTijd: 08:00 – 16:00 uur\nLocatie: Kantine FC Verachtert\, Schuurveldstraat 47\, 2260 Oosterwijk\nInkom: gratis\nParking: gratis\n\nTijdens de rommelmarkt is er ook catering voorzien met onder meer hotdogs\, hamburgers\, soep\, pistolets\, croque monsieur\, schepijs en smoutebollen. \nVoor standhouders\nParticulieren kunnen deelnemen aan de rommelmarkt. \n\nBasistarief: € 2\,50 per meter\nAuto bij stand: toegestaan\nOpstellen: tussen 06:00 en 08:00 uur\nInschrijven via: 0495 49 57 16\nE-mail: linda.degroof@proximus.be\n\nDe rommelmarkt richt zich op bezoekers uit Oosterwijk en omliggende gemeenten. Een gevarieerd aanbod van tweedehands spullen sluit hier goed op aan. \nDe rommelmarkt bij FC Verachtert in Oosterwijk op 5 september 2026 biedt een volledige dag snuisteren en ontmoeten.
URL:https://marktenmeer.nl/markt/rommelmarkt-fc-verachtert-oosterwijk-5-september-2026/
LOCATION:Oosterwijk\, Oosterwijk\, Belgium
CATEGORIES:Belgie,Belgie - Antwerpen,Belgie Rommelmarkt
END:VEVENT
BEGIN:VEVENT
DTSTART;TZID=Europe/Amsterdam:20261004T110000
DTEND;TZID=Europe/Amsterdam:20261004T170000
DTSTAMP:20260420T193640
CREATED:20260312T065617Z
LAST-MODIFIED:20260312T065617Z
UID:22281-1791111600-1791133200@marktenmeer.nl
SUMMARY:Swan Market Antwerpen – 4 oktober 2026
DESCRIPTION:Op zondag 4 oktober 2026 vindt de Swan Market in Antwerpen plaats op de Grote Markt\, midden in het historische centrum van de stad. Deze creatieve makersmarkt brengt ontwerpers\, illustratoren en kleine merken samen die hun producten rechtstreeks aan bezoekers presenteren. \nTijdens de Swan Market kun je langs diverse kramen wandelen met een gevarieerd aanbod aan handgemaakte sieraden\, illustraties\, accessoires\, kleding\, woondecoratie en originele cadeaus. Veel producten worden door de makers zelf verkocht\, waardoor bezoekers vaak meer te weten komen over het ontwerp en het maakproces. \nDe Swan Market staat bekend om de creatieve sfeer en het brede aanbod aan unieke producten. Het is een leuke plek om nieuwe makers te ontdekken\, inspiratie op te doen of een bijzonder cadeau te vinden. \nPraktische informatie\n\nEvenement: Swan Market Antwerpen\nDatum: zondag 4 oktober 2026\nLocatie: Grote Markt\, Antwerpen\nTijd: 11:00 – 17:00\nEntree: gratis\n\nDe markt is vrij toegankelijk en vindt plaats op een centrale locatie in Antwerpen.
URL:https://marktenmeer.nl/markt/swan-market-antwerpen-4-oktober-2026/
LOCATION:Antwerpen\, Belgie\, Antwerpen\, Belgium
CATEGORIES:Belgie,Belgie - Antwerpen
END:VEVENT
END:VCALENDAR