BEGIN:VCALENDAR
VERSION:2.0
PRODID:-//Markten en meer - ECPv6.15.20//NONSGML v1.0//EN
CALSCALE:GREGORIAN
METHOD:PUBLISH
X-ORIGINAL-URL:https://marktenmeer.nl
X-WR-CALDESC:Evenementen voor Markten en meer
REFRESH-INTERVAL;VALUE=DURATION:PT1H
X-Robots-Tag:noindex
X-PUBLISHED-TTL:PT1H
BEGIN:VTIMEZONE
TZID:Europe/Amsterdam
BEGIN:DAYLIGHT
TZOFFSETFROM:+0100
TZOFFSETTO:+0200
TZNAME:CEST
DTSTART:20250330T010000
END:DAYLIGHT
BEGIN:STANDARD
TZOFFSETFROM:+0200
TZOFFSETTO:+0100
TZNAME:CET
DTSTART:20251026T010000
END:STANDARD
BEGIN:DAYLIGHT
TZOFFSETFROM:+0100
TZOFFSETTO:+0200
TZNAME:CEST
DTSTART:20260329T010000
END:DAYLIGHT
BEGIN:STANDARD
TZOFFSETFROM:+0200
TZOFFSETTO:+0100
TZNAME:CET
DTSTART:20261025T010000
END:STANDARD
BEGIN:DAYLIGHT
TZOFFSETFROM:+0100
TZOFFSETTO:+0200
TZNAME:CEST
DTSTART:20270328T010000
END:DAYLIGHT
BEGIN:STANDARD
TZOFFSETFROM:+0200
TZOFFSETTO:+0100
TZNAME:CET
DTSTART:20271031T010000
END:STANDARD
END:VTIMEZONE
BEGIN:VEVENT
DTSTART;TZID=Europe/Amsterdam:20260308T090000
DTEND;TZID=Europe/Amsterdam:20260308T160000
DTSTAMP:20260424T074620
CREATED:20260308T174404Z
LAST-MODIFIED:20260308T174404Z
UID:21862-1772960400-1772985600@marktenmeer.nl
SUMMARY:Rommelmarkt De Burg – Hamont-Achel – 8 maart 2026
DESCRIPTION:Op zondag 8 maart 2026 wordt in parochiezaal De Burg in Hamont-Achel (België) een rommelmarkt georganiseerd. Tijdens deze markt kunnen bezoekers binnen en buiten rondkijken tussen verschillende stands met tweedehands spullen en leuke koopjes. De rommelmarkt wordt georganiseerd door de werkgroep Kom op tegen Kanker. \nBezoekers kunnen niet alleen snuffelen tussen de kramen\, maar ook terecht in het café en op het terras voor eten en drinken. Er worden onder andere koffie met vlaai\, soep\, croques\, pastaschotels en broodjes spek met ei geserveerd. \nVoor bezoekers\nDe rommelmarkt vindt plaats bij parochiezaal De Burg in Hamont-Achel. \nPraktische informatie: \n\nDatum: zondag 8 maart 2026\nTijd: 09:00 – 16:00 uur\nPlaats: Hamont-Achel (België)\nLocatie: Parochiezaal De Burg\, Burg 34\nEntree: gratis\nParkeren: gratis\n\nBezoekers kunnen zowel binnen als buiten langs verschillende stands wandelen waar tweedehands spullen worden verkocht. \nVoor standhouders\nStandhouders kunnen deelnemen aan de rommelmarkt door contact op te nemen met de organisatie. \nPraktische informatie voor standhouders: \n\n\nBinnen en buiten standplaatsen beschikbaar \n\n\nMeer informatie: \n\n\nTelefoon: 0468 29 60 66 \n\n\nDe rommelmarkt bij De Burg in Hamont-Achel is een markt waar bezoekers kunnen snuffelen tussen tweedehands spullen en tegelijkertijd een goed doel steunen.
URL:https://marktenmeer.nl/markt/rommelmarkt-hamont-achel-de-burg-8-maart-2026/
LOCATION:Hamont-Achel (België)\, Hamont-Achel (België)\, Belgium
CATEGORIES:Belgie,Belgie - Limburg,Belgie Rommelmarkt
END:VEVENT
END:VCALENDAR