BEGIN:VCALENDAR
VERSION:2.0
PRODID:-//Markten en meer - ECPv6.15.20//NONSGML v1.0//EN
CALSCALE:GREGORIAN
METHOD:PUBLISH
X-ORIGINAL-URL:https://marktenmeer.nl
X-WR-CALDESC:Evenementen voor Markten en meer
REFRESH-INTERVAL;VALUE=DURATION:PT1H
X-Robots-Tag:noindex
X-PUBLISHED-TTL:PT1H
BEGIN:VTIMEZONE
TZID:Europe/Amsterdam
BEGIN:DAYLIGHT
TZOFFSETFROM:+0100
TZOFFSETTO:+0200
TZNAME:CEST
DTSTART:20250330T010000
END:DAYLIGHT
BEGIN:STANDARD
TZOFFSETFROM:+0200
TZOFFSETTO:+0100
TZNAME:CET
DTSTART:20251026T010000
END:STANDARD
BEGIN:DAYLIGHT
TZOFFSETFROM:+0100
TZOFFSETTO:+0200
TZNAME:CEST
DTSTART:20260329T010000
END:DAYLIGHT
BEGIN:STANDARD
TZOFFSETFROM:+0200
TZOFFSETTO:+0100
TZNAME:CET
DTSTART:20261025T010000
END:STANDARD
BEGIN:DAYLIGHT
TZOFFSETFROM:+0100
TZOFFSETTO:+0200
TZNAME:CEST
DTSTART:20270328T010000
END:DAYLIGHT
BEGIN:STANDARD
TZOFFSETFROM:+0200
TZOFFSETTO:+0100
TZNAME:CET
DTSTART:20271031T010000
END:STANDARD
END:VTIMEZONE
BEGIN:VEVENT
DTSTART;TZID=Europe/Amsterdam:20260712T090000
DTEND;TZID=Europe/Amsterdam:20260712T160000
DTSTAMP:20260424T104355
CREATED:20260316T075942Z
LAST-MODIFIED:20260316T075942Z
UID:22783-1783846800-1783872000@marktenmeer.nl
SUMMARY:Rommelmarkt Hamont-Achel – 12 juli 2026
DESCRIPTION:Op zondag 12 juli 2026 wordt in Hamont-Achel opnieuw een rommelmarkt georganiseerd bij parochiezaal De Burg. Tijdens deze markt kunnen bezoekers zowel binnen als buiten langs verschillende kramen wandelen op zoek naar tweedehands spullen en leuke koopjes. Rommelmarkten trekken vaak een breed publiek: van verzamelaars en liefhebbers van curiosa tot mensen die graag rondkijken tussen bijzondere vondsten. \nDe rommelmarkt bij De Burg biedt een gevarieerd aanbod aan tweedehands goederen. Standhouders verkopen onder andere huisraad\, boeken\, kleding\, speelgoed en andere curiosa. Bezoekers kunnen rustig langs de kramen lopen en op zoek gaan naar interessante vondsten. Naast het rondkijken op de markt is er ook gelegenheid om even te pauzeren in het café of op het terras. Hier zijn eenvoudige gerechten en drankjes verkrijgbaar\, zoals koffie met vlaai\, soep\, croques\, pastaschotels en een broodje spek met ei. De organisatie is in handen van de werkgroep Kom op tegen Kanker. \nVoor bezoekers\nPraktische informatie voor een bezoek aan de rommelmarkt: \n\nType markt: rommelmarkt\nPlaats: Hamont-Achel (België)\nDatum: zondag 12 juli 2026\nTijd: 09.00 – 16.00 uur\nLocatie: Parochiezaal De Burg\nAdres: Burg 34\, 3930 Hamont-Achel\nEntree: gratis\nParkeren: gratis\n\nWat bezoekers kunnen verwachten: \n\nrommelmarkt binnen en buiten de zaal\nverkoop van tweedehands goederen en curiosa\ncafé en terras met koffie\, vlaai\, soep\, croques en andere eenvoudige gerechten\n\nDe markt is geschikt voor bezoekers die rustig willen rondkijken en op zoek zijn naar betaalbare tweedehands items. \nVoor standhouders\nDe rommelmarkt in Hamont-Achel biedt standplaatsen voor particulieren en verkopers die tweedehands goederen willen aanbieden. Door de combinatie van binnen- en buitenplaatsen is er ruimte voor verschillende soorten verkoop. \nPraktische informatie voor deelname: \n\nOrganisatie: werkgroep Kom op tegen Kanker\nLocatie: Parochiezaal De Burg\, Hamont-Achel\nStandplaatsen: binnen en buiten beschikbaar\n\nVoor informatie of deelname kan contact worden opgenomen via: \n\n\nTelefoon: 0468 29 60 66 \n\n\nDe rommelmarkt in Hamont-Achel is een toegankelijke markt waar bezoekers en standhouders samenkomen rond tweedehands handel.
URL:https://marktenmeer.nl/markt/rommelmarkt-hamont-achel-12-juli-2026/
LOCATION:Hamont-Achel (België)\, Hamont-Achel (België)\, Belgium
CATEGORIES:Belgie,Belgie - Limburg,Belgie Rommelmarkt
END:VEVENT
END:VCALENDAR