BEGIN:VCALENDAR
VERSION:2.0
PRODID:-//Markten en meer - ECPv6.15.20//NONSGML v1.0//EN
CALSCALE:GREGORIAN
METHOD:PUBLISH
X-ORIGINAL-URL:https://marktenmeer.nl
X-WR-CALDESC:Evenementen voor Markten en meer
REFRESH-INTERVAL;VALUE=DURATION:PT1H
X-Robots-Tag:noindex
X-PUBLISHED-TTL:PT1H
BEGIN:VTIMEZONE
TZID:Europe/Amsterdam
BEGIN:DAYLIGHT
TZOFFSETFROM:+0100
TZOFFSETTO:+0200
TZNAME:CEST
DTSTART:20250330T010000
END:DAYLIGHT
BEGIN:STANDARD
TZOFFSETFROM:+0200
TZOFFSETTO:+0100
TZNAME:CET
DTSTART:20251026T010000
END:STANDARD
BEGIN:DAYLIGHT
TZOFFSETFROM:+0100
TZOFFSETTO:+0200
TZNAME:CEST
DTSTART:20260329T010000
END:DAYLIGHT
BEGIN:STANDARD
TZOFFSETFROM:+0200
TZOFFSETTO:+0100
TZNAME:CET
DTSTART:20261025T010000
END:STANDARD
BEGIN:DAYLIGHT
TZOFFSETFROM:+0100
TZOFFSETTO:+0200
TZNAME:CEST
DTSTART:20270328T010000
END:DAYLIGHT
BEGIN:STANDARD
TZOFFSETFROM:+0200
TZOFFSETTO:+0100
TZNAME:CET
DTSTART:20271031T010000
END:STANDARD
END:VTIMEZONE
BEGIN:VEVENT
DTSTART;TZID=Europe/Amsterdam:20260406T080000
DTEND;TZID=Europe/Amsterdam:20260406T170000
DTSTAMP:20260423T035337
CREATED:20260302T100637Z
LAST-MODIFIED:20260302T100637Z
UID:21053-1775462400-1775494800@marktenmeer.nl
SUMMARY:Paasmaandag Rommelmarkt Oudenaarde – 6 april 2026
DESCRIPTION:Op maandag 6 april 2026 (Paasmaandag) vindt de jaarlijkse paasmaandag rommelmarkt plaats in Oudenaarde. Deze rommelmarkt in Oudenaarde gaat door in de buurt van het Liedtspark en strekt zich uit over de Simon De Paepestraat\, Gaspard Heuvickstraat en Adriaan Brouwerstraat\, met uitbreiding naar de Keizer Karelstraat. \nTussen 08:00 en 17:00 uur kunnen bezoekers snuisteren tussen tweedehands spullen\, verzamelobjecten en mogelijk nieuwe waren. Door de centrale ligging nabij het park trekt deze markt een breed publiek uit Oudenaarde en omgeving. \nVoor bezoekers\n\nType markt: rommelmarkt (Paasmaandag)\nPlaats: Oudenaarde (België)\nDatum: maandag 6 april 2026\nTijd: 08:00 – 17:00 uur\nLocatie: omgeving Liedtspark – Simon De Paepestraat\, Gaspard Heuvickstraat\, Adriaan Brouwerstraat en Keizer Karelstraat\nInkom: gratis\n\nDe rommelmarkt is geschikt voor gezinnen\, koopjesjagers en verzamelaars die op zoek zijn naar unieke vondsten. \nVoor standhouders\nDe organisatie is in handen van vzw Rommelmarktbond Oudenaarde. \nStandgeld: \n\nOp voorhand: € 1\,00 per meter\nVan 28/03 t.e.m. 05/04: € 1\,50 per meter\nDag zelf: € 2\,00 per meter\nNieuwe waren: € 5\,00 per meter\n\nPraktische info standhouders: \n\nGenummerde plaatsen\nWagen bij de stand mogelijk vanaf 6 meter\nStandplaatsnummer afhalen tussen 06:00 en 07:30 uur(zwarte tenten\, hoek G. Heuvickstraat / A. Brouwerstraat)\nNiet ingenomen plaatsen worden vanaf 07:30 uur vrijgegeven\n\nDe paasmaandag rommelmarkt in Oudenaarde op 6 april 2026 biedt een volledige dag snuisteren in een centrale en toegankelijke omgeving.
URL:https://marktenmeer.nl/markt/paasmaandag-rommelmarkt-oudenaarde-6-april-2026/
LOCATION:Oudenaarde\, Oudenaarde\, Belgium
CATEGORIES:Belgie,Belgie Oost-Vlaanderen,Belgie Rommelmarkt
END:VEVENT
BEGIN:VEVENT
DTSTART;TZID=Europe/Amsterdam:20260418T080000
DTEND;TZID=Europe/Amsterdam:20260418T170000
DTSTAMP:20260423T035337
CREATED:20260302T100927Z
LAST-MODIFIED:20260302T100927Z
UID:21056-1776499200-1776531600@marktenmeer.nl
SUMMARY:Ter Eecken Rommelmarkt Oudenaarde – 18 april 2026
DESCRIPTION:Op zaterdag 18 april 2026 vindt de Ter Eecken rommelmarkt plaats in Oudenaarde. Deze rommelmarkt in Oudenaarde gaat door in de omgeving van Ter Eecken en strekt zich uit over de Zegestraat\, Sint-Lucasstraat\, Gelukstede en Bevrijdingsstraat. Het evenement wordt georganiseerd door Rommelmarktbond Oudenaarde\, in samenwerking met BVB Ajucap. \nVan 08:00 tot 17:00 uur kunnen bezoekers snuisteren tussen tweedehands goederen\, curiosa en mogelijk nieuwe waren. Door de wijkgerichte opzet trekt deze markt een breed publiek uit Oudenaarde en omgeving. \nVoor bezoekers\n\nType markt: rommelmarkt\nPlaats: Oudenaarde (België)\nDatum: zaterdag 18 april 2026\nTijd: 08:00 – 17:00 uur\nLocatie: Ter Eecken – Zegestraat – Sint-Lucasstraat – Gelukstede – Bevrijdingsstraat\nInkom: gratis\n\nDe rommelmarkt is geschikt voor koopjesjagers\, verzamelaars en gezinnen die graag een dagje rondkijken in een gezellige wijkomgeving. \nVoor standhouders\nStandgeld: \n\nOp voorhand: € 2\,00 per meter\nVan 11/04 t.e.m. 17/04: € 3\,00 per meter\nDag zelf: € 4\,00 per meter\nNieuwe waren: € 5\,00 per meter\n\nPraktische info: \n\nGenummerde plaatsen\nWagen bij de stand mogelijk vanaf 6 meter\nStandplaatsnummer afhalen tussen 06:00 en 07:30 uur(bij William of Hervé op Ter Eecken of hoek Gelukstede / Sint-Lucasstraat)\nNiet ingenomen plaatsen worden vanaf 07:30 uur vrijgegeven\n\nDe Ter Eecken rommelmarkt in Oudenaarde op 18 april 2026 biedt een volledige dag tweedehands koopjes in een wijkgerichte setting.
URL:https://marktenmeer.nl/markt/ter-eecken-rommelmarkt-oudenaarde-18-april-2026/
LOCATION:Oudenaarde\, Oudenaarde\, Belgium
CATEGORIES:Belgie,Belgie Oost-Vlaanderen,Belgie Rommelmarkt
END:VEVENT
BEGIN:VEVENT
DTSTART;TZID=Europe/Amsterdam:20260425T080000
DTEND;TZID=Europe/Amsterdam:20260425T170000
DTSTAMP:20260423T035337
CREATED:20260302T101144Z
LAST-MODIFIED:20260302T101144Z
UID:21058-1777104000-1777136400@marktenmeer.nl
SUMMARY:Schapendries Rommelmarkt Oudenaarde – 25 april 2026
DESCRIPTION:Op zaterdag 25 april 2026 vindt de Schapendries rommelmarkt plaats in Oudenaarde (Leupegem). Deze rommelmarkt in Oudenaarde gaat door in de omgeving van Schapendries\, Rennemonde\, Koekstraat en een deel van Onderbos\, aansluitend aan de N60 te Leupegem. \nVan 08:00 tot 17:00 uur kunnen bezoekers snuisteren tussen tweedehands goederen\, curiosa en mogelijk nieuwe waren. De wijkgerichte opzet en de ligging nabij de N60 zorgen voor een vlotte bereikbaarheid en een brede bezoekersstroom. \nVoor bezoekers\n\nType markt: rommelmarkt\nPlaats: Oudenaarde (Leupegem)\nDatum: zaterdag 25 april 2026\nTijd: 08:00 – 17:00 uur\nLocatie: Schapendries – Rennemonde – Koekstraat – deel Onderbos (aangrenzend aan N60)\nInkom: gratis\n\nDe rommelmarkt is geschikt voor koopjesjagers\, verzamelaars en gezinnen die graag een dagje rondkijken in een toegankelijke wijkomgeving. \nVoor standhouders\nDe organisatie is in handen van Rommelmarktbond Oudenaarde. \nStandgeld: \n\nOp voorhand: € 2\,00 per meter\nVan 11/04 t.e.m. 22/04: € 3\,00 per meter\nDag zelf: € 4\,00 per meter\nNieuwe waren: € 5\,00 per meter\n\nInschrijven:Verplicht vooraf via e-mail: herve.salomon@telenet.be \nPraktische info: \n\nGenummerde plaatsen\nWagen bij de stand mogelijk vanaf 6 meter\nBetaalde standhouders ontvangen in de week vooraf een welkomstblad met standplaatsnummer per mail\nNiet ingenomen plaatsen worden vanaf 07:30 uur vrijgegeven\n\nDe Schapendries rommelmarkt in Oudenaarde op 25 april 2026 biedt een volledige dag snuisteren in een ruime en goed bereikbare omgeving.
URL:https://marktenmeer.nl/markt/schapendries-rommelmarkt-oudenaarde-25-april-2026/
LOCATION:Oudenaarde\, Oudenaarde\, Belgium
CATEGORIES:Belgie,Belgie Oost-Vlaanderen,Belgie Rommelmarkt
END:VEVENT
BEGIN:VEVENT
DTSTART;TZID=Europe/Amsterdam:20260503T080000
DTEND;TZID=Europe/Amsterdam:20260503T180000
DTSTAMP:20260423T035337
CREATED:20260302T123243Z
LAST-MODIFIED:20260302T123243Z
UID:21075-1777795200-1777831200@marktenmeer.nl
SUMMARY:Vijfbunders Rommelmarkt Petegem (Deinze) – 3 mei 2026
DESCRIPTION:Op zondag 3 mei 2026 vindt de Vijfbunders rommelmarkt plaats in Petegem aan de Leie (Deinze). Deze rommelmarkt in Deinze gaat door in de wijk Vijf Bunders en strekt zich uit over Meirelos\, Houtkantlaan\, Boekweithof\, Bulkenhof en Ter Meire. \nVan 08:00 tot 18:00 uur kunnen bezoekers snuisteren tussen tweedehands spullen en curiosa in een wijkgerichte setting. Door de ruime opzet en de lange openingsduur is er voldoende tijd om het volledige parcours te verkennen. \nVoor bezoekers\n\nType markt: rommelmarkt\nPlaats: Petegem aan de Leie (Deinze\, België)\nDatum: zondag 3 mei 2026\nTijd: 08:00 – 18:00 uur\nLocatie: Wijk Vijf Bunders – Meirelos\, Houtkantlaan\, Boekweithof\, Bulkenhof\, Ter Meire\nInkom: gratis\n\nDe rommelmarkt is geschikt voor koopjesjagers\, verzamelaars en gezinnen die een dag willen rondkijken in een gezellige wijkomgeving. \nVoor standhouders\nDe organisatie verloopt via Rommelmarktbond Oudenaarde. \nStandgeld: \n\nOp voorhand: € 1\,00 per meter\nVan 25/04 t.e.m. 01/05: € 1\,50 per meter\nDag zelf: € 2\,00 per meter\n\nInschrijven:Verplicht vooraf via e-mail: herve.salomon@telenet.be \nPraktische info: \n\nGenummerde plaatsen\nWagen bij de stand mogelijk vanaf 6 meter\nStandplaatsnummer afhalen tussen 06:00 en 07:30 uur(hoek Meirelos / Houtkantlaan of Oostkouterlaan / Houtkantlaan)\nNiet ingenomen plaatsen worden vanaf 07:30 uur vrijgegeven\n\nDe Vijfbunders rommelmarkt in Petegem (Deinze) op 3 mei 2026 biedt een volledige dag tweedehands koopjes in een ruime wijkomgeving.
URL:https://marktenmeer.nl/markt/vijfbunders-rommelmarkt-petegem-deinze-3-mei-2026/
LOCATION:Deinze\, Deinze\, Netherlands
CATEGORIES:Belgie,Belgie Oost-Vlaanderen,Belgie Rommelmarkt
END:VEVENT
BEGIN:VEVENT
DTSTART;TZID=Europe/Amsterdam:20260510T080000
DTEND;TZID=Europe/Amsterdam:20260510T170000
DTSTAMP:20260423T035337
CREATED:20260302T123502Z
LAST-MODIFIED:20260302T123502Z
UID:21078-1778400000-1778432400@marktenmeer.nl
SUMMARY:Rommelmarkt & Brocante Melden (Oudenaarde) – 10 mei 2026
DESCRIPTION:Op zondag 10 mei 2026 vindt de rommelmarkt en brocante plaats in Melden\, deelgemeente van Oudenaarde. Deze rommelmarkt in Oudenaarde gaat door in de Meldenstraat\, aangrenzend aan de N8 Berchemweg en aan de voet van de Koppenberg. \nVan 08:00 tot 17:00 uur kunnen bezoekers snuisteren tussen tweedehands goederen en brocante in een landelijke omgeving. De ligging aan de voet van de Koppenberg geeft deze markt een herkenbare locatie voor bezoekers uit de regio. \nVoor bezoekers\n\nType markt: rommelmarkt en brocante\nPlaats: Melden (Oudenaarde\, België)\nDatum: zondag 10 mei 2026\nTijd: 08:00 – 17:00 uur\nLocatie: Meldenstraat\, nabij N8 Berchemweg\, aan de voet van de Koppenberg\nInkom: gratis\n\nDe markt is geschikt voor koopjesjagers\, verzamelaars en bezoekers die graag rondkijken in een open en toegankelijke setting. \nVoor standhouders\nDe organisatie verloopt via Rommelmarktbond Oudenaarde. \nStandgeld: \n\nOp voorhand: € 1\,00 per meter\nVan 02/05 t.e.m. 09/05: € 1\,50 per meter\nDag zelf: € 2\,00 per meter\n\nInschrijven:Verplicht vooraf via e-mail: herve.salomon@telenet.be \nPraktische info: \n\nGenummerde plaatsen\nWagen bij de stand mogelijk vanaf 6 meter\nStandplaatsnummer afhalen tussen 06:00 en 07:30 uur(hoek Berchemweg / Meldenstraat)\nNiet ingenomen plaatsen worden vanaf 07:30 uur vrijgegeven\n\nDe rommelmarkt en brocante in Melden (Oudenaarde) op 10 mei 2026 biedt een volledige dag tweedehands en brocante in een landelijke omgeving.
URL:https://marktenmeer.nl/markt/rommelmarkt-melden-oudenaarde-10-mei-2026/
LOCATION:Oudenaarde\, Oudenaarde\, Belgium
CATEGORIES:Belgie,Belgie Oost-Vlaanderen,Belgie Rommelmarkt
END:VEVENT
BEGIN:VEVENT
DTSTART;TZID=Europe/Amsterdam:20260524T080000
DTEND;TZID=Europe/Amsterdam:20260524T170000
DTSTAMP:20260423T035337
CREATED:20260302T123717Z
LAST-MODIFIED:20260302T123717Z
UID:21080-1779609600-1779642000@marktenmeer.nl
SUMMARY:Rommelmarkt Sinksenkermis Oosterzele – 24 mei 2026
DESCRIPTION:Op zondag 24 mei 2026 vindt de rommelmarkt plaats tijdens de Sinksenkermis in Oosterzele. Deze rommelmarkt in Oosterzele gaat door in het dorpscentrum\, met standplaatsen in Windekouter en een deel van Keiberg. \nVan 08:00 tot 17:00 uur kunnen bezoekers snuisteren tussen tweedehands goederen\, curiosa en mogelijk nieuwe waren. De combinatie met de Sinksenkermis zorgt voor extra sfeer en een brede bezoekersstroom in het dorp. \nVoor bezoekers\n\nType markt: rommelmarkt (tijdens Sinksenkermis)\nPlaats: Oosterzele (België)\nDatum: zondag 24 mei 2026\nTijd: 08:00 – 17:00 uur\nLocatie: Windekouter en deel Keiberg\, centrum Oosterzele\nInkom: gratis\n\nDe rommelmarkt is geschikt voor koopjesjagers\, verzamelaars en gezinnen die hun bezoek aan de kermis willen combineren met een markt. \nVoor standhouders\nDe organisatie verloopt via Rommelmarktbond Oudenaarde\, in samenwerking met BVB Ajucap. \nStandgeld: \n\nOp voorhand: € 2\,00 per meter\nVan 16/05 t.e.m. 23/05: € 3\,00 per meter\nDag zelf: € 4\,00 per meter\nNieuwe waren: € 5\,00 per meter\n\nInschrijven:Verplicht vooraf via e-mail: herve.salomon@telenet.be \nPraktische info: \n\nGenummerde plaatsen\nWagen bij de stand mogelijk vanaf 6 meter\nStandnummer afhalen tussen 06:00 en 07:30 uur(Gemeentehuis\, Dorp 1)\nNiet ingenomen plaatsen worden vanaf 07:30 uur vrijgegeven\n\nDe rommelmarkt tijdens de Sinksenkermis in Oosterzele op 24 mei 2026 biedt een volledige dag tweedehands koopjes in combinatie met kermissfeer.
URL:https://marktenmeer.nl/markt/rommelmarkt-sinksenkermis-oosterzele-24-mei-2026/
LOCATION:Oosterzele\, Oosterzele\, Belgium
CATEGORIES:Belgie,Belgie Oost-Vlaanderen,Belgie Rommelmarkt
END:VEVENT
END:VCALENDAR