BEGIN:VCALENDAR
VERSION:2.0
PRODID:-//Markten en meer - ECPv6.15.20//NONSGML v1.0//EN
CALSCALE:GREGORIAN
METHOD:PUBLISH
X-ORIGINAL-URL:https://marktenmeer.nl
X-WR-CALDESC:Evenementen voor Markten en meer
REFRESH-INTERVAL;VALUE=DURATION:PT1H
X-Robots-Tag:noindex
X-PUBLISHED-TTL:PT1H
BEGIN:VTIMEZONE
TZID:Europe/Amsterdam
BEGIN:DAYLIGHT
TZOFFSETFROM:+0100
TZOFFSETTO:+0200
TZNAME:CEST
DTSTART:20250330T010000
END:DAYLIGHT
BEGIN:STANDARD
TZOFFSETFROM:+0200
TZOFFSETTO:+0100
TZNAME:CET
DTSTART:20251026T010000
END:STANDARD
BEGIN:DAYLIGHT
TZOFFSETFROM:+0100
TZOFFSETTO:+0200
TZNAME:CEST
DTSTART:20260329T010000
END:DAYLIGHT
BEGIN:STANDARD
TZOFFSETFROM:+0200
TZOFFSETTO:+0100
TZNAME:CET
DTSTART:20261025T010000
END:STANDARD
BEGIN:DAYLIGHT
TZOFFSETFROM:+0100
TZOFFSETTO:+0200
TZNAME:CEST
DTSTART:20270328T010000
END:DAYLIGHT
BEGIN:STANDARD
TZOFFSETFROM:+0200
TZOFFSETTO:+0100
TZNAME:CET
DTSTART:20271031T010000
END:STANDARD
END:VTIMEZONE
BEGIN:VEVENT
DTSTART;TZID=Europe/Amsterdam:20260405T093000
DTEND;TZID=Europe/Amsterdam:20260405T163000
DTSTAMP:20260422T084153
CREATED:20260401T173444Z
LAST-MODIFIED:20260401T173444Z
UID:24370-1775381400-1775406600@marktenmeer.nl
SUMMARY:Teutenmarkt Lommel (BE) – 5 april 2026
DESCRIPTION:De Teutenmarkt in Lommel is een sfeervolle en laagdrempelige markt waar je rustig kunt rondstruinen tussen unieke vondsten. Deze markt in Lommel vindt plaats op zondag 5 april 2026 en luidt het nieuwe seizoen feestelijk in. Je ontdekt er een gevarieerd aanbod van brocante\, vintage\, tweedehands spullen en lokale producten. Ideaal voor wie houdt van snuisteren\, verzamelen of gewoon een gezellige zondagactiviteit zoekt. \nDe markt heeft een warme\, dorpsgerichte sfeer met kramen vol curiosa\, kleding\, boeken en decoratie. Daarnaast zijn er foodkramen aanwezig en is er extra aandacht voor gezinnen\, met activiteiten voor kinderen. Dit maakt de Teutenmarkt geschikt voor een breed publiek. \nVoor bezoekers\n\nDatum: zondag 5 april 2026\nTijd: 09.30 – 16.30 uur\nLocatie: Dorp 19\, Lommel (BE)\nType markt: snuffelmarkt / braderie\nEntree: gratis\nAanbod: brocante\, antiek\, vintage\, LP’s\, boeken\, juwelen\, kleding en meer\nExtra: foodstands en kinderactiviteiten\n\nDe markt is centraal gelegen en goed bereikbaar. Door de combinatie van kramen en horeca is het een geschikt uitje voor een halve of hele dag. \nVoor standhouders\nStandhouders kunnen deelnemen mits aanvraag en goedkeuring via het stadsbestuur van Lommel. Een geldige machtiging voor ambulante handel is verplicht. \n\nFood toegestaan: ja\nBeschikbaarheid: nog enkele standplaatsen vrij\nDoelgroep: breed publiek\, verzamelaars\, gezinnen en dagjesmensen\n\nDe Teutenmarkt vindt plaats op zondagen van april tot oktober (met uitzonderingen op bepaalde evenementdagen). Organisatie: Els Ruyloft – elsruyloft79@gmail.com | 0469 18 21 73. \nDeze markt biedt een toegankelijke plek om te verkopen of om bijzondere items te ontdekken.
URL:https://marktenmeer.nl/markt/teutenmarkt-lommel-be-5-april-2026/
LOCATION:Lommel (BE)\, Lommel (BE)\, Belgium
CATEGORIES:Belgie,Belgie - Limburg,Belgie Braderie Braderij,Belgie Rommelmarkt
END:VEVENT
END:VCALENDAR