BEGIN:VCALENDAR
VERSION:2.0
PRODID:-//Markten en meer - ECPv6.15.20//NONSGML v1.0//EN
CALSCALE:GREGORIAN
METHOD:PUBLISH
X-ORIGINAL-URL:https://marktenmeer.nl
X-WR-CALDESC:Evenementen voor Markten en meer
REFRESH-INTERVAL;VALUE=DURATION:PT1H
X-Robots-Tag:noindex
X-PUBLISHED-TTL:PT1H
BEGIN:VTIMEZONE
TZID:Europe/Amsterdam
BEGIN:DAYLIGHT
TZOFFSETFROM:+0100
TZOFFSETTO:+0200
TZNAME:CEST
DTSTART:20250330T010000
END:DAYLIGHT
BEGIN:STANDARD
TZOFFSETFROM:+0200
TZOFFSETTO:+0100
TZNAME:CET
DTSTART:20251026T010000
END:STANDARD
BEGIN:DAYLIGHT
TZOFFSETFROM:+0100
TZOFFSETTO:+0200
TZNAME:CEST
DTSTART:20260329T010000
END:DAYLIGHT
BEGIN:STANDARD
TZOFFSETFROM:+0200
TZOFFSETTO:+0100
TZNAME:CET
DTSTART:20261025T010000
END:STANDARD
BEGIN:DAYLIGHT
TZOFFSETFROM:+0100
TZOFFSETTO:+0200
TZNAME:CEST
DTSTART:20270328T010000
END:DAYLIGHT
BEGIN:STANDARD
TZOFFSETFROM:+0200
TZOFFSETTO:+0100
TZNAME:CET
DTSTART:20271031T010000
END:STANDARD
END:VTIMEZONE
BEGIN:VEVENT
DTSTART;VALUE=DATE:20260721
DTEND;VALUE=DATE:20260722
DTSTAMP:20260422T001710
CREATED:20260302T094537Z
LAST-MODIFIED:20260302T094537Z
UID:21036-1784592000-1784678399@marktenmeer.nl
SUMMARY:Kessel-Lo op z’n Best – 21 juli 2026
DESCRIPTION:Op dinsdag 21 juli 2026 vindt Kessel-Lo op z’n Best plaats op het Blauwpuntplein in Kessel-Lo (bij Leuven\, België). Dit evenement combineert liveoptredens\, muziek en een rommelmarkt tot een feestelijke dag voor jong en oud. De activiteit wordt ondersteund door De Mannen van ’57 en richt zich op buurtbewoners en bezoekers uit de regio. \nKessel-Lo op z’n Best staat in het teken van ontmoeting en lokale gezelligheid. Overdag kunnen bezoekers snuisteren op de rommelmarkt\, terwijl het podiumprogramma zorgt voor extra sfeer op het plein. \nVoor bezoekers\n\nType evenement: rommelmarkt en muziekoptredens\nPlaats: Kessel-Lo (België)\nDatum: dinsdag 21 juli 2026\nLocatie: Blauwpuntplein\, Kessel-Lo\n\nOp het podium staan onder meer: \n\nLady V\nDJ Eddy\nKris Aron\nSteven Lambert\nNathalie Geudens\n\nDe combinatie van live muziek en rommelmarkt maakt het evenement geschikt voor gezinnen\, buurtbewoners en liefhebbers van lokale artiesten. \nVoor standhouders (rommelmarkt)\nTijdens Kessel-Lo op z’n Best is er ruimte voor deelnemers aan de rommelmarkt. \n\nInschrijven via: kessello.opznbest21juli@gmail.com\nTelefoon: 0474/69.64.10\n\nDe rommelmarkt biedt particulieren de mogelijkheid om tweedehands spullen te verkopen in een feestelijke omgeving met muziek en publiek. \nKessel-Lo op z’n Best op 21 juli 2026 brengt muziek en rommelmarkt samen op het Blauwpuntplein.
URL:https://marktenmeer.nl/markt/kessel-lo-op-zn-best-21-juli-2026/
LOCATION:Kessel-Lo\, Kessel-Lo\, Belgium
CATEGORIES:Belgie,Belgie Rommelmarkt,Belgie Vlaams-Brabant
END:VEVENT
END:VCALENDAR