BEGIN:VCALENDAR
VERSION:2.0
PRODID:-//Markten en meer - ECPv6.15.20//NONSGML v1.0//EN
CALSCALE:GREGORIAN
METHOD:PUBLISH
X-WR-CALNAME:Markten en meer
X-ORIGINAL-URL:https://marktenmeer.nl
X-WR-CALDESC:Evenementen voor Markten en meer
REFRESH-INTERVAL;VALUE=DURATION:PT1H
X-Robots-Tag:noindex
X-PUBLISHED-TTL:PT1H
BEGIN:VTIMEZONE
TZID:Europe/Amsterdam
BEGIN:DAYLIGHT
TZOFFSETFROM:+0100
TZOFFSETTO:+0200
TZNAME:CEST
DTSTART:20250330T010000
END:DAYLIGHT
BEGIN:STANDARD
TZOFFSETFROM:+0200
TZOFFSETTO:+0100
TZNAME:CET
DTSTART:20251026T010000
END:STANDARD
BEGIN:DAYLIGHT
TZOFFSETFROM:+0100
TZOFFSETTO:+0200
TZNAME:CEST
DTSTART:20260329T010000
END:DAYLIGHT
BEGIN:STANDARD
TZOFFSETFROM:+0200
TZOFFSETTO:+0100
TZNAME:CET
DTSTART:20261025T010000
END:STANDARD
BEGIN:DAYLIGHT
TZOFFSETFROM:+0100
TZOFFSETTO:+0200
TZNAME:CEST
DTSTART:20270328T010000
END:DAYLIGHT
BEGIN:STANDARD
TZOFFSETFROM:+0200
TZOFFSETTO:+0100
TZNAME:CET
DTSTART:20271031T010000
END:STANDARD
END:VTIMEZONE
BEGIN:VEVENT
DTSTART;TZID=Europe/Amsterdam:20260818T100000
DTEND;TZID=Europe/Amsterdam:20260818T170000
DTSTAMP:20260419T185117
CREATED:20260223T081904Z
LAST-MODIFIED:20260329T062912Z
UID:14291-1787047200-1787072400@marktenmeer.nl
SUMMARY:Zomerbries Zierikzee – Zierikzee – 18 augustus 2026
DESCRIPTION:Op dinsdag 18 augustus 2026 organiseert LineUpMarkten opnieuw Zomerbries in het centrum van Zierikzee. Van 10.00 tot 17.00 uur staat het historische centrum in het teken van een zomerse markt met een gevarieerd aanbod. \nZomerbries Zierikzee trekt bezoekers uit de regio en toeristen die het centrum bezoeken. Langs de route staan diverse kramen met onder meer mode\, accessoires\, cadeauartikelen\, ambachtelijke producten en seizoensgebonden items. De zomerse setting en de karakteristieke omgeving zorgen voor een toegankelijke en levendige sfeer. \nVoor bezoekers\nPraktische informatie \n\nType markt: zomermarkt\nPlaats: Zierikzee\nDatum: dinsdag 18 augustus 2026\nTijd: 10.00 – 17.00 uur\nLocatie: centrum van Zierikzee\nEntree: gratis\nFood aanwezig: ja\n\nDe markt is geschikt voor een breed publiek en goed te combineren met een bezoek aan het centrum of de haven. \nVoor standhouders\nDe organisatie is in handen van LineUpMarkten en richt zich op een gevarieerd aanbod passend bij het zomerse karakter van de markt. \nDeelnamemogelijkheden \n\nFood toegestaan: ja (in overleg)\nDoelgroep: bezoekers uit Zierikzee en omgeving\n\nDeelname is afhankelijk van beschikbaarheid en bevestiging door de organisatie. Voor actuele voorwaarden en inschrijving is het raadzaam contact op te nemen met LineUpMarkten.
URL:https://marktenmeer.nl/markt/zomerbries-zierikzee-18-augustus-2026/
LOCATION:Zierikzee\, Zierikzee\, Netherlands
CATEGORIES:Braderie Zeeland,Braderieën,Zeeland
END:VEVENT
BEGIN:VEVENT
DTSTART;TZID=Europe/Amsterdam:20260819T160000
DTEND;TZID=Europe/Amsterdam:20260819T220000
DTSTAMP:20260419T185117
CREATED:20251122T110129Z
LAST-MODIFIED:20260329T062912Z
UID:15418-1787155200-1787176800@marktenmeer.nl
SUMMARY:Avondmarkt Ouddorp – 19 augustus 2026 – Zomerse avondbraderie
DESCRIPTION:Op woensdag 19 augustus 2026 sluit Ouddorp het zomerseizoen af met een sfeervolle Avondmarkt. Deze speciale editie loopt van 16.00 tot 22.00 uur en is populair bij zowel toeristen als bewoners. Met 120 kramen\, entertainment\, food en een zomerse setting is dit één van de gezelligste avondmarkten van de regio. \nDe markt slingert door het centrum\, langs o.a. de Stationsweg\, Hofdijksweg\, Raadhuisstraat\, Weststraat\, Ring-Weststraat\, Hoenderdijk\, De Boompjes\, Molenblok\, Dorpstienden en het centrale plein. Door de lange route en grote variatie aan kraamaanbod kun je hier urenlang heerlijk rondstruinen. \nOp het plein vinden bezoekers een sfeervolle hoek met ongeveer 15 oude ambachten\, die live demonstraties geven. Verder zijn er kinderattracties zoals een bungeetrampoline en minicars\, en natuurlijk volop food: van braadworst en hamburgers tot loempia’s en zoete lekkernijen. \nDe organisatie gaat voor een tropische sfeer met zomermuziek\, eenmansartiesten en een levendige vakantievibe. De gezellige terrassen langs de route maken het extra aantrekkelijk om de avond in Ouddorp door te brengen. \nDe Avondmarkt valt midden in het hoogseizoen\, waardoor het altijd druk en gezellig is — een echte aanrader voor een zomerse avond uit. \nDatum: woensdag 19 augustus 2026Tijd: 16.00 – 22.00 uurLocatie: Centrum Ouddorp – diverse straten & plein
URL:https://marktenmeer.nl/markt/avondmarkt-ouddorp-19-augustus-2026/
LOCATION:Ouddorp\, Ouddorp\, Netherlands
CATEGORIES:Braderie Zeeland,Braderieën,Zeeland
END:VEVENT
BEGIN:VEVENT
DTSTART;TZID=Europe/Amsterdam:20260821T140000
DTEND;TZID=Europe/Amsterdam:20260821T220000
DTSTAMP:20260419T185117
CREATED:20251119T095035Z
LAST-MODIFIED:20260329T062912Z
UID:15094-1787320800-1787349600@marktenmeer.nl
SUMMARY:Breskens – Avondmarkt Spuiplein – 21 augustus 2026
DESCRIPTION:Op vrijdag 21 augustus wordt de Avondmarkt op het Spuiplein in Breskens georganiseerd. Door de combinatie van zomervakantie\, kusttoerisme en de lange openingstijd van 14.00 tot 22.00 uur is deze markt altijd zeer druk bezocht. \nDe sfeer is warm en zomers: verlichting\, feestelijke horeca\, terrassen en muziek zorgen voor een gezellige avond. De kramen bieden mode\, sieraden\, tassen\, woondecoratie\, ambacht\, visproducten\, lekkernijen en creatief werk. \nEen sterke markt voor handelaren die graag in de avonduren verkopen.
URL:https://marktenmeer.nl/markt/breskens-avondmarkt-spuiplein-21-augustus-2026/
LOCATION:Breskens\, Breskens\, Netherlands
CATEGORIES:Braderie Zeeland,Braderieën,Zeeland
END:VEVENT
BEGIN:VEVENT
DTSTART;TZID=Europe/Amsterdam:20260829T090000
DTEND;TZID=Europe/Amsterdam:20260829T180000
DTSTAMP:20260419T185117
CREATED:20251119T095334Z
LAST-MODIFIED:20260329T062912Z
UID:15099-1787994000-1788026400@marktenmeer.nl
SUMMARY:Tholen – Jaarmarkt Dag 2 – Zaterdag 29 augustus
DESCRIPTION:Op zaterdag 29 augustus volgt de tweede dag van de Thoolse jaarmarkt. Deze dag is traditioneel de drukste doordat bezoekers van het eiland en toeristen massaal langskomen. \nDe markt opent al om 09.00 uur en eindigt om 18.00 uur.
URL:https://marktenmeer.nl/markt/tholen-jaarmarkt-dag-2-zaterdag-29-augustus/
LOCATION:Tholen\, Tholen\, Netherlands
CATEGORIES:Braderie Zeeland,Braderieën,Jaarmarkten,Jaarmarkten Zeeland,Zeeland
END:VEVENT
BEGIN:VEVENT
DTSTART;TZID=Europe/Amsterdam:20260905T100000
DTEND;TZID=Europe/Amsterdam:20260905T170000
DTSTAMP:20260419T185117
CREATED:20251119T095651Z
LAST-MODIFIED:20260329T062911Z
UID:15104-1788602400-1788627600@marktenmeer.nl
SUMMARY:Kruiningen – Centrumbraderie – 5 september 2026
DESCRIPTION:Op zaterdag 5 september vindt de centrumbraderie van Kruiningen plaats. Deze markt trekt bezoekers uit de omliggende dorpen en biedt een mix van handel\, ambacht en seizoensartikelen. Het dorpse karakter en de centrale opstelling zorgen voor een prettige doorloop\, waardoor bezoekers alle tijd nemen om langs de kramen te wandelen. \nStandhouders vinden hier een toegankelijk publiek dat graag rondkijkt bij mode\, sieraden\, woondecoratie\, streekproducten\, decoratie en creatieve artikelen. De horeca en winkels in het centrum zorgen voor extra levendigheid.De braderie is geopend van 10.00 tot 17.00 uur.
URL:https://marktenmeer.nl/markt/kruiningen-centrumbraderie-5-september-2026/
LOCATION:Kruiningen\, Kruiningen\, Netherlands
CATEGORIES:Braderie Zeeland,Braderieën,Zeeland
END:VEVENT
BEGIN:VEVENT
DTSTART;TZID=Europe/Amsterdam:20260912T100000
DTEND;TZID=Europe/Amsterdam:20260912T160000
DTSTAMP:20260419T185117
CREATED:20251119T095938Z
LAST-MODIFIED:20260329T062911Z
UID:15110-1789207200-1789228800@marktenmeer.nl
SUMMARY:Oost-Souburg – Karolingenmarkt – 12 september 2026
DESCRIPTION:Op zaterdag 12 september vindt in Oost-Souburg de Karolingenmarkt plaats. Deze markt is een jaarlijks terugkerend evenement en trekt veel bezoekers uit Walcheren. Het aanbod is breed: mode\, sieraden\, creatief werk\, streekproducten\, huishoudelijke artikelen en seizoenswaar. \nDankzij de compacte opstelling en de centrale ligging is er een goede doorloop. De markt is ideaal voor standhouders die graag op regionale evenementen staan met een trouw publiek.De markt loopt van 10.00 tot 16.00 uur.
URL:https://marktenmeer.nl/markt/oost-souburg-karolingenmarkt-12-september-2026/
LOCATION:Oost-Souburg\, Oost-Souburg\, Netherlands
CATEGORIES:Braderie Zeeland,Braderieën,Zeeland
END:VEVENT
BEGIN:VEVENT
DTSTART;TZID=Europe/Amsterdam:20260913T100000
DTEND;TZID=Europe/Amsterdam:20260913T160000
DTSTAMP:20260419T185117
CREATED:20260315T121356Z
LAST-MODIFIED:20260329T062911Z
UID:22701-1789293600-1789315200@marktenmeer.nl
SUMMARY:Braderie Sluiskil – 13 september 2026
DESCRIPTION:Op zondag 13 september 2026 vindt de Braderie in Sluiskil plaats van 10:00 tot 16:00 uur op het Minister Lelyplein. Tijdens deze gezellige braderie staan diverse kramen met nieuwe producten\, accessoires en leuke koopjes. \nDe braderie trekt bezoekers uit Sluiskil en de omgeving. Je kunt er rustig rondlopen langs de kraampjes\, genieten van de gezellige sfeer en verschillende producten ontdekken. \nVoor bezoekers\nPraktische informatie: \n\nNaam evenement: Braderie Sluiskil\nPlaats: Sluiskil\nDatum: zondag 13 september 2026\nTijd: 10:00 – 16:00 uur\nLocatie: Minister Lelyplein\, Sluiskil\nType evenement: braderie\n\nVoor standhouders\nStandhouders kunnen deelnemen met een kraam of grondplaats. \nKramen \n\n\n1 kraam: €75 incl. btw \n\n\nGrondplaatsen \n\n\n€15 excl. btw per meter \n\n\nReserveren en informatie\nWebsite: www.vd-organisatie.nlE-mail: info@vd-organisatie.nlWhatsApp / telefoon: 0345-234733
URL:https://marktenmeer.nl/markt/braderie-sluiskil-13-september-2026/
LOCATION:Sluiskil
CATEGORIES:Braderie Zeeland,Braderieën,Zeeland
END:VEVENT
BEGIN:VEVENT
DTSTART;TZID=Europe/Amsterdam:20260913T100000
DTEND;TZID=Europe/Amsterdam:20260913T170000
DTSTAMP:20260419T185117
CREATED:20251119T100056Z
LAST-MODIFIED:20260329T062911Z
UID:15112-1789293600-1789318800@marktenmeer.nl
SUMMARY:Breskens – Markt Spuiplein – Zondag 13 september
DESCRIPTION:Op zondag 13 september vindt op het Spuiplein in Breskens een markt plaats. De kustlocatie en de nazomerse sfeer trekken veel toeristen en bewoners. Het aanbod varieert van mode en sieraden tot creatieve artikelen en food.Geopend van 10.00 tot 17.00 uur.
URL:https://marktenmeer.nl/markt/breskens-markt-spuiplein-zondag-13-september/
LOCATION:Breskens\, Breskens\, Netherlands
CATEGORIES:Braderie Zeeland,Braderieën,Zeeland
END:VEVENT
BEGIN:VEVENT
DTSTART;TZID=Europe/Amsterdam:20260920T130000
DTEND;TZID=Europe/Amsterdam:20260920T180000
DTSTAMP:20260419T185117
CREATED:20260223T094120Z
LAST-MODIFIED:20260329T062911Z
UID:20037-1789909200-1789927200@marktenmeer.nl
SUMMARY:Herfstmarkt Renesse – Renesse – 20 september 2026
DESCRIPTION:Op zondag 20 september 2026 organiseert LineUpMarkten de Herfstmarkt Renesse. Van 13.00 tot 18.00 uur staat het centrum van Renesse in het teken van een sfeervolle najaarsmarkt met een gevarieerd aanbod en aandacht voor beleving. De markt richt zich op zowel bezoekers als toeristen die in deze periode aan de Zeeuwse kust verblijven. \nDe herfstmarkt in Renesse biedt ruimte aan uiteenlopende standhouders. Bezoekers kunnen rondstruinen langs kramen met mode\, accessoires\, cadeauartikelen\, ambachtelijke producten en seizoensgebonden items. Door de combinatie van markt en recreatieve omgeving ontstaat een toegankelijke en levendige sfeer. \nVoor bezoekers\nPraktische informatie \n\nType markt: herfstmarkt\nPlaats: Renesse\nDatum: zondag 20 september 2026\nTijd: 13.00 – 18.00 uur\nLocatie: centrum van Renesse\nEntree: gratis\nFood aanwezig: ja\n\nDe markt is goed te combineren met een middag in het centrum of een bezoek aan de kust. Het evenement is geschikt voor een breed publiek. \nVoor standhouders\nDe organisatie is in handen van LineUpMarkten\, dat inzet op sfeer\, goede indeling en een gevarieerd aanbod. \nDeelnamemogelijkheden \n\nKraamprijs: € 85\,- excl. btw\nFood toegestaan: ja (in overleg)\nDoelgroep: toeristen en bezoekers uit Renesse en omgeving\n\nEr wordt gestreefd naar variatie in het aanbod. Deelname is definitief na bevestiging door de organisatie. Voor actuele voorwaarden en beschikbaarheid is het raadzaam rechtstreeks contact op te nemen met LineUpMarkten.
URL:https://marktenmeer.nl/markt/herfstmarkt-renesse-20-september-2026/
LOCATION:Renesse\, Renesse\, Netherlands
CATEGORIES:Braderie Zeeland,Braderieën,Zeeland
END:VEVENT
BEGIN:VEVENT
DTSTART;TZID=Europe/Amsterdam:20260926T100000
DTEND;TZID=Europe/Amsterdam:20260926T170000
DTSTAMP:20260419T185117
CREATED:20260416T090300Z
LAST-MODIFIED:20260416T090300Z
UID:25729-1790416800-1790442000@marktenmeer.nl
SUMMARY:Braderie Vrouwenpolder Mosselfeest – Vrouwenpolder (Veere) – 26 september 2026
DESCRIPTION:Op zaterdag 26 september 2026 vindt de braderie tijdens het Mosselfeest in Vrouwenpolder plaats\, gelegen in de gemeente Veere. Deze braderie in Vrouwenpolder maakt deel uit van een evenement dat in het teken staat van sfeer\, gezelligheid en lokale specialiteiten. Bezoekers kunnen rekenen op een levendige markt waar handel en culinair aanbod samenkomen. De combinatie van een braderie met het Mosselfeest zorgt voor een aantrekkelijke dag uit in een toeristische omgeving dichtbij de Zeeuwse kust. \nDe markt heeft een gemoedelijke en uitnodigende sfeer\, met een gevarieerd aanbod aan kramen. Je vindt er onder andere kleding\, accessoires\, woonartikelen en ambachtelijke producten. Daarnaast speelt het thema van het evenement een rol\, met foodstands en horeca die aansluiten bij het mosselfeest. Dit zorgt voor extra beleving en trekt een breed publiek van zowel toeristen als lokale bezoekers. \nVoor bezoekers\n\nDatum: zaterdag 26 september 2026\nTijd: 10:00 – 17:00\nPlaats: Vrouwenpolder (gemeente Veere)\nType markt: braderie (onderdeel van Mosselfeest)\nKenmerk: combinatie van markt en culinair evenement\nAanbod: diverse kramen met handel\, ambacht en food\n\nVoor standhouders\nDe braderie tijdens het Mosselfeest biedt standhouders de kans om te verkopen aan een gevarieerd en vaak toeristisch publiek. De combinatie met een thematisch evenement zorgt voor extra bezoekers en een langere verblijfsduur. \n\nKraamprijs: € 62\,50 excl. 21% btw\nGrondplaats: € 11\,50 per meter (0% btw)\nKraamgrootte: standaard marktkraam\n\nStandhouders profiteren van een evenement met een duidelijke aantrekkingskracht\, waarbij sfeer en beleving bijdragen aan de verkoopkansen. \nDe braderie in Vrouwenpolder tijdens het Mosselfeest is een toegankelijke markt met een combinatie van handel en culinair aanbod.
URL:https://marktenmeer.nl/markt/braderie-vrouwenpolder-mosselfeest-2026/
LOCATION:Vrouwenpolder\, Vrouwenpolder\, Netherlands
CATEGORIES:Braderie Zeeland,Braderieën,Zeeland
END:VEVENT
BEGIN:VEVENT
DTSTART;TZID=Europe/Amsterdam:20261004T130000
DTEND;TZID=Europe/Amsterdam:20261004T180000
DTSTAMP:20260419T185117
CREATED:20260223T094820Z
LAST-MODIFIED:20260329T062911Z
UID:20041-1791118800-1791136800@marktenmeer.nl
SUMMARY:Najaarsmarkt Renesse – Renesse – 4 oktober 2026
DESCRIPTION:Op zondag 4 oktober 2026 organiseert LineUpMarkten de Najaarsmarkt Renesse. Van 13.00 tot 18.00 uur staat het centrum van Renesse in het teken van een sfeervolle markt met een gevarieerd aanbod voor bezoekers en toeristen aan de Zeeuwse kust. \nDe najaarsmarkt in Renesse biedt ruimte aan uiteenlopende standhouders met onder meer mode\, accessoires\, cadeauartikelen\, ambachtelijke producten en seizoensgebonden items. Door de combinatie van markt en recreatieve omgeving ontstaat een toegankelijke en ontspannen sfeer. \nVoor bezoekers\nPraktische informatie \n\nType markt: najaarsmarkt\nPlaats: Renesse\nDatum: zondag 4 oktober 2026\nTijd: 13.00 – 18.00 uur\nLocatie: centrum van Renesse\nEntree: gratis\nFood aanwezig: ja\n\nDe markt is goed te combineren met een middag in het centrum of een bezoek aan strand en horeca. \nVoor standhouders\nDe organisatie is in handen van LineUpMarkten\, dat inzet op een gevarieerd aanbod en een goede indeling van de kramen. \nDeelnamemogelijkheden \n\nKraamprijs: € 85\,- excl. btw\nDoelgroep: toeristen en bezoekers uit Renesse en omgeving\n\nDeelname is definitief na bevestiging door de organisatie en ontvangst van betaling. Voor actuele voorwaarden en beschikbaarheid is het raadzaam contact op te nemen met LineUpMarkten.
URL:https://marktenmeer.nl/markt/najaarsmarkt-renesse-4-oktober-2026/
LOCATION:Renesse\, Renesse\, Netherlands
CATEGORIES:Braderie Zeeland,Braderieën,Zeeland
END:VEVENT
BEGIN:VEVENT
DTSTART;TZID=Europe/Amsterdam:20261020T100000
DTEND;TZID=Europe/Amsterdam:20261020T170000
DTSTAMP:20260419T185117
CREATED:20260120T102709Z
LAST-MODIFIED:20260329T062911Z
UID:18612-1792490400-1792515600@marktenmeer.nl
SUMMARY:Herfstmarkt Zoutelande – dinsdag 20 oktober 2026
DESCRIPTION:De Herfstmarkt in Zoutelande vindt plaats op dinsdag 20 oktober 2026 en brengt ook in het najaar leven in dit populaire kustdorp. Zoutelande blijft in oktober aantrekkelijk voor dagjesmensen en toeristen die de rust van het naseizoen waarderen. \nBezoekers wandelen langs de kramen tijdens een strandbezoek of een rondje door het dorp. Het aanbod is afgestemd op het seizoen en bestaat uit mode\, accessoires\, woonartikelen en cadeaus. De markt heeft een rustige en overzichtelijke opzet. \nVoor standhouders is deze herfstmarkt geschikt voor zichtbaarheid in een toeristische omgeving\, met een gelijkmatige bezoekersstroom gedurende de dag. \nPraktische informatie\n\nDatum: dinsdag 20 oktober 2026\nTijd: 10.00 – 17.00 uur\nPlaats: Zoutelande\nKraamhuur: € 72\,50 excl. 21% btw\nGrondplaats: € 16\,00 per meter\, excl. 21% btw
URL:https://marktenmeer.nl/markt/herfstmarkt-zoutelande-20-oktober-2026/
LOCATION:Zoutelande\, Zoutelande\, Netherlands
CATEGORIES:Braderie Zeeland,Braderieën,Zeeland
END:VEVENT
BEGIN:VEVENT
DTSTART;TZID=Europe/Amsterdam:20261031T100000
DTEND;TZID=Europe/Amsterdam:20261031T170000
DTSTAMP:20260419T185117
CREATED:20260223T095026Z
LAST-MODIFIED:20260329T062911Z
UID:20043-1793440800-1793466000@marktenmeer.nl
SUMMARY:Halloweenmarkt Renesse – Renesse – 31 oktober 2026
DESCRIPTION:Op zaterdag 31 oktober 2026 organiseert LineUpMarkten de Halloweenmarkt Renesse. Van 10.00 tot 17.00 uur staat het centrum van Renesse in het teken van een themamarkt met een najaars- en Halloweenkarakter. Bezoekers kunnen rekenen op een markt met een eigen sfeer\, passend bij het seizoen. \nDe Halloweenmarkt in Renesse biedt ruimte aan standhouders met uiteenlopende producten\, zoals mode\, accessoires\, decoratie\, cadeauartikelen en seizoensgebonden items. Afhankelijk van de invulling kan het aanbod aansluiten bij het Halloween-thema\, maar ook reguliere marktkramen zijn mogelijk binnen het concept. \nVoor bezoekers\nPraktische informatie \n\nType markt: themamarkt / Halloweenmarkt\nPlaats: Renesse\nDatum: zaterdag 31 oktober 2026\nTijd: 10.00 – 17.00 uur\nLocatie: centrum van Renesse\nEntree: gratis\nFood aanwezig: ja\n\nDe markt is geschikt voor een breed publiek en goed te combineren met een dag in het centrum of aan de Zeeuwse kust. \nVoor standhouders\nDe organisatie is in handen van LineUpMarkten\, dat inzet op variatie en een passende indeling van de markt. \nDeelnamemogelijkheden \n\nKraamprijs: € 85\,- excl. btw\nFood toegestaan: ja (in overleg)\nDoelgroep: toeristen en bezoekers uit Renesse en omgeving\n\nEr wordt gestreefd naar een gevarieerd aanbod dat aansluit bij het thema en de locatie. Voor actuele voorwaarden en beschikbaarheid is het raadzaam contact op te nemen met LineUpMarkten.
URL:https://marktenmeer.nl/markt/halloweenmarkt-renesse-31-oktober-2026/
LOCATION:Renesse\, Renesse\, Netherlands
CATEGORIES:Braderie Zeeland,Braderieën,Zeeland
END:VEVENT
END:VCALENDAR