BEGIN:VCALENDAR
VERSION:2.0
PRODID:-//Markten en meer - ECPv6.15.20//NONSGML v1.0//EN
CALSCALE:GREGORIAN
METHOD:PUBLISH
X-ORIGINAL-URL:https://marktenmeer.nl
X-WR-CALDESC:Evenementen voor Markten en meer
REFRESH-INTERVAL;VALUE=DURATION:PT1H
X-Robots-Tag:noindex
X-PUBLISHED-TTL:PT1H
BEGIN:VTIMEZONE
TZID:Europe/Amsterdam
BEGIN:DAYLIGHT
TZOFFSETFROM:+0100
TZOFFSETTO:+0200
TZNAME:CEST
DTSTART:20250330T010000
END:DAYLIGHT
BEGIN:STANDARD
TZOFFSETFROM:+0200
TZOFFSETTO:+0100
TZNAME:CET
DTSTART:20251026T010000
END:STANDARD
BEGIN:DAYLIGHT
TZOFFSETFROM:+0100
TZOFFSETTO:+0200
TZNAME:CEST
DTSTART:20260329T010000
END:DAYLIGHT
BEGIN:STANDARD
TZOFFSETFROM:+0200
TZOFFSETTO:+0100
TZNAME:CET
DTSTART:20261025T010000
END:STANDARD
BEGIN:DAYLIGHT
TZOFFSETFROM:+0100
TZOFFSETTO:+0200
TZNAME:CEST
DTSTART:20270328T010000
END:DAYLIGHT
BEGIN:STANDARD
TZOFFSETFROM:+0200
TZOFFSETTO:+0100
TZNAME:CET
DTSTART:20271031T010000
END:STANDARD
END:VTIMEZONE
BEGIN:VEVENT
DTSTART;TZID=Europe/Amsterdam:20260909T090000
DTEND;TZID=Europe/Amsterdam:20260909T170000
DTSTAMP:20260425T154201
CREATED:20260304T110016Z
LAST-MODIFIED:20260329T061324Z
UID:21335-1788944400-1788973200@marktenmeer.nl
SUMMARY:Curiosa Fair Landgoed Beeckestein – Velsen-Zuid – 6 september 2026
DESCRIPTION:Op zondag 6 september 2026 vindt de Curiosa Fair op Landgoed Beeckestein plaats in Velsen-Zuid. Deze curiosa-\, antiek- en brocantemarkt wordt georganiseerd op het historische landgoed en biedt een sfeervolle omgeving voor een markt met bijzondere vondsten. Tussen de groene lanen en het landgoeddecor presenteren handelaren en verzamelaars een breed aanbod aan antiek\, vintage en curiosa. \nDe fair staat bekend om het gevarieerde aanbod en de karakteristieke locatie. Bezoekers kunnen rustig langs de kramen wandelen en op zoek gaan naar decoratieve brocante\, antieke objecten en verzamelitems. Het landgoed vormt een passende achtergrond voor een markt waar nostalgie en historische voorwerpen centraal staan. Door de combinatie van markt en natuur is het evenement aantrekkelijk voor zowel liefhebbers van antiek als bezoekers die een dagje uit willen plannen. \nVoor bezoekers\nDe Curiosa Fair op Landgoed Beeckestein is vrij toegankelijk en vindt plaats op het terrein van het landgoed in Velsen-Zuid. \nPraktische informatie \n\nDatum: zondag 6 september 2026\nTijd: 09:00 – 16:30 uur\nLocatie: Landgoed Beeckestein\nAdres: Rijksweg 130\nPostcode: 1981 LD\nPlaats: Velsen-Zuid\nType markt: curiosa-\, antiek- en brocantefair\nEntree: gratis\nParkeren: €5\nBezoekers kunnen er onder andere antiek\, brocante woondecoratie\, vintage objecten en diverse verzamelartikelen vinden. De markt vindt plaats in de groene omgeving van het landgoed\, wat zorgt voor een rustige en ruime opzet.\n\nVoor standhouders\nDe Curiosa Fair Landgoed Beeckestein biedt ruimte aan standhouders met een aanbod in antiek\, brocante\, vintage en curiosa. Door de locatie op een bekend landgoed trekt de fair een breed publiek uit Noord-Holland en omliggende regio’s. \nKraaminformatie \n\nKraamtype: marktkraam met bovenbouw en zeil\nKraamprijs: €75\nInbrengtijd: 07:00 – 08:15 uur\nOpening markt: 09:00 – 16:30 uur\nLocatie: Landgoed Beeckestein\, Velsen-Zuid\nType markt: buitenmarkt\nBeschikbaarheid kramen: wachtlijst\n\nDe fair biedt standhouders een marktlocatie op een historisch landgoed met een publiek dat gericht komt kijken naar antiek en bijzondere objecten. \nEen bezoek aan de Curiosa Fair op Landgoed Beeckestein combineert een markt met antiek en brocante met een karakteristieke buitenlocatie.
URL:https://marktenmeer.nl/markt/curiosa-fair-landgoed-beeckestein-6-september-2026/
LOCATION:Landgoed Beeckestein\, Velsen-Zuid\, Rijksweg 130\, Velsen-Zuid\, Netherlands
CATEGORIES:Antiek- en curiosamarkten,Brocantemarkten,Brocantemarkten Noord-Holland,Noord-Holland,Vintage,Vintage Noord-Holland
END:VEVENT
BEGIN:VEVENT
DTSTART;TZID=Europe/Amsterdam:20260913T090000
DTEND;TZID=Europe/Amsterdam:20260913T163000
DTSTAMP:20260425T154201
CREATED:20260304T110518Z
LAST-MODIFIED:20260329T061324Z
UID:21340-1789290000-1789317000@marktenmeer.nl
SUMMARY:Curiosa Hilversum Zonnestraal – Hilversum – 13 september 2026
DESCRIPTION:Op zondag 13 september 2026 vindt op Landgoed Zonnestraal in Hilversum de Curiosa Hilversum Zonnestraal markt plaats. Deze curiosa-\, brocante- en vintagemarkt wordt georganiseerd op het groene landgoed en biedt een sfeervolle locatie voor een markt met antiek en bijzondere vondsten. Handelaren en verzamelaars presenteren hier een gevarieerd aanbod aan nostalgische en tweedehands artikelen. \nMet ongeveer 125 kramen biedt deze markt een uitgebreid aanbod van vintage spullen\, brocante woondecoratie en curiosa. Bezoekers kunnen langs de kramen struinen en uiteenlopende voorwerpen ontdekken: van decoratieve items en verzamelobjecten tot praktische tweedehands artikelen. Door de ligging op Landgoed Zonnestraal ontstaat een rustige en ruime marktsetting die goed past bij een ontspannen dagje uit. \nVoor bezoekers\nDe Curiosa Hilversum Zonnestraal markt is vrij toegankelijk en vindt plaats op het terrein van Landgoed Zonnestraal. \nPraktische informatie \n\nDatum: zondag 13 september 2026\nTijd: 09:00 – 16:30 uur\nLocatie: Landgoed Zonnestraal\nAdres: Loosdrechtse Bos 17\nPostcode: 1213 RH\nPlaats: Hilversum\nType markt: curiosa-\, brocante- en vintagemarkt\nEntree: gratis\nParkeren: €5 per dag\nAantal kramen: circa 125\n\nBezoekers kunnen er onder andere vintage woondecoratie\, brocante\, curiosa en verschillende verzamelobjecten vinden. De markt biedt een breed aanbod aan items uit verschillende periodes\, waardoor liefhebbers van oude spullen en nostalgische voorwerpen hier vaak interessante vondsten doen. \nVoor standhouders\nDe Curiosa Hilversum Zonnestraal markt biedt ruimte aan standhouders met antiek\, vintage\, brocante en curiosa. Door de locatie op een bekend landgoed trekt het evenement bezoekers uit Hilversum en de omliggende regio. \nKraaminformatie \n\nKraamtype: marktkraam met bovenbouw en zeil\nKraamprijs: €70\nInbrengtijd: 07:00 – 08:15 uur\nOpening markt: 09:00 – 16:30 uur\nLocatie: Landgoed Zonnestraal\, Hilversum\nAantal kramen: circa 125\nType markt: buitenmarkt\n\nDe markt biedt standhouders een locatie op een groen landgoed met een publiek dat geïnteresseerd is in vintage\, brocante en curiosa. \nEen bezoek aan Curiosa Hilversum Zonnestraal combineert een markt met antiek en vintage met een bijzondere buitenlocatie.
URL:https://marktenmeer.nl/markt/curiosa-hilversum-zonnestraal-13-september-2026/
LOCATION:Landgoed Zonnestraal\, Hilversum\, Loosdrechtse Bos 17\, Hilversum\, Netherlands
CATEGORIES:Antiek- en curiosamarkten,Brocantemarkten,Brocantemarkten Noord-Holland,Noord-Holland,Vintage,Vintage Noord-Holland
END:VEVENT
END:VCALENDAR