BEGIN:VCALENDAR
VERSION:2.0
PRODID:-//Markten en meer - ECPv6.15.20//NONSGML v1.0//EN
CALSCALE:GREGORIAN
METHOD:PUBLISH
X-ORIGINAL-URL:https://marktenmeer.nl
X-WR-CALDESC:Evenementen voor Markten en meer
REFRESH-INTERVAL;VALUE=DURATION:PT1H
X-Robots-Tag:noindex
X-PUBLISHED-TTL:PT1H
BEGIN:VTIMEZONE
TZID:Europe/Amsterdam
BEGIN:DAYLIGHT
TZOFFSETFROM:+0100
TZOFFSETTO:+0200
TZNAME:CEST
DTSTART:20250330T010000
END:DAYLIGHT
BEGIN:STANDARD
TZOFFSETFROM:+0200
TZOFFSETTO:+0100
TZNAME:CET
DTSTART:20251026T010000
END:STANDARD
BEGIN:DAYLIGHT
TZOFFSETFROM:+0100
TZOFFSETTO:+0200
TZNAME:CEST
DTSTART:20260329T010000
END:DAYLIGHT
BEGIN:STANDARD
TZOFFSETFROM:+0200
TZOFFSETTO:+0100
TZNAME:CET
DTSTART:20261025T010000
END:STANDARD
BEGIN:DAYLIGHT
TZOFFSETFROM:+0100
TZOFFSETTO:+0200
TZNAME:CEST
DTSTART:20270328T010000
END:DAYLIGHT
BEGIN:STANDARD
TZOFFSETFROM:+0200
TZOFFSETTO:+0100
TZNAME:CET
DTSTART:20271031T010000
END:STANDARD
END:VTIMEZONE
BEGIN:VEVENT
DTSTART;TZID=Europe/Amsterdam:20260808T120000
DTEND;TZID=Europe/Amsterdam:20260808T170000
DTSTAMP:20260424T121809
CREATED:20260414T083418Z
LAST-MODIFIED:20260414T083418Z
UID:25622-1786190400-1786208400@marktenmeer.nl
SUMMARY:Ibiza Market Domburg – 8 augustus 2026
DESCRIPTION:De Ibiza Market in Domburg vindt plaats op zaterdag 8 augustus 2026 en biedt een toegankelijke markt aan de Zeeuwse kust. Deze Ibiza markt in Domburg is geschikt voor bezoekers die willen rondkijken tussen stands met mode\, accessoires en lifestyleproducten. Je vindt hier een mix van creatieve ondernemers en kleine merken\, met aandacht voor presentatie en uitstraling. Door de ligging vlak bij het strand is het eenvoudig om een bezoek aan de markt te combineren met een dag buiten. \nDe sfeer is ontspannen en overzichtelijk. Geen drukke braderie\, maar een markt waar je rustig langs de stands loopt en nieuwe items ontdekt. De combinatie van zee\, ruimte en een verzorgde opzet maakt het prettig om rond te kijken en even te blijven hangen. \nVoor bezoekers\n\nDatum: 8 augustus 2026\nTijd: vanaf 12:00 uur\nLocatie: Domburg\nType markt: Ibiza markt / lifestyle markt\nAanbod: mode\, accessoires\, lifestyle en creatieve producten\n\nVoor standhouders\nDe Ibiza Market richt zich op ondernemers en makers met een aanbod dat past binnen de Ibiza-stijl. De nadruk ligt op uitstraling en samenhang. \n\nKraam (4 meter): €110\,-\nHuurtent (3×3 meter): €110\,-\nGrondplaats: €27\,50 per meter (minimaal 4 meter)\nStroom: €15\,- per kW\nOpzet: standplaatsen worden toegewezen\n\nBelangrijk: \n\nStand aankleden in stijl\nOp- en afbouwinformatie volgt vooraf\nZelf verantwoordelijk voor materialen en weersomstandigheden\nAlleen deelname vanaf 18 jaar\n\nDeze markt is een praktische keuze voor wie een zomerse lifestyle markt in Domburg wil bezoeken.
URL:https://marktenmeer.nl/markt/ibiza-market-domburg-8-augustus-2026/
LOCATION:Domburg\, Domburg\, Netherlands
CATEGORIES:Ibizamarkt,Ibizamarkt Zeeland,Zeeland
END:VEVENT
END:VCALENDAR