BEGIN:VCALENDAR
VERSION:2.0
PRODID:-//Markten en meer - ECPv6.15.20//NONSGML v1.0//EN
CALSCALE:GREGORIAN
METHOD:PUBLISH
X-ORIGINAL-URL:https://marktenmeer.nl
X-WR-CALDESC:Evenementen voor Markten en meer
REFRESH-INTERVAL;VALUE=DURATION:PT1H
X-Robots-Tag:noindex
X-PUBLISHED-TTL:PT1H
BEGIN:VTIMEZONE
TZID:Europe/Amsterdam
BEGIN:DAYLIGHT
TZOFFSETFROM:+0100
TZOFFSETTO:+0200
TZNAME:CEST
DTSTART:20250330T010000
END:DAYLIGHT
BEGIN:STANDARD
TZOFFSETFROM:+0200
TZOFFSETTO:+0100
TZNAME:CET
DTSTART:20251026T010000
END:STANDARD
BEGIN:DAYLIGHT
TZOFFSETFROM:+0100
TZOFFSETTO:+0200
TZNAME:CEST
DTSTART:20260329T010000
END:DAYLIGHT
BEGIN:STANDARD
TZOFFSETFROM:+0200
TZOFFSETTO:+0100
TZNAME:CET
DTSTART:20261025T010000
END:STANDARD
BEGIN:DAYLIGHT
TZOFFSETFROM:+0100
TZOFFSETTO:+0200
TZNAME:CEST
DTSTART:20270328T010000
END:DAYLIGHT
BEGIN:STANDARD
TZOFFSETFROM:+0200
TZOFFSETTO:+0100
TZNAME:CET
DTSTART:20271031T010000
END:STANDARD
END:VTIMEZONE
BEGIN:VEVENT
DTSTART;VALUE=DATE:20260813
DTEND;VALUE=DATE:20260814
DTSTAMP:20260424T152532
CREATED:20260306T074931Z
LAST-MODIFIED:20260329T062926Z
UID:21585-1786579200-1786665599@marktenmeer.nl
SUMMARY:Hippie Beach Day on Tour Ouddorp – 13 augustus 2026
DESCRIPTION:Op donderdag 13 augustus 2026 vindt opnieuw de Hippie Beach Day on Tour plaats bij Ouddorp Duin. Deze lifestylemarkt brengt een Ibiza-achtige sfeer naar de kust met creatieve kraampjes\, strandmode en handgemaakte producten. \nDe markt trekt bezoekers die een dagje strand combineren met een bezoek aan een creatieve markt. Door de ligging in een populaire badplaats ontstaat een levendige sfeer met veel inspiratie en zomerse energie. \nVoor bezoekers\nPraktische informatie over de markt in Ouddorp: \n\nType markt: lifestylemarkt / Ibiza-markt\nPlaats: Ouddorp\nDatum: donderdag 13 augustus 2026\nLocatie: Ouddorp Duin\n\nWat is er te vinden \n\nbohemian kleding en accessoires\nsieraden en strandmode\nhandgemaakte en creatieve producten\nlifestyle-artikelen\n\nDe markt wordt aangevuld met livemuziek en een ontspannen strandachtige sfeer. \nVoor standhouders\nDe organisatie biedt verschillende soorten verkoopplekken voor deelnemers. \nStandplaatsen \n\nStandplaats 3 x 3 meter: €100\nKraam 4 meter met overkapping: €125\nFashiontruck: €125\nParasolplek 2 x 2 meter: €35\n\nAlle prijzen zijn exclusief 21% btw. \nContact \n\n\nE-mail: infoleukevents@gmail.com \n\n\nHippie Beach Day in Ouddorp is een zomerse markt waar creatieve ondernemers en bezoekers samenkomen in een ontspannen strandsfeer.
URL:https://marktenmeer.nl/markt/hippie-beach-day-on-tour-ouddorp-13-augustus-2026/
LOCATION:Ouddorp\, Ouddorp\, Netherlands
CATEGORIES:Ibizamarkt,Ibizamarkt Zeeland,Zeeland
END:VEVENT
END:VCALENDAR