BEGIN:VCALENDAR
VERSION:2.0
PRODID:-//Markten en meer - ECPv6.15.20//NONSGML v1.0//EN
CALSCALE:GREGORIAN
METHOD:PUBLISH
X-WR-CALNAME:Markten en meer
X-ORIGINAL-URL:https://marktenmeer.nl
X-WR-CALDESC:Evenementen voor Markten en meer
REFRESH-INTERVAL;VALUE=DURATION:PT1H
X-Robots-Tag:noindex
X-PUBLISHED-TTL:PT1H
BEGIN:VTIMEZONE
TZID:Europe/Amsterdam
BEGIN:DAYLIGHT
TZOFFSETFROM:+0100
TZOFFSETTO:+0200
TZNAME:CEST
DTSTART:20250330T010000
END:DAYLIGHT
BEGIN:STANDARD
TZOFFSETFROM:+0200
TZOFFSETTO:+0100
TZNAME:CET
DTSTART:20251026T010000
END:STANDARD
BEGIN:DAYLIGHT
TZOFFSETFROM:+0100
TZOFFSETTO:+0200
TZNAME:CEST
DTSTART:20260329T010000
END:DAYLIGHT
BEGIN:STANDARD
TZOFFSETFROM:+0200
TZOFFSETTO:+0100
TZNAME:CET
DTSTART:20261025T010000
END:STANDARD
BEGIN:DAYLIGHT
TZOFFSETFROM:+0100
TZOFFSETTO:+0200
TZNAME:CEST
DTSTART:20270328T010000
END:DAYLIGHT
BEGIN:STANDARD
TZOFFSETFROM:+0200
TZOFFSETTO:+0100
TZNAME:CET
DTSTART:20271031T010000
END:STANDARD
END:VTIMEZONE
BEGIN:VEVENT
DTSTART;VALUE=DATE:20260614
DTEND;VALUE=DATE:20260615
DTSTAMP:20260420T141729
CREATED:20260223T192423Z
LAST-MODIFIED:20260329T063413Z
UID:20241-1781395200-1781481599@marktenmeer.nl
SUMMARY:Ibiza Market – Nesselande (Rotterdam) – 14 juni 2026
DESCRIPTION:Op zondag 14 juni 2026 vindt de Ibiza Market plaats in Nesselande (Rotterdam). Deze markt in Nesselande staat in het teken van de Ibiza lifestyle\, met aandacht voor creativiteit\, handgemaakte producten en een ontspannen sfeer aan het water. De Ibiza Market in Nesselande (Rotterdam) richt zich op bezoekers die houden van bohemian mode\, accessoires en zomerse inspiratie. \nTijdens deze editie presenteren standhouders een gevarieerd aanbod. Denk aan boho fashion\, sieraden\, tassen\, woondecoratie en andere lifestyleproducten. Door de ligging in Nesselande krijgt de markt een open karakter\, waar bezoekers langs de kramen kunnen wandelen en in contact komen met makers en kleine ondernemers. \nVoor bezoekers\n\nDatum: zondag 14 juni 2026\nPlaats: Nesselande (Rotterdam)\nType evenement: Ibiza Market\n\nDe markt is geschikt voor bezoekers uit Rotterdam en omgeving die interesse hebben in mode\, sieraden\, accessoires en woonartikelen in bohemian stijl. \nVoor standhouders\nWil je deelnemen aan de Ibiza Market in Nesselande (Rotterdam)? Via het inschrijfformulier kun je je aanmelden als ondernemer\, maker of creatieve aanbieder. Je reserveert een kraam of grondplek en presenteert jouw producten aan een publiek met affiniteit voor de Ibiza lifestyle. \n\nKraam of grondplek: via inschrijving\nInschrijving: via de organisatie van Ibiza Market\n\nDeze markt is geschikt voor ondernemers met een aanbod in boho fashion\, handgemaakte sieraden\, interieuraccessoires en andere creatieve producten. \nVoor actuele informatie en deelnamevoorwaarden kan contact worden opgenomen met de organisatie.
URL:https://marktenmeer.nl/markt/ibiza-market-nesselande-rotterdam-14-juni-2026/
LOCATION:Nesselande\, Rotterdam\, Rotterdam\, Netherlands
CATEGORIES:Ibizamarkt,Ibizamarkt Zuid-Holland,Zuid-Holland
END:VEVENT
END:VCALENDAR