BEGIN:VCALENDAR
VERSION:2.0
PRODID:-//Markten en meer - ECPv6.15.20//NONSGML v1.0//EN
CALSCALE:GREGORIAN
METHOD:PUBLISH
X-ORIGINAL-URL:https://marktenmeer.nl
X-WR-CALDESC:Evenementen voor Markten en meer
REFRESH-INTERVAL;VALUE=DURATION:PT1H
X-Robots-Tag:noindex
X-PUBLISHED-TTL:PT1H
BEGIN:VTIMEZONE
TZID:Europe/Amsterdam
BEGIN:DAYLIGHT
TZOFFSETFROM:+0100
TZOFFSETTO:+0200
TZNAME:CEST
DTSTART:20250330T010000
END:DAYLIGHT
BEGIN:STANDARD
TZOFFSETFROM:+0200
TZOFFSETTO:+0100
TZNAME:CET
DTSTART:20251026T010000
END:STANDARD
BEGIN:DAYLIGHT
TZOFFSETFROM:+0100
TZOFFSETTO:+0200
TZNAME:CEST
DTSTART:20260329T010000
END:DAYLIGHT
BEGIN:STANDARD
TZOFFSETFROM:+0200
TZOFFSETTO:+0100
TZNAME:CET
DTSTART:20261025T010000
END:STANDARD
BEGIN:DAYLIGHT
TZOFFSETFROM:+0100
TZOFFSETTO:+0200
TZNAME:CEST
DTSTART:20270328T010000
END:DAYLIGHT
BEGIN:STANDARD
TZOFFSETFROM:+0200
TZOFFSETTO:+0100
TZNAME:CET
DTSTART:20271031T010000
END:STANDARD
END:VTIMEZONE
BEGIN:VEVENT
DTSTART;VALUE=DATE:20260530
DTEND;VALUE=DATE:20260601
DTSTAMP:20260419T113912
CREATED:20260212T094334Z
LAST-MODIFIED:20260329T061523Z
UID:19508-1780099200-1780271999@marktenmeer.nl
SUMMARY:Jaarmarkt Osdorp Amsterdam – 30 & 31 mei 2026
DESCRIPTION:Op zaterdag 30 en zondag 31 mei 2026 vindt de Jaarmarkt Osdorp plaats in Amsterdam Osdorp. Twee dagen lang staat het winkelgebied in het teken van een uitgebreide jaarmarkt met een breed aanbod aan kramen en activiteiten. \nDe organisatie is in handen van De Zwart Marktkramen\, al meer dan 50 jaar actief in het organiseren van markten en braderieën in de regio. \nTwee dagen markt in Amsterdam Osdorp\nDe Jaarmarkt Osdorp trekt bezoekers uit Amsterdam en omgeving. Je kunt rekenen op een gevarieerd aanbod\, zoals: \n\nMode en accessoires\nWoon- en cadeauartikelen\nSeizoensproducten\nDiverse handelswaren\n\nDoor de opzet over twee dagen heb je ruim de tijd om alles te bekijken. De combinatie van markt en winkels in het gebied maakt het een compleet dagje uit. \nPraktische informatie\n\nData: zaterdag 30 mei & zondag 31 mei 2026\nLocatie: Amsterdam Osdorp\nType markt: Jaarmarkt\n\nWil je eind mei een grote jaarmarkt bezoeken in Amsterdam? Zet dan 30 en 31 mei 2026 in je agenda voor de Jaarmarkt Osdorp.
URL:https://marktenmeer.nl/markt/jaarmarkt-osdorp-30-31-mei-2026/
LOCATION:Amsterdam Osdorp\, Amsterdam\, Netherlands
CATEGORIES:Braderie Noord-Holland,Braderieën,Jaarmarkten,Jaarmarkten Noord-Holland,Noord-Holland
END:VEVENT
END:VCALENDAR