BEGIN:VCALENDAR
VERSION:2.0
PRODID:-//Markten en meer - ECPv6.15.20//NONSGML v1.0//EN
CALSCALE:GREGORIAN
METHOD:PUBLISH
X-ORIGINAL-URL:https://marktenmeer.nl
X-WR-CALDESC:Evenementen voor Markten en meer
REFRESH-INTERVAL;VALUE=DURATION:PT1H
X-Robots-Tag:noindex
X-PUBLISHED-TTL:PT1H
BEGIN:VTIMEZONE
TZID:Europe/Amsterdam
BEGIN:DAYLIGHT
TZOFFSETFROM:+0100
TZOFFSETTO:+0200
TZNAME:CEST
DTSTART:20250330T010000
END:DAYLIGHT
BEGIN:STANDARD
TZOFFSETFROM:+0200
TZOFFSETTO:+0100
TZNAME:CET
DTSTART:20251026T010000
END:STANDARD
BEGIN:DAYLIGHT
TZOFFSETFROM:+0100
TZOFFSETTO:+0200
TZNAME:CEST
DTSTART:20260329T010000
END:DAYLIGHT
BEGIN:STANDARD
TZOFFSETFROM:+0200
TZOFFSETTO:+0100
TZNAME:CET
DTSTART:20261025T010000
END:STANDARD
BEGIN:DAYLIGHT
TZOFFSETFROM:+0100
TZOFFSETTO:+0200
TZNAME:CEST
DTSTART:20270328T010000
END:DAYLIGHT
BEGIN:STANDARD
TZOFFSETFROM:+0200
TZOFFSETTO:+0100
TZNAME:CET
DTSTART:20271031T010000
END:STANDARD
END:VTIMEZONE
BEGIN:VEVENT
DTSTART;TZID=Europe/Amsterdam:20260606T100000
DTEND;TZID=Europe/Amsterdam:20260606T170000
DTSTAMP:20260420T154857
CREATED:20260202T081157Z
LAST-MODIFIED:20260329T063430Z
UID:18968-1780740000-1780765200@marktenmeer.nl
SUMMARY:Jaarmarkt Wateringen – zaterdag 6 juni
DESCRIPTION:Op zaterdag 6 juni vindt de Jaarmarkt in Wateringen plaats\, verspreid over Vliethof\, het Plein en de Herenstraat. Deze jaarlijkse markt is een vertrouwd en gezellig evenement voor inwoners van Wateringen en bezoekers uit de regio. Het dorpscentrum vormt voor één dag het decor van een levendige markt waar winkelen\, ontmoeten en ontspannen samenkomen. \nDe jaarmarkt is ideaal voor bezoekers die houden van een gemoedelijke sfeer en een overzichtelijke opzet. Je loopt eenvoudig van straat naar plein en ontdekt onderweg een gevarieerd aanbod aan kramen. Denk aan kleding\, accessoires\, woonartikelen\, cadeaus\, streekproducten en lekkernijen. Veel bezoekers combineren een bezoek aan de markt met een terrasje of een rondje langs de lokale winkels\, wat zorgt voor een complete dag uit. \nWat deze jaarmarkt typeert\, is het lokale karakter. Bezoekers nemen de tijd\, maken een praatje en komen niet alleen om te kopen\, maar ook om elkaar te ontmoeten. Dat maakt de sfeer ontspannen en toegankelijk voor alle leeftijden. De markt trekt zowel gezinnen als oudere bezoekers en vaste dorpsbewoners. De organisatie van deze jaarmarkt is in handen van Fresh Markets\, bekend van goed georganiseerde markten en evenementen in het hele land. \nPraktische informatie:\n\nDatum: zaterdag 6 juni\nLocatie: Vliethof\, Plein en Herenstraat\, Wateringen\nTijden: 10.00 – 17.00 uur\nType markt: Jaarmarkt\nOrganisator: Fresh Markets\nToegang: gratis
URL:https://marktenmeer.nl/markt/jaarmarkt-wateringen-6-juni/
LOCATION:Wateringen\, Wateringen\, Netherlands
CATEGORIES:Braderie Zuid-Holland,Braderieën,Jaarmarkten,Jaarmarkten Zuid-Holland,Zuid-Holland
END:VEVENT
BEGIN:VEVENT
DTSTART;VALUE=DATE:20260613
DTEND;VALUE=DATE:20260614
DTSTAMP:20260420T154857
CREATED:20251210T091219Z
LAST-MODIFIED:20260329T063414Z
UID:16366-1781308800-1781395199@marktenmeer.nl
SUMMARY:Jaarmarkt Peppelweg Schiebroek – zaterdag 13 juni 2026
DESCRIPTION:De Peppelweg in Schiebroek staat op zaterdag 13 juni volledig in het teken van de jaarlijkse jaarmarkt\, een evenement dat elk jaar duizenden bezoekers trekt. De lange winkelstraat verandert in een levendige markt vol geuren\, kleuren en muziek. Bezoekers komen voor het brede aanbod aan kraampjes: mode\, sieraden\, handgemaakte artikelen\, lekkernijen\, lifestyleproducten en allerlei unieke vondsten die je niet snel ergens anders ziet. \nDe sfeer is ontspannen en uitnodigend\, mede dankzij de mix van buurtbewoners\, gezinnen en dagjesmensen die graag door de straat wandelen. De winkels langs de route doen volop mee\, waardoor de markt nog groter en aantrekkelijker wordt. Veel bezoekers blijven hangen op een van de vele terrassen die de straat rijk is. Voor kinderen is er extra vermaak\, wat deze markt een fijne uitgaansdag maakt voor gezinnen. \nDe Peppelweg staat bekend om zijn levendigheid en vriendelijke sfeer – en de jaarmarkt vormt daarop geen uitzondering. Een ideale plek voor een spontane dag uit\, een middag shoppen of gewoon lekker struinen.
URL:https://marktenmeer.nl/markt/jaarmarkt-peppelweg-schiebroek-13-juni-2026/
LOCATION:Schiebroek\, Rotterdam\, Peppelweg\, Rotterdam\, Netherlands
CATEGORIES:Braderie Zuid-Holland,Braderieën,Jaarmarkten,Jaarmarkten Zuid-Holland,Zuid-Holland
END:VEVENT
BEGIN:VEVENT
DTSTART;TZID=Europe/Amsterdam:20260613T100000
DTEND;TZID=Europe/Amsterdam:20260613T170000
DTSTAMP:20260420T154857
CREATED:20260223T135140Z
LAST-MODIFIED:20260329T063414Z
UID:20102-1781344800-1781370000@marktenmeer.nl
SUMMARY:Jaarmarkt Scheveningen Belgisch Park – Scheveningen – 13 juni 2026
DESCRIPTION:Op zaterdag 13 juni 2026 organiseert LineUpMarkten de Jaarmarkt Scheveningen Belgisch Park. Van 10.00 tot 17.00 uur staat het Belgisch Park in Scheveningen in het teken van een uitgebreide markt met een gevarieerd aanbod. \nDe jaarmarkt in Scheveningen Belgisch Park trekt bezoekers uit de wijk en omliggende delen van Den Haag. Langs de route staan diverse kramen met onder meer mode\, accessoires\, cadeauartikelen\, huishoudelijke producten en seizoensgebonden items. De combinatie van markt en buurtgericht karakter zorgt voor een toegankelijke sfeer. \nVoor bezoekers\nPraktische informatie \n\nType markt: jaarmarkt\nPlaats: Scheveningen (Belgisch Park)\nDatum: zaterdag 13 juni 2026\nTijd: 10.00 – 17.00 uur\nLocatie: Belgisch Park\, Scheveningen\nEntree: gratis\nFood aanwezig: ja\n\nDe markt is geschikt voor een breed publiek en goed te combineren met een bezoek aan Scheveningen. \nVoor standhouders\nDe organisatie is in handen van LineUpMarkten en richt zich op een gevarieerd aanbod met een goede kraamindeling. \nDeelnamemogelijkheden \n\nFood toegestaan: ja (in overleg)\nDoelgroep: bezoekers uit Scheveningen en omgeving\n\nDeelname is afhankelijk van beschikbaarheid en bevestiging door de organisatie. Voor actuele voorwaarden en inschrijving is het raadzaam contact op te nemen met LineUpMarkten.
URL:https://marktenmeer.nl/markt/jaarmarkt-scheveningen-belgisch-park-13-juni-2026/
LOCATION:Scheveningen\, Scheveningen\, Netherlands
CATEGORIES:Braderie Zuid-Holland,Braderieën,Jaarmarkten,Jaarmarkten Zuid-Holland,Zuid-Holland
END:VEVENT
BEGIN:VEVENT
DTSTART;TZID=Europe/Amsterdam:20260620T100000
DTEND;TZID=Europe/Amsterdam:20260620T170000
DTSTAMP:20260420T154857
CREATED:20260223T135647Z
LAST-MODIFIED:20260329T063359Z
UID:20106-1781949600-1781974800@marktenmeer.nl
SUMMARY:Ponymarkt Puttershoek – Puttershoek – 20 juni 2026
DESCRIPTION:Op zaterdag 20 juni 2026 organiseert LineUpMarkten de Ponymarkt in Puttershoek. Van 10.00 tot 17.00 uur staat het centrum in het teken van deze jaarlijks terugkerende markt\, die bezoekers uit de regio aantrekt. \nDe Ponymarkt in Puttershoek combineert een traditionele markt met een dorps karakter. Langs de route staan diverse kramen met onder meer mode\, accessoires\, cadeauartikelen\, ambachtelijke producten en seizoensgebonden items. De markt zorgt voor extra levendigheid in het centrum en is geschikt voor jong en oud. \nVoor bezoekers\nPraktische informatie \n\nType markt: ponymarkt / jaarmarkt\nPlaats: Puttershoek\nDatum: zaterdag 20 juni 2026\nTijd: 10.00 – 17.00 uur\nLocatie: centrum van Puttershoek\nEntree: gratis\nFood aanwezig: ja\n\nDe markt is goed te combineren met een dagje uit in Puttershoek. \nVoor standhouders\nDe organisatie is in handen van LineUpMarkten en richt zich op een gevarieerd aanbod met een passende indeling. \nDeelnamemogelijkheden \n\nFood toegestaan: ja (in overleg)\nDoelgroep: bezoekers uit Puttershoek en omgeving\n\nDeelname is afhankelijk van beschikbaarheid en bevestiging door de organisatie. Voor actuele voorwaarden en inschrijving is het raadzaam contact op te nemen met LineUpMarkten.
URL:https://marktenmeer.nl/markt/ponymarkt-puttershoek-20-juni-2026/
LOCATION:Puttershoek\, Puttershoek\, Netherlands
CATEGORIES:Braderie Zuid-Holland,Braderieën,Jaarmarkten,Jaarmarkten Zuid-Holland,Zuid-Holland
END:VEVENT
BEGIN:VEVENT
DTSTART;TZID=Europe/Amsterdam:20260626T150000
DTEND;TZID=Europe/Amsterdam:20260626T200000
DTSTAMP:20260420T154857
CREATED:20260223T075756Z
LAST-MODIFIED:20260329T063345Z
UID:14270-1782486000-1782504000@marktenmeer.nl
SUMMARY:Jaarmarkt Nieuwveen – Nieuwveen – 26 juni 2026
DESCRIPTION:Op vrijdag 26 juni 2026 organiseert LineUpMarkten de Jaarmarkt in Nieuwveen. Van 15.00 tot 20.00 uur staat het centrum in het teken van een markt met een middag- en avondprogramma\, passend bij de start van het zomerseizoen. \nDe jaarmarkt in Nieuwveen trekt bezoekers uit het dorp en omliggende plaatsen. Langs de route staan diverse kramen met onder meer mode\, accessoires\, cadeauartikelen\, ambachtelijke producten en seizoensgebonden items. Door de latere start is de markt goed te combineren met een bezoek na werktijd. \nVoor bezoekers\nPraktische informatie \n\nType markt: jaarmarkt\nPlaats: Nieuwveen\nDatum: vrijdag 26 juni 2026\nTijd: 15.00 – 20.00 uur\nLocatie: centrum van Nieuwveen\nEntree: gratis\nFood aanwezig: ja\n\nDe markt biedt een toegankelijke invulling van de middag en vroege avond. \nVoor standhouders\nDe organisatie is in handen van LineUpMarkten en richt zich op een gevarieerd aanbod met zo min mogelijk overlap. \nDeelnamemogelijkheden \n\nKraamprijs: € 75\,- incl. btw\nFood toegestaan: ja (in overleg)\nDoelgroep: bezoekers uit Nieuwveen en omgeving\n\nDeelname is definitief na bevestiging en ontvangst van betaling. Voor actuele voorwaarden en inschrijving is het raadzaam contact op te nemen met LineUpMarkten.
URL:https://marktenmeer.nl/markt/jaarmarkt-nieuwveen-26-juni-2026/
LOCATION:Nieuwveen\, Nieuwveen\, Netherlands
CATEGORIES:Braderie Zuid-Holland,Braderieën,Jaarmarkten,Jaarmarkten Zuid-Holland,Zuid-Holland
END:VEVENT
END:VCALENDAR