BEGIN:VCALENDAR
VERSION:2.0
PRODID:-//Markten en meer - ECPv6.15.20//NONSGML v1.0//EN
CALSCALE:GREGORIAN
METHOD:PUBLISH
X-ORIGINAL-URL:https://marktenmeer.nl
X-WR-CALDESC:Evenementen voor Markten en meer
REFRESH-INTERVAL;VALUE=DURATION:PT1H
X-Robots-Tag:noindex
X-PUBLISHED-TTL:PT1H
BEGIN:VTIMEZONE
TZID:Europe/Amsterdam
BEGIN:DAYLIGHT
TZOFFSETFROM:+0100
TZOFFSETTO:+0200
TZNAME:CEST
DTSTART:20250330T010000
END:DAYLIGHT
BEGIN:STANDARD
TZOFFSETFROM:+0200
TZOFFSETTO:+0100
TZNAME:CET
DTSTART:20251026T010000
END:STANDARD
BEGIN:DAYLIGHT
TZOFFSETFROM:+0100
TZOFFSETTO:+0200
TZNAME:CEST
DTSTART:20260329T010000
END:DAYLIGHT
BEGIN:STANDARD
TZOFFSETFROM:+0200
TZOFFSETTO:+0100
TZNAME:CET
DTSTART:20261025T010000
END:STANDARD
BEGIN:DAYLIGHT
TZOFFSETFROM:+0100
TZOFFSETTO:+0200
TZNAME:CEST
DTSTART:20270328T010000
END:DAYLIGHT
BEGIN:STANDARD
TZOFFSETFROM:+0200
TZOFFSETTO:+0100
TZNAME:CET
DTSTART:20271031T010000
END:STANDARD
END:VTIMEZONE
BEGIN:VEVENT
DTSTART;TZID=Europe/Amsterdam:20260704T100000
DTEND;TZID=Europe/Amsterdam:20260704T170000
DTSTAMP:20260420T171155
CREATED:20260223T080556Z
LAST-MODIFIED:20260329T063332Z
UID:14278-1783159200-1783184400@marktenmeer.nl
SUMMARY:Jaarmarkt Ooltgensplaat – Ooltgensplaat – 4 juli 2026
DESCRIPTION:Op zaterdag 4 juli 2026 organiseert LineUpMarkten de Jaarmarkt in Ooltgensplaat. Van 10.00 tot 17.00 uur staat het centrum in het teken van een uitgebreide dorpsmarkt met een gevarieerd aanbod voor een breed publiek. \nDe jaarmarkt in Ooltgensplaat trekt bezoekers uit het dorp en omliggende plaatsen. Langs de route staan diverse kramen met onder meer mode\, accessoires\, cadeauartikelen\, ambachtelijke producten en seizoensgebonden items. De combinatie van marktkramen en lokale winkels zorgt voor extra levendigheid in het centrum. \nVoor bezoekers\nPraktische informatie \n\nType markt: jaarmarkt\nPlaats: Ooltgensplaat\nDatum: zaterdag 4 juli 2026\nTijd: 10.00 – 17.00 uur\nLocatie: centrum van Ooltgensplaat\nEntree: gratis\nFood aanwezig: ja\n\nDe markt is geschikt voor jong en oud en biedt een complete daginvulling in het dorp. \nVoor standhouders\nDe organisatie is in handen van LineUpMarkten en richt zich op een gevarieerd aanbod met zo min mogelijk overlap. \nDeelnamemogelijkheden \n\nKraamprijs: € 75\,- incl. btw\nFood toegestaan: ja (in overleg)\nDoelgroep: bezoekers uit Ooltgensplaat en omgeving\n\nDeelname is definitief na bevestiging en ontvangst van betaling. Voor actuele voorwaarden en inschrijving is het raadzaam contact op te nemen met LineUpMarkten.
URL:https://marktenmeer.nl/markt/jaarmarkt-ooltgensplaat-4-juli-2026/
LOCATION:Ooltgensplaat\, Ooltgensplaat\, Netherlands
CATEGORIES:Braderie Zuid-Holland,Braderieën,Jaarmarkten,Jaarmarkten Zuid-Holland,Zuid-Holland
END:VEVENT
END:VCALENDAR