BEGIN:VCALENDAR
VERSION:2.0
PRODID:-//Markten en meer - ECPv6.15.20//NONSGML v1.0//EN
CALSCALE:GREGORIAN
METHOD:PUBLISH
X-ORIGINAL-URL:https://marktenmeer.nl
X-WR-CALDESC:Evenementen voor Markten en meer
REFRESH-INTERVAL;VALUE=DURATION:PT1H
X-Robots-Tag:noindex
X-PUBLISHED-TTL:PT1H
BEGIN:VTIMEZONE
TZID:Europe/Amsterdam
BEGIN:DAYLIGHT
TZOFFSETFROM:+0100
TZOFFSETTO:+0200
TZNAME:CEST
DTSTART:20250330T010000
END:DAYLIGHT
BEGIN:STANDARD
TZOFFSETFROM:+0200
TZOFFSETTO:+0100
TZNAME:CET
DTSTART:20251026T010000
END:STANDARD
BEGIN:DAYLIGHT
TZOFFSETFROM:+0100
TZOFFSETTO:+0200
TZNAME:CEST
DTSTART:20260329T010000
END:DAYLIGHT
BEGIN:STANDARD
TZOFFSETFROM:+0200
TZOFFSETTO:+0100
TZNAME:CET
DTSTART:20261025T010000
END:STANDARD
BEGIN:DAYLIGHT
TZOFFSETFROM:+0100
TZOFFSETTO:+0200
TZNAME:CEST
DTSTART:20270328T010000
END:DAYLIGHT
BEGIN:STANDARD
TZOFFSETFROM:+0200
TZOFFSETTO:+0100
TZNAME:CET
DTSTART:20271031T010000
END:STANDARD
END:VTIMEZONE
BEGIN:VEVENT
DTSTART;VALUE=DATE:20260725
DTEND;VALUE=DATE:20260726
DTSTAMP:20260420T203514
CREATED:20251211T091659Z
LAST-MODIFIED:20260329T063304Z
UID:16421-1784937600-1785023999@marktenmeer.nl
SUMMARY:Paardenmarkt Voorschoten – zaterdag 25 juli 2026
DESCRIPTION:De Paardenmarkt in Voorschoten is een begrip in de regio\, en op zaterdag 25 juli bruist het centrum opnieuw van de activiteiten. Deze traditionele jaarmarkt trekt jaarlijks duizenden bezoekers en staat bekend om haar levendige sfeer en ruime aanbod. De straten vullen zich met kramen vol mode\, sieraden\, boeken\, speelgoed\, woonaccessoires\, lekkernijen en lokale specialiteiten. \nDe markt wordt omlijst door horeca\, muziek en een echte dorpssfeer die veel mensen aanspreekt. Voor kinderen is er vaak extra vermaak en voor volwassenen is het de ideale gelegenheid om te struinen\, te winkelen en te genieten van het historische centrum. \nDoor het grote aantal stands is er echt voor ieder wat wils. Je kunt uren rondlopen zonder alles gezien te hebben. Veel bezoekers maken er een volledig dagje uit van\, want het is een van de grootste en meest geliefde evenementen van Voorschoten. \nDe combinatie van markt\, traditie en gezelligheid maakt deze dag elk jaar weer een hoogtepunt.
URL:https://marktenmeer.nl/markt/paardenmarkt-voorschoten-25-juli-2026/
LOCATION:Voorschoten\, Voorschoten\, Netherlands
CATEGORIES:Braderie Zuid-Holland,Braderieën,Jaarmarkten,Jaarmarkten Zuid-Holland,Zuid-Holland
END:VEVENT
END:VCALENDAR