BEGIN:VCALENDAR
VERSION:2.0
PRODID:-//Markten en meer - ECPv6.15.20//NONSGML v1.0//EN
CALSCALE:GREGORIAN
METHOD:PUBLISH
X-WR-CALNAME:Markten en meer
X-ORIGINAL-URL:https://marktenmeer.nl
X-WR-CALDESC:Evenementen voor Markten en meer
REFRESH-INTERVAL;VALUE=DURATION:PT1H
X-Robots-Tag:noindex
X-PUBLISHED-TTL:PT1H
BEGIN:VTIMEZONE
TZID:Europe/Amsterdam
BEGIN:DAYLIGHT
TZOFFSETFROM:+0100
TZOFFSETTO:+0200
TZNAME:CEST
DTSTART:20250330T010000
END:DAYLIGHT
BEGIN:STANDARD
TZOFFSETFROM:+0200
TZOFFSETTO:+0100
TZNAME:CET
DTSTART:20251026T010000
END:STANDARD
BEGIN:DAYLIGHT
TZOFFSETFROM:+0100
TZOFFSETTO:+0200
TZNAME:CEST
DTSTART:20260329T010000
END:DAYLIGHT
BEGIN:STANDARD
TZOFFSETFROM:+0200
TZOFFSETTO:+0100
TZNAME:CET
DTSTART:20261025T010000
END:STANDARD
BEGIN:DAYLIGHT
TZOFFSETFROM:+0100
TZOFFSETTO:+0200
TZNAME:CEST
DTSTART:20270328T010000
END:DAYLIGHT
BEGIN:STANDARD
TZOFFSETFROM:+0200
TZOFFSETTO:+0100
TZNAME:CET
DTSTART:20271031T010000
END:STANDARD
END:VTIMEZONE
BEGIN:VEVENT
DTSTART;TZID=Europe/Amsterdam:20260826T110000
DTEND;TZID=Europe/Amsterdam:20260826T190000
DTSTAMP:20260421T000903
CREATED:20260223T083039Z
LAST-MODIFIED:20260329T063225Z
UID:14307-1787742000-1787770800@marktenmeer.nl
SUMMARY:Jaarmarkt ’s-Gravendeel – ’s-Gravendeel – 26 augustus 2026
DESCRIPTION:Op woensdag 26 augustus 2026 organiseert LineUpMarkten de Jaarmarkt in ’s-Gravendeel. Van 11.00 tot 19.00 uur staat het centrum in het teken van een uitgebreide markt met een gevarieerd aanbod en extra ruime openingstijden. \nDe jaarmarkt in ’s-Gravendeel trekt bezoekers uit het dorp en omliggende plaatsen. Langs de route staan diverse kramen met onder meer mode\, accessoires\, cadeauartikelen\, ambachtelijke producten en seizoensgebonden items. Door de middag- en avondtijden is de markt goed te bezoeken na werktijd. \nVoor bezoekers\nPraktische informatie \n\nType markt: jaarmarkt\nPlaats: ’s-Gravendeel\nDatum: woensdag 26 augustus 2026\nTijd: 11.00 – 19.00 uur\nLocatie: centrum van ’s-Gravendeel\nEntree: gratis\nFood aanwezig: ja\n\nDe markt is geschikt voor een breed publiek en vormt een vaste zomerse activiteit in ’s-Gravendeel. \nVoor standhouders\nDe organisatie is in handen van LineUpMarkten en richt zich op een gevarieerd aanbod met zo min mogelijk overlap. \nDeelnamemogelijkheden \n\nKraamprijs: € 75\,- incl. btw\nFood toegestaan: ja (in overleg)\nDoelgroep: bezoekers uit ’s-Gravendeel en omgeving\n\nDeelname is definitief na bevestiging en ontvangst van betaling. Voor actuele voorwaarden en inschrijving is het raadzaam contact op te nemen met LineUpMarkten.
URL:https://marktenmeer.nl/markt/jaarmarkt-s-gravendeel-26-augustus-2026/
LOCATION:’s-Gravendeel\, ’s-Gravendeel\, Netherlands
CATEGORIES:Braderie Zuid-Holland,Braderieën,Jaarmarkten,Jaarmarkten Zuid-Holland,Zuid-Holland
END:VEVENT
END:VCALENDAR