BEGIN:VCALENDAR
VERSION:2.0
PRODID:-//Markten en meer - ECPv6.15.20//NONSGML v1.0//EN
CALSCALE:GREGORIAN
METHOD:PUBLISH
X-WR-CALNAME:Markten en meer
X-ORIGINAL-URL:https://marktenmeer.nl
X-WR-CALDESC:Evenementen voor Markten en meer
REFRESH-INTERVAL;VALUE=DURATION:PT1H
X-Robots-Tag:noindex
X-PUBLISHED-TTL:PT1H
BEGIN:VTIMEZONE
TZID:Europe/Amsterdam
BEGIN:DAYLIGHT
TZOFFSETFROM:+0100
TZOFFSETTO:+0200
TZNAME:CEST
DTSTART:20250330T010000
END:DAYLIGHT
BEGIN:STANDARD
TZOFFSETFROM:+0200
TZOFFSETTO:+0100
TZNAME:CET
DTSTART:20251026T010000
END:STANDARD
BEGIN:DAYLIGHT
TZOFFSETFROM:+0100
TZOFFSETTO:+0200
TZNAME:CEST
DTSTART:20260329T010000
END:DAYLIGHT
BEGIN:STANDARD
TZOFFSETFROM:+0200
TZOFFSETTO:+0100
TZNAME:CET
DTSTART:20261025T010000
END:STANDARD
BEGIN:DAYLIGHT
TZOFFSETFROM:+0100
TZOFFSETTO:+0200
TZNAME:CEST
DTSTART:20270328T010000
END:DAYLIGHT
BEGIN:STANDARD
TZOFFSETFROM:+0200
TZOFFSETTO:+0100
TZNAME:CET
DTSTART:20271031T010000
END:STANDARD
END:VTIMEZONE
BEGIN:VEVENT
DTSTART;TZID=Europe/Amsterdam:20260828T090000
DTEND;TZID=Europe/Amsterdam:20260829T170000
DTSTAMP:20260421T051759
CREATED:20260206T093201Z
LAST-MODIFIED:20260329T063225Z
UID:19311-1787907600-1788022800@marktenmeer.nl
SUMMARY:Jaarmarkt & Braderie Capelle aan den IJssel – W.C. De Schenkel | 28 & 29 augustus 2026
DESCRIPTION:Op vrijdag 28 en zaterdag 29 augustus 2026 organiseert Roodbol Evenementen de Jaarmarkt & Braderie bij Winkelcentrum De Schenkel in Capelle aan den IJssel. Twee dagen lang staat de Bermweg in het teken van shoppen\, struinen en gezelligheid\, met een mix van braderie- en vlooienmarktaanbod. \nDe Jaarmarkt & Braderie is een grootschalig evenement met een lange openingstijd op vrijdag en een volle zaterdag. Bezoekers vinden hier een gevarieerd aanbod: van nieuwe producten en actieartikelen tot tweedehands spullen. Door de ligging bij het winkelcentrum is er veel doorloop van winkelend publiek\, wat zorgt voor een constante bezoekersstroom. \nVoor standhouders biedt deze combinatie-editie flexibiliteit. Er zijn braderiekramen (voor nieuwe producten) en vlooienmarktkramen (uitsluitend tweedehands goederen). Deelname is mogelijk voor beide dagen samen of één losse dag (vrijdag of zaterdag)\, afhankelijk van het type kraam. Parkeren in de wijk is mogelijk en er zijn toiletten en horeca aanwezig. \nPraktische informatie\n\nData: vrijdag 28 & zaterdag 29 augustus 2026\nTijden:\n\n\nVrijdag: 09.00 – 21.00 uur \n\n\nZaterdag: 09.00 – 17.00 uur \n\n\n\nLocatie: Bermweg\, Winkelcentrum De Schenkel\, Capelle aan den IJssel\nEntree bezoekers: gratis\nVoorzieningen: toiletten en horeca aanwezig\n\nStandinformatie & prijzen\nBraderie (nieuwe producten): \n\nKraamformaat: 4 × 1 meter + achterzeil\nPrijs: € 125\,- per kraam (2 dagen)\n\nVlooienmarkt (alleen tweedehands): \n\n\nKraam (± 3\,30 m met bovenzeil): \n\n\n€ 70\,- per kraam (2 dagen) \n\n\n€ 40\,- per kraam (vrijdag of zaterdag) \n\n\n\n\nEen drukbezochte zomereditie met veel zichtbaarheid voor zowel handelaren als particuliere verkopers.
URL:https://marktenmeer.nl/markt/jaarmarkt-braderie-capelle-aan-den-ijssel-28-29-augustus-2026/
LOCATION:Winkelcentrum De Schenkel\, Capelle aan den IJsse\, Capelle aan den IJssel\, Netherlands
CATEGORIES:Braderie Zuid-Holland,Braderieën,Jaarmarkten,Jaarmarkten Zuid-Holland,Zuid-Holland
END:VEVENT
END:VCALENDAR