BEGIN:VCALENDAR
VERSION:2.0
PRODID:-//Markten en meer - ECPv6.15.20//NONSGML v1.0//EN
CALSCALE:GREGORIAN
METHOD:PUBLISH
X-WR-CALNAME:Markten en meer
X-ORIGINAL-URL:https://marktenmeer.nl
X-WR-CALDESC:Evenementen voor Markten en meer
REFRESH-INTERVAL;VALUE=DURATION:PT1H
X-Robots-Tag:noindex
X-PUBLISHED-TTL:PT1H
BEGIN:VTIMEZONE
TZID:Europe/Amsterdam
BEGIN:DAYLIGHT
TZOFFSETFROM:+0100
TZOFFSETTO:+0200
TZNAME:CEST
DTSTART:20250330T010000
END:DAYLIGHT
BEGIN:STANDARD
TZOFFSETFROM:+0200
TZOFFSETTO:+0100
TZNAME:CET
DTSTART:20251026T010000
END:STANDARD
BEGIN:DAYLIGHT
TZOFFSETFROM:+0100
TZOFFSETTO:+0200
TZNAME:CEST
DTSTART:20260329T010000
END:DAYLIGHT
BEGIN:STANDARD
TZOFFSETFROM:+0200
TZOFFSETTO:+0100
TZNAME:CET
DTSTART:20261025T010000
END:STANDARD
BEGIN:DAYLIGHT
TZOFFSETFROM:+0100
TZOFFSETTO:+0200
TZNAME:CEST
DTSTART:20270328T010000
END:DAYLIGHT
BEGIN:STANDARD
TZOFFSETFROM:+0200
TZOFFSETTO:+0100
TZNAME:CET
DTSTART:20271031T010000
END:STANDARD
END:VTIMEZONE
BEGIN:VEVENT
DTSTART;TZID=Europe/Amsterdam:20260905T100000
DTEND;TZID=Europe/Amsterdam:20260905T170000
DTSTAMP:20260421T102607
CREATED:20260120T093009Z
LAST-MODIFIED:20260329T063215Z
UID:18581-1788602400-1788627600@marktenmeer.nl
SUMMARY:Jaarmarkt Berkel en Rodenrijs – zaterdag 5 september 2026
DESCRIPTION:De Jaarmarkt in Berkel en Rodenrijs vindt plaats op zaterdag 5 september 2026 en is een vaste markt in de regio. Deze jaarmarkt trekt bezoekers uit het dorp en omliggende plaatsen en staat bekend om het brede en toegankelijke karakter. \nBezoekers komen gericht voor het marktaanbod en combineren dit met winkelen en een dagje uit. De markt biedt ruimte aan mode\, accessoires\, woonartikelen\, cadeaus en praktische producten. Door de opzet en ligging is er gedurende de dag een constante bezoekersstroom. \nVoor standhouders is dit een stabiele markt met duidelijke tijden en goede zichtbaarheid. De jaarmarkt is geschikt voor ondernemers die een breed publiek willen bereiken aan het einde van het zomerseizoen. \nPraktische informatie\n\nDatum: zaterdag 5 september 2026\nTijd: 10.00 – 17.00 uur\nPlaats: Berkel en Rodenrijs\nKraamhuur: € 77\,50 excl. 21% btw\nGrondplaats: € 18\,00 per meter\, excl. 21% btw
URL:https://marktenmeer.nl/markt/jaarmarkt-berkel-en-rodenrijs-5-september-2026/
LOCATION:Berkel en Rodenrijs\, Berkel en Rodenrijs\, Netherlands
CATEGORIES:Braderie Zuid-Holland,Braderieën,Jaarmarkten,Jaarmarkten Zuid-Holland,Zuid-Holland
END:VEVENT
END:VCALENDAR