BEGIN:VCALENDAR
VERSION:2.0
PRODID:-//Markten en meer - ECPv6.15.20//NONSGML v1.0//EN
CALSCALE:GREGORIAN
METHOD:PUBLISH
X-WR-CALNAME:Markten en meer
X-ORIGINAL-URL:https://marktenmeer.nl
X-WR-CALDESC:Evenementen voor Markten en meer
REFRESH-INTERVAL;VALUE=DURATION:PT1H
X-Robots-Tag:noindex
X-PUBLISHED-TTL:PT1H
BEGIN:VTIMEZONE
TZID:Europe/Amsterdam
BEGIN:DAYLIGHT
TZOFFSETFROM:+0100
TZOFFSETTO:+0200
TZNAME:CEST
DTSTART:20250330T010000
END:DAYLIGHT
BEGIN:STANDARD
TZOFFSETFROM:+0200
TZOFFSETTO:+0100
TZNAME:CET
DTSTART:20251026T010000
END:STANDARD
BEGIN:DAYLIGHT
TZOFFSETFROM:+0100
TZOFFSETTO:+0200
TZNAME:CEST
DTSTART:20260329T010000
END:DAYLIGHT
BEGIN:STANDARD
TZOFFSETFROM:+0200
TZOFFSETTO:+0100
TZNAME:CET
DTSTART:20261025T010000
END:STANDARD
BEGIN:DAYLIGHT
TZOFFSETFROM:+0100
TZOFFSETTO:+0200
TZNAME:CEST
DTSTART:20270328T010000
END:DAYLIGHT
BEGIN:STANDARD
TZOFFSETFROM:+0200
TZOFFSETTO:+0100
TZNAME:CET
DTSTART:20271031T010000
END:STANDARD
END:VTIMEZONE
BEGIN:VEVENT
DTSTART;TZID=Europe/Amsterdam:20260909T093000
DTEND;TZID=Europe/Amsterdam:20260909T170000
DTSTAMP:20260420T201525
CREATED:20251124T081454Z
LAST-MODIFIED:20260329T063203Z
UID:15520-1788946200-1788973200@marktenmeer.nl
SUMMARY:Jaarmarkt Valkenburg (ZH) – 9 september 2026 (tijdens Paardenmarkt)
DESCRIPTION:Op woensdag 9 september 2026 vindt in Valkenburg (gemeente Katwijk) de Jaarmarkt Valkenburg 2026 plaats. De markt wordt georganiseerd tijdens de jaarlijkse Paardenmarkt en duurt van 09:30 tot 17:00 uur. \nDe combinatie van jaarmarkt en paardenmarkt zorgt voor extra bezoekers in het dorp. De Paardenmarkt is een traditioneel evenement dat publiek uit de regio trekt\, waardoor ook de jaarmarkt druk wordt bezocht. \nWanneer is de Jaarmarkt Valkenburg 2026?\n\nDatum: woensdag 9 september 2026\nTijd: 09:30 – 17:00 uur\nGelegenheid: tijdens de Paardenmarkt\n\nWaar vindt de markt plaats?\n\nLocatie: centrum Valkenburg (ZH)\nGemeente: Katwijk\n\nDe markt wordt georganiseerd in het centrumgebied van Valkenburg. \nWat kun je verwachten?\n\nJaarmarkt met diverse handelaren\nTraditionele Paardenmarkt\nDrukbezocht evenement\nDagmarkt van 09:30 tot 17:00 uur\n\n\nVoor standhouders\nStandplaatsen dienen vooraf gereserveerd te worden. \n\n\nKraam (handel): € 90\,00
URL:https://marktenmeer.nl/markt/jaarmarkt-valkenburg-zh-2026/
LOCATION:Valkenburg (ZH)\, Valkenburg (ZH)\, Netherlands
CATEGORIES:Braderie Zuid-Holland,Braderieën,Jaarmarkten,Jaarmarkten Zuid-Holland,Zuid-Holland
END:VEVENT
BEGIN:VEVENT
DTSTART;TZID=Europe/Amsterdam:20260916T090000
DTEND;TZID=Europe/Amsterdam:20260916T170000
DTSTAMP:20260420T201525
CREATED:20251124T081702Z
LAST-MODIFIED:20260329T063202Z
UID:15523-1789549200-1789578000@marktenmeer.nl
SUMMARY:Jaarmarkt Alphen aan den Rijn – 16 september 2026
DESCRIPTION:Op woensdag 16 september 2026 vindt in het centrum van Alphen aan den Rijn de Jaarmarkt Alphen aan den Rijn 2026 plaats. Van 09:00 tot 17:00 uur staat het centrum in het teken van deze grote braderie met ruimte voor handel\, food en tweedehands/curiosa. \nDe Jaarmarkt in Alphen aan den Rijn is een dagmarkt met een breed aanbod. Door de verschillende categorieën standplaatsen ontstaat een gevarieerde markt die aantrekkelijk is voor een breed publiek. \nWanneer is de Jaarmarkt Alphen aan den Rijn 2026?\n\nDatum: woensdag 16 september 2026\nTijd: 09:00 – 17:00 uur\n\nWaar vindt de markt plaats?\n\nLocatie: centrum Alphen aan den Rijn\nPlaats: Alphen aan den Rijn\n\nDe markt wordt georganiseerd in het centrumgebied. \nWat kun je verwachten?\n\nGrote jaarmarkt / braderie\nFoodkramen\nCuriosa en tweedehands artikelen\nDeelname van verenigingen\nDagmarkt van 09:00 tot 17:00 uur\n\n\nVoor standhouders\nStandplaatsen dienen vooraf gereserveerd te worden. Er gelden verschillende tarieven per categorie. \nBraderie (handel)\n\n\nTarief: € 120\,00 \n\n\nFood\n\n\nTarief: € 240\,00 \n\n\nCuriosa / Tweedehands / Verenigingen\n\n\nTarief: € 60\,00
URL:https://marktenmeer.nl/markt/jaarmarkt-alphen-aan-den-rijn-2026/
LOCATION:Alphen aan den Rijn\, Alphen aan den Rijn\, Netherlands
CATEGORIES:Braderie Zuid-Holland,Braderieën,Jaarmarkten,Jaarmarkten Zuid-Holland,Rommelmarkten,Rommelmarkten Zuid-Holland,Zuid-Holland
END:VEVENT
BEGIN:VEVENT
DTSTART;TZID=Europe/Amsterdam:20260921T090000
DTEND;TZID=Europe/Amsterdam:20260921T170000
DTSTAMP:20260420T201525
CREATED:20260121T091638Z
LAST-MODIFIED:20260329T063148Z
UID:18709-1789981200-1790010000@marktenmeer.nl
SUMMARY:Jaarmarkt Lisse 2026 – maandag 21 september 2026
DESCRIPTION:Op maandag 21 september 2026 verandert het centrum van Lisse in één grote\, sfeervolle jaarmarkt. Tijdens de feestweek staat het gebied van de Heereweg tot het Dorpshart volledig in het teken van gezelligheid\, shoppen en ontmoeten. Met meer dan 100 kramen is dit één van de drukst bezochte marktdagen in de Bollenstreek. \nDe jaarmarkt is gratis toegankelijk en loopt van 09.00 tot 17.00 uur. Bezoekers struinen langs kramen met handgemaakte producten\, streekproducten\, tweedehands vondsten en foodtrucks met lekkere geuren. Of je nu komt om gericht te winkelen\, iets te eten of gewoon voor de sfeer: de Jaarmarkt Lisse is een ideaal dagje uit met vrienden of familie. \nWaarom je erbij moet zijn\n\n100+ kramen verspreid door het centrum\nFeestweek-sfeer met gezellige drukte\nGratis toegang\nGoed te combineren met een rondje door de Bollenstreek\nVeel horeca en terrassen in het centrum\n\nDe markt wordt georganiseerd door Harddraverijvereniging Lisse & omstreken en is al jaren een begrip in de regio. Jaarlijks trekt de markt duizenden bezoekers. De gemeente en lokale partners besteden extra aandacht aan verkeersveiligheid met campagnes zoals “Maak een punt van nul”. \nPraktische informatie\n\n\n\n\n\nOnderdeel\nDetails\n\n\n\n\nDatum\nmaandag 21 september 2026\n\n\nTijd\n09.00 – 17.00 uur\n\n\nLocatie\nCentrum Lisse (Heereweg & Dorpshart)\n\n\nAantal kramen\n100+\n\n\nToegang\nGratis\n\n\nParkeren\nKom vroeg of op de fiets; het kan druk zijn\n\n\nOrganisatie\nHarddraverijvereniging Lisse & omstreken\n\n\n\n\n\nKraam huren op de Jaarmarkt Lisse\nWil je zelf verkopen op de jaarmarkt? Het huren van een kraam is mogelijk via de organisatie. Vul het inschrijfformulier in om deel te nemen aan de Jaarmarkt Lisse tijdens de feestweek. (Details en beschikbaarheid: [controleer] via de organisatie.) \nCombineer je bezoek\nMaak je dag compleet met een tour door de Bollenstreek (bijvoorbeeld per e-chopper of elektrische fiets) en sluit af op de jaarmarkt. Rondom het Vierkant vind je gezellige restaurants en grote terrassen met uitzicht op de markt—perfect om even bij te praten en mensen te kijken.
URL:https://marktenmeer.nl/markt/jaarmarkt-lisse-2026-21-september/
LOCATION:Lisse\, Lisse\, Netherlands
CATEGORIES:Braderie Zuid-Holland,Braderieën,Jaarmarkten,Jaarmarkten Zuid-Holland,Zuid-Holland
END:VEVENT
BEGIN:VEVENT
DTSTART;TZID=Europe/Amsterdam:20260926T100000
DTEND;TZID=Europe/Amsterdam:20260926T170000
DTSTAMP:20260420T201525
CREATED:20251124T081911Z
LAST-MODIFIED:20260329T063147Z
UID:15526-1790416800-1790442000@marktenmeer.nl
SUMMARY:Jaarmarkt Schoonhoven – 26 september 2026 (Bartholomeusdag)
DESCRIPTION:Op zaterdag 26 september 2026 vindt in het centrum van Schoonhoven de Jaarmarkt Schoonhoven 2026 plaats. Deze markt wordt georganiseerd tijdens Bartholomeusdag en duurt van 10:00 tot 17:00 uur. \nDe Jaarmarkt in Schoonhoven is een traditionele centrumbraderie die samenvalt met de festiviteiten rondom Bartholomeusdag. Door deze combinatie trekt het evenement bezoekers uit de stad en de regio. \nWanneer is de Jaarmarkt Schoonhoven 2026?\n\nDatum: zaterdag 26 september 2026\nTijd: 10:00 – 17:00 uur\nGelegenheid: Bartholomeusdag\n\nWaar vindt de markt plaats?\n\nLocatie: centrum Schoonhoven\nPlaats: Schoonhoven\n\nDe markt wordt georganiseerd in het centrumgebied. \nWat kun je verwachten?\n\nJaarmarkt / braderie\nBartholomeusdagactiviteiten in het centrum\nGevarieerd aanbod van kramen\nDagmarkt van 10:00 tot 17:00 uur\n\n\nVoor standhouders\nStandplaatsen dienen vooraf gereserveerd te worden. \n\n\nKraam (handel): € 90\,00
URL:https://marktenmeer.nl/markt/jaarmarkt-schoonhoven-2026/
LOCATION:Schoonhoven\, Schoonhoven\, Netherlands
CATEGORIES:Braderie Zuid-Holland,Braderieën,Jaarmarkten,Jaarmarkten Zuid-Holland,Zuid-Holland
END:VEVENT
END:VCALENDAR