BEGIN:VCALENDAR
VERSION:2.0
PRODID:-//Markten en meer - ECPv6.15.20//NONSGML v1.0//EN
CALSCALE:GREGORIAN
METHOD:PUBLISH
X-WR-CALNAME:Markten en meer
X-ORIGINAL-URL:https://marktenmeer.nl
X-WR-CALDESC:Evenementen voor Markten en meer
REFRESH-INTERVAL;VALUE=DURATION:PT1H
X-Robots-Tag:noindex
X-PUBLISHED-TTL:PT1H
BEGIN:VTIMEZONE
TZID:Europe/Amsterdam
BEGIN:DAYLIGHT
TZOFFSETFROM:+0100
TZOFFSETTO:+0200
TZNAME:CEST
DTSTART:20250330T010000
END:DAYLIGHT
BEGIN:STANDARD
TZOFFSETFROM:+0200
TZOFFSETTO:+0100
TZNAME:CET
DTSTART:20251026T010000
END:STANDARD
BEGIN:DAYLIGHT
TZOFFSETFROM:+0100
TZOFFSETTO:+0200
TZNAME:CEST
DTSTART:20260329T010000
END:DAYLIGHT
BEGIN:STANDARD
TZOFFSETFROM:+0200
TZOFFSETTO:+0100
TZNAME:CET
DTSTART:20261025T010000
END:STANDARD
BEGIN:DAYLIGHT
TZOFFSETFROM:+0100
TZOFFSETTO:+0200
TZNAME:CEST
DTSTART:20270328T010000
END:DAYLIGHT
BEGIN:STANDARD
TZOFFSETFROM:+0200
TZOFFSETTO:+0100
TZNAME:CET
DTSTART:20271031T010000
END:STANDARD
END:VTIMEZONE
BEGIN:VEVENT
DTSTART;TZID=Europe/Amsterdam:20260524T100000
DTEND;TZID=Europe/Amsterdam:20260524T160000
DTSTAMP:20260421T200555
CREATED:20260416T104134Z
LAST-MODIFIED:20260416T104134Z
UID:25778-1779616800-1779638400@marktenmeer.nl
SUMMARY:Kleding & Speelgoedmarkt Groesbeek – 24 mei 2026
DESCRIPTION:Op zondag 24 mei 2026 vindt de kleding- en speelgoedmarkt plaats in Groesbeek\, in dorpshuis De Mallemolen. Deze markt in Groesbeek is een toegankelijke en overdekte markt waar bezoekers terecht kunnen voor tweedehands kleding en speelgoed. Het evenement is gericht op gezinnen en koopjeszoekers die op een ontspannen manier willen rondkijken en leuke items willen vinden. \nDe sfeer is gemoedelijk en laagdrempelig. Bezoekers kunnen snuffelen tussen tafels met tweedehands kleding en speelgoed\, waarbij veel producten een tweede leven krijgen. De markt is overzichtelijk opgezet en geschikt om rustig rond te lopen. Voor kinderen is het extra leuk\, omdat er speciaal ruimte is om zelf speelgoed te verkopen. \nVoor bezoekers\n\nDatum: zondag 24 mei 2026\nTijd: 10:00 – 16:00\nLocatie: Dorpshuis De Mallemolen\, Kloosterstraat 11\, 6562 AT Groesbeek\nType markt: kleding- en speelgoedmarkt\nEntree: gratis\nParkeren: gratis\nAanbod: tweedehands kleding en speelgoed\nKenmerk: overdekte markt\, geschikt voor gezinnen\n\nVoor standhouders\nDe kleding- en speelgoedmarkt in Groesbeek biedt particulieren de mogelijkheid om spullen te verkopen in een overdekte setting. \n\nTafelhuur: € 7\,50 per tafel\nType plekken: tafels (binnen)\nExtra: kinderen tot 13 jaar kunnen een eigen grondplek krijgen voor speelgoedverkoop\nInclusief: per tafel koffie/thee en iets te eten (chips)\n\nStandhouders profiteren van een gericht publiek dat specifiek komt voor tweedehands kleding en speelgoed. \nDe kleding- en speelgoedmarkt in Groesbeek is een kleinschalige en toegankelijke markt met focus op hergebruik en gezinnen.
URL:https://marktenmeer.nl/markt/kleding-speelgoedmarkt-groesbeek-24-mei-2026/
LOCATION:Groesbeek\, Groesbeek\, Netherlands
CATEGORIES:Gelderland,Kledingbeurzen,Kledingbeurzen Gelderland
END:VEVENT
END:VCALENDAR