BEGIN:VCALENDAR
VERSION:2.0
PRODID:-//Markten en meer - ECPv6.15.20//NONSGML v1.0//EN
CALSCALE:GREGORIAN
METHOD:PUBLISH
X-WR-CALNAME:Markten en meer
X-ORIGINAL-URL:https://marktenmeer.nl
X-WR-CALDESC:Evenementen voor Markten en meer
REFRESH-INTERVAL;VALUE=DURATION:PT1H
X-Robots-Tag:noindex
X-PUBLISHED-TTL:PT1H
BEGIN:VTIMEZONE
TZID:Europe/Amsterdam
BEGIN:DAYLIGHT
TZOFFSETFROM:+0100
TZOFFSETTO:+0200
TZNAME:CEST
DTSTART:20240331T010000
END:DAYLIGHT
BEGIN:STANDARD
TZOFFSETFROM:+0200
TZOFFSETTO:+0100
TZNAME:CET
DTSTART:20241027T010000
END:STANDARD
BEGIN:DAYLIGHT
TZOFFSETFROM:+0100
TZOFFSETTO:+0200
TZNAME:CEST
DTSTART:20250330T010000
END:DAYLIGHT
BEGIN:STANDARD
TZOFFSETFROM:+0200
TZOFFSETTO:+0100
TZNAME:CET
DTSTART:20251026T010000
END:STANDARD
BEGIN:DAYLIGHT
TZOFFSETFROM:+0100
TZOFFSETTO:+0200
TZNAME:CEST
DTSTART:20260329T010000
END:DAYLIGHT
BEGIN:STANDARD
TZOFFSETFROM:+0200
TZOFFSETTO:+0100
TZNAME:CET
DTSTART:20261025T010000
END:STANDARD
END:VTIMEZONE
BEGIN:VEVENT
DTSTART;TZID=Europe/Amsterdam:20251130T090000
DTEND;TZID=Europe/Amsterdam:20251130T160000
DTSTAMP:20260422T065631
CREATED:20251120T133446Z
LAST-MODIFIED:20260329T061214Z
UID:15144-1764493200-1764518400@marktenmeer.nl
SUMMARY:Super Snuffelmarkt Brabanthallen Den Bosch – 30 november 2025
DESCRIPTION:Op zondag 30 november 2025 organiseren de Brabanthallen in Den Bosch een grote Super Snuffelmarkt\, een editie met maar liefst 550 kramen vol tweedehands vondsten\, curiosa\, vintage\, antiek en nostalgische items. Deze markt is een sterke publiekstrekker voor liefhebbers van kringlopen\, verzamelobjecten en unieke schatten. \nTussen 09.00 en 16.00 uur kunnen bezoekers uitgebreid rondkijken in de hallen\, die volledig gevuld zijn met kramen met bovenbouw. De variatie is groot: woonaccessoires\, speelgoed\, retro-items\, servies\, sieraden\, boeken\, verzamelstukken\, kleding en zeldzame objecten. De markt staat bekend om zijn gezellige sfeer en de vele mogelijkheden om bijzondere vondsten te doen. \nDankzij de indoorlocatie is het evenement goed toegankelijk\, ongeacht het weer. Parkeren is gratis\, en de entree bedraagt €6\,- voor volwassenen. \nPraktisch• Datum: zondag 30 november 2025• Tijd: 09.00 – 16.00 uur• Locatie: Brabanthallen\, Diezekade 2\, 5222 AK Den Bosch• Extra info: Super editie met 550 kramen• Parkeren: gratis
URL:https://marktenmeer.nl/markt/super-snuffelmarkt-brabanthallen-30-november-2025/
LOCATION:Brabant Hallen\, Den Bosch\, Diezekade 2\, Den Bosch\, Netherlands
CATEGORIES:Noord-Brabant,Rommelmarkten,Rommelmarkten Noord-Brabant
END:VEVENT
BEGIN:VEVENT
DTSTART;TZID=Europe/Amsterdam:20251130T100000
DTEND;TZID=Europe/Amsterdam:20251130T160000
DTSTAMP:20260422T065631
CREATED:20251117T103538Z
LAST-MODIFIED:20260329T061214Z
UID:14755-1764496800-1764518400@marktenmeer.nl
SUMMARY:Cadeaumarkt – Tilburg (Laar) – 30 november 2025
DESCRIPTION:De Cadeaumarkt in Tilburg op 30 november vindt plaats op het buitenterrein ’Laar en is een laagdrempelig en veelzijdig evenement voor bezoekers en standhouders. De markt richt zich op een breed aanbod: van handgemaakte producten en creatieve cadeaus tot tweedehands artikelen en unieke vondsten. Bezoekers kunnen op een ontspannen manier rondstruinen tussen de kramen\, inspiratie opdoen voor de feestdagen en lokale ondernemers leren kennen. De organisatie geeft veel ruimte aan creativiteit en originaliteit\, waardoor de markt een divers en verrassend aanbod heeft. Voor kinderen wordt nog een activiteit gezocht\, wat extra gezelligheid kan toevoegen. \nDe markt is geschikt voor families\, hobbyisten\, verzamelaars en iedereen die houdt van bijzondere\, betaalbare cadeaus. Omdat het evenement buiten plaatsvindt\, hangt er een open\, informele sfeer waarin mensen gemakkelijk blijven hangen voor een praatje. De Cadeaumarkt vormt een prettige combinatie van winterse gezelligheid en lokaal ondernemerschap\, ideaal voor een leuke zondag in aanloop naar december.
URL:https://marktenmeer.nl/markt/cadeaumarkt-tilburg-laar-30-november-2025/
LOCATION:Tilburg\, Tilburg\, Netherlands
CATEGORIES:Kerstmarkten,Noord-Brabant
END:VEVENT
END:VCALENDAR