BEGIN:VCALENDAR
VERSION:2.0
PRODID:-//Markten en meer - ECPv6.15.20//NONSGML v1.0//EN
CALSCALE:GREGORIAN
METHOD:PUBLISH
X-ORIGINAL-URL:https://marktenmeer.nl
X-WR-CALDESC:Evenementen voor Markten en meer
REFRESH-INTERVAL;VALUE=DURATION:PT1H
X-Robots-Tag:noindex
X-PUBLISHED-TTL:PT1H
BEGIN:VTIMEZONE
TZID:Europe/Amsterdam
BEGIN:DAYLIGHT
TZOFFSETFROM:+0100
TZOFFSETTO:+0200
TZNAME:CEST
DTSTART:20240331T010000
END:DAYLIGHT
BEGIN:STANDARD
TZOFFSETFROM:+0200
TZOFFSETTO:+0100
TZNAME:CET
DTSTART:20241027T010000
END:STANDARD
BEGIN:DAYLIGHT
TZOFFSETFROM:+0100
TZOFFSETTO:+0200
TZNAME:CEST
DTSTART:20250330T010000
END:DAYLIGHT
BEGIN:STANDARD
TZOFFSETFROM:+0200
TZOFFSETTO:+0100
TZNAME:CET
DTSTART:20251026T010000
END:STANDARD
BEGIN:DAYLIGHT
TZOFFSETFROM:+0100
TZOFFSETTO:+0200
TZNAME:CEST
DTSTART:20260329T010000
END:DAYLIGHT
BEGIN:STANDARD
TZOFFSETFROM:+0200
TZOFFSETTO:+0100
TZNAME:CET
DTSTART:20261025T010000
END:STANDARD
BEGIN:DAYLIGHT
TZOFFSETFROM:+0100
TZOFFSETTO:+0200
TZNAME:CEST
DTSTART:20270328T010000
END:DAYLIGHT
BEGIN:STANDARD
TZOFFSETFROM:+0200
TZOFFSETTO:+0100
TZNAME:CET
DTSTART:20271031T010000
END:STANDARD
END:VTIMEZONE
BEGIN:VEVENT
DTSTART;VALUE=DATE:20251206
DTEND;VALUE=DATE:20260105
DTSTAMP:20260422T065908
CREATED:20251221T084424Z
LAST-MODIFIED:20260329T061201Z
UID:17243-1764979200-1767571199@marktenmeer.nl
SUMMARY:Bosch Winters Paradepaardje – ’s-Hertogenbosch | 6 dec 2025 – 4 jan 2026
DESCRIPTION:Van 6 december 2025 tot en met 4 januari 2026 verandert De Parade in het hart van ’s-Hertogenbosch in een sfeervol winterdorp tijdens het Bosch Winters Paradepaardje. Een maand lang staat deze centrale plek in Den Bosch in het teken van schaatsplezier\, winterse gezelligheid en samen genieten. \nBlikvanger is de 500 m² grote overdekte schaatsbaan met écht ijs\, waar je met één ticket de hele dag onbeperkt kunt schaatsen. Direct naast de baan vind je het verwarmde Winterland Café\, met warme chocolademelk\, glühwein en in de weekenden live muziek. Op het plein zelf zorgen het grote reuzenrad\, een nostalgische draaimolen\, spelletjes\, eet- en drinkgelegenheden en de wensboom voor extra beleving. \nHet evenement is vrij toegankelijk; je betaalt alleen voor attracties en de ijsbaan. Dankzij ruime openingstijden\, ook ’s avonds\, is het Bosch Winters Paradepaardje geschikt voor gezinnen\, vriendengroepen en iedereen die de winter in de stad wil vieren. \n\n🕒 Openingstijden (overzicht)\nIJsbaan \n\n\nZo t/m do: 10.00 – 22.00 uur \n\n\nVr & za: 10.00 – 23.00 uur \n\n\nSpeciale dagen ijsbaan \n\n\n25 & 28 dec: 10.00 – 23.00 uur \n\n\n31 dec: 10.00 – 18.00 uur \n\n\n1 jan: 10.00 – 23.00 uur \n\n\n4 jan: 10.00 – 21.00 uur \n\n\nBuitenvermaak (reuzenrad\, draaimolen\, eten & drinken) \n\n\nZo t/m do: 11.00 – 23.00 uur \n\n\nVr & za: 10.00 – 01.00 uur \n\n\nSpeciale dagen buitenvermaak \n\n\n25 & 28 dec: 10.00 – 00.00 uur \n\n\n31 dec: 11.00 – 18.00 uur \n\n\n1 jan: 10.00 – 00.00 uur \n\n\n4 jan: 10.00 – 21.00 uur \n\n\n\n💶 Tarieven\n\n\nToegang terrein: gratis \n\n\nIJsbaan (hele dag): € 7\,50 p.p. \n\n\nSchaatsverhuur: € 5\,50(eigen schaatsen toegestaan\, m.u.v. noren) \n\n\nPinguïn schaatshulp: € 5\,00 \n\n\n📍 Locatie\nBosch Winters ParadepaardjeParade5211 KL ’s-Hertogenbosch \n\n🚗 Bereikbaarheid & parkeren\nParkeren in de binnenstad\nIn de directe omgeving van de Parade zijn meerdere grote parkeergarages beschikbaar: \n\n\nParkeergarage Sint Jan – ca. 200 meter \n\n\nParkeergarage Wolvenhoek – ca. 500 meter \n\n\nParkeergarage Sint Josephstraat – ca. 200 meter \n\n\nP+R transferia\nWil je voordelig parkeren? Maak dan gebruik van een van de P+R transferia rondom ’s-Hertogenbosch. Vanaf hier reis je eenvoudig verder met het openbaar vervoer richting de binnenstad.➡️ Controleer voor vertrek altijd de actuele openingstijden en tarieven [controleer]. \nParkeren voor mindervaliden\nBezoekers met een invalidenparkeerkaart kunnen parkeren op speciaal aangewezen parkeerplaatsen op en rondom de Parade. \n\n🚆 Openbaar vervoer\nPlan je reis met het OV via 9292.nl.Voor actuele treinreistijden kun je terecht op ns.nl. \nVanaf Station ’s-Hertogenbosch Centraal is het ongeveer 15 minuten lopen naar het Bosch Winters Paradepaardje. \n\n🚌 Hop-on Hop-off bus\nDe gratis hop-on hop-off bus van Blauwe Engelen stopt ook bij de Parade. Een comfortabele manier om de binnenstad te bereiken tijdens je winterse bezoek.
URL:https://marktenmeer.nl/markt/bosch-winters-paradepaardje-2025-2026/
LOCATION:’s-Hertogenbosch\, ’s-Hertogenbosch\, Netherlands
CATEGORIES:Kerstmarkt Noord-Brabant,Kerstmarkten,Noord-Brabant
END:VEVENT
BEGIN:VEVENT
DTSTART;TZID=Europe/Amsterdam:20251206T100000
DTEND;TZID=Europe/Amsterdam:20251206T170000
DTSTAMP:20260422T065908
CREATED:20251125T091931Z
LAST-MODIFIED:20260329T061201Z
UID:15617-1765015200-1765040400@marktenmeer.nl
SUMMARY:Kerstmarkt Woensel XXL Eindhoven 2025 – Grote wintermarkt op 6 december
DESCRIPTION:Op zaterdag 6 december 2025 staat Winkelcentrum Woensel XXL in Eindhoven geheel in het teken van een extra grote kerstmarkt. Tussen 10.00 en 17.00 uur wandel je door het complete winkelcentrum langs meer dan 200 kramen met kerstspullen\, cadeaus\, decoraties\, lekkernijen en nieuwe producten. De combinatie van marktkramen en geopende winkels maakt dit een ideaal moment om inspiratie op te doen én kerstinkopen te doen in één bezoek. \n\nGroot aanbod met winterse sfeer\nDeze kerstmarkt staat bekend om: \n\nsfeervolle aankleding met lichtjes en decoratie\neen mix van traditionele kerstproducten en moderne cadeauartikelen\nkramen met woonaccessoires\, sieraden\, kaarten en ambachtelijke items\nlekkernijen\, proefstandjes en gezellige muziek\ndrukte\, gezelligheid en een echte decemberbeleving\n\nBezoekers kunnen rustig rondkijken\, proeven en shoppen terwijl het hele winkelcentrum feestelijk is versierd. \n\nEen ideaal uitje voor het hele gezin\nDe kerstmarkt in Woensel XXL trekt elk jaar veel bezoekers\, waaronder: \n\nfamilies en jonge gezinnen\nkoopjesjagers en cadeaushoppers\nliefhebbers van grote kerstmarkten\nbewoners uit Eindhoven en omliggende dorpen\n\nDankzij de omvang en de brede variatie aan kramen vindt iedereen hier wel iets leuks. \n\nPraktische informatie\n📅 Datum: zaterdag 6 december 2025🕒 Tijd: 10.00 – 17.00 uur📍 Locatie: Winkelcentrum Woensel XXL\, Eindhoven🎟️ Entree: gratis
URL:https://marktenmeer.nl/markt/kerstmarkt-woensel-xxl-eindhoven-6-december-2025/
LOCATION:Winkelcentrum Woensel XXL\, Eindhoven\, Winkelcentrum Woensel\, Eindhoven\, Netherlands
CATEGORIES:Kerstmarkt Noord-Brabant,Kerstmarkten,Noord-Brabant
END:VEVENT
BEGIN:VEVENT
DTSTART;TZID=Europe/Amsterdam:20251206T110000
DTEND;TZID=Europe/Amsterdam:20251206T170000
DTSTAMP:20260422T065908
CREATED:20251124T040306Z
LAST-MODIFIED:20260329T061201Z
UID:15471-1765018800-1765040400@marktenmeer.nl
SUMMARY:Pocketflex XXL Breda 2025 – TCG & verzamelbeurs in Breepark op 6 december
DESCRIPTION:De Pocketflex XXL-editie in Breepark Breda op zaterdag 6 december 2025 is een grote en levendige verzamelbeurs voor TCG-liefhebbers. De ruime evenementenhal biedt volop plek om rustig langs stands te lopen\, kaarten te bekijken\, te ruilen en exclusieve deals te vinden. Van betaalbare singles tot zeldzame kaarten: deze editie biedt voor elke verzamelaar iets bijzonders. \n\nGroot aanbod voor TCG-fans en verzamelaars\nBezoekers vinden een breed assortiment\, waaronder: \n\nPokémon-kaarten (nieuw\, vintage & graded)\nMagic: The Gathering & Yu-Gi-Oh!\nlimited editions en promotiekaarten\nlosse singles\, sealed producten & accessoires\nmerch\, sleeves\, toploaders en verzamelbenodigdheden\n\nDoor de XXL-opzet is er veel ruimte tussen de stands\, wat de beurs overzichtelijk en ontspannen maakt. \n\nVoor wie is Pocketflex XXL Breda interessant?\nDeze beurs trekt een gevarieerd publiek: \n\nbeginnende en fanatieke TCG-spelers\nverzamelaars op zoek naar specifieke kaarten of bargains\nruilers die graag nieuwe deals sluiten\nouders met kinderen die TCG willen ontdekken\nliefhebbers van grote verzamelbeurzen in Brabant\n\nOf je nu gericht zoekt naar één kaart of juist wil snuffelen: Pocketflex XXL heeft voor ieder wat wils. \n\nPraktische informatie\n📅 Datum: zaterdag 6 december 2025🕒 Tijd: 11:00-17:00📍 Locatie: Breepark\, Breda✨ Extra: brede hal\, veel stands\, goede bereikbaarheid
URL:https://marktenmeer.nl/markt/pocketflex-xxl-breda-06-12-2025/
LOCATION:Breepark Evenementenhal\, Breda\, Bavelseparklaan\, Breda\, Netherlands
CATEGORIES:Noord-Brabant,Verzamelbeurs,Verzamelbeurs Noord-Brabant
END:VEVENT
END:VCALENDAR