BEGIN:VCALENDAR
VERSION:2.0
PRODID:-//Markten en meer - ECPv6.15.20//NONSGML v1.0//EN
CALSCALE:GREGORIAN
METHOD:PUBLISH
X-WR-CALNAME:Markten en meer
X-ORIGINAL-URL:https://marktenmeer.nl
X-WR-CALDESC:Evenementen voor Markten en meer
REFRESH-INTERVAL;VALUE=DURATION:PT1H
X-Robots-Tag:noindex
X-PUBLISHED-TTL:PT1H
BEGIN:VTIMEZONE
TZID:Europe/Amsterdam
BEGIN:DAYLIGHT
TZOFFSETFROM:+0100
TZOFFSETTO:+0200
TZNAME:CEST
DTSTART:20250330T010000
END:DAYLIGHT
BEGIN:STANDARD
TZOFFSETFROM:+0200
TZOFFSETTO:+0100
TZNAME:CET
DTSTART:20251026T010000
END:STANDARD
BEGIN:DAYLIGHT
TZOFFSETFROM:+0100
TZOFFSETTO:+0200
TZNAME:CEST
DTSTART:20260329T010000
END:DAYLIGHT
BEGIN:STANDARD
TZOFFSETFROM:+0200
TZOFFSETTO:+0100
TZNAME:CET
DTSTART:20261025T010000
END:STANDARD
BEGIN:DAYLIGHT
TZOFFSETFROM:+0100
TZOFFSETTO:+0200
TZNAME:CEST
DTSTART:20270328T010000
END:DAYLIGHT
BEGIN:STANDARD
TZOFFSETFROM:+0200
TZOFFSETTO:+0100
TZNAME:CET
DTSTART:20271031T010000
END:STANDARD
END:VTIMEZONE
BEGIN:VEVENT
DTSTART;VALUE=DATE:20260111
DTEND;VALUE=DATE:20260112
DTSTAMP:20260419T215441
CREATED:20260103T142236Z
LAST-MODIFIED:20260328T220857Z
UID:17816-1768089600-1768175999@marktenmeer.nl
SUMMARY:GEANNULEERD MienMagie Beurs – Klazienaveen | 11 januari 2026
DESCRIPTION:Op zondag 11 januari 2026 vindt de MienMagie Beurs plaats bij Stichting Noorderbreedte in Klazienaveen. Deze beurs staat in het teken van spiritualiteit zonder zweverigheid en biedt bezoekers een laagdrempelige manier om kennis te maken met spirituele thema’s\, producten en inzichten. \nTijdens de beurs kun je rustig rondkijken bij verschillende verkoopkramen en kennismaken met onder andere mediums\, tarotisten\, wierook\, edelstenen\, kaarten en schilderijen. Bezoekers hebben daarnaast de mogelijkheid om deel te nemen aan gratis workshops en lezingen\, die gedurende de dag worden aangeboden. Wie verdieping zoekt\, kan ook kiezen voor een betaald consult bij een paragnost of medium. \nDe toegang tot de beurs is gratis\, net als de lezingen en het parkeren. Dit maakt de MienMagie Beurs toegankelijk voor een breed publiek\, zowel voor mensen die al bekend zijn met spiritualiteit als voor bezoekers die nieuwsgierig zijn en zich willen laten inspireren. Een ontspannen dag met ruimte voor ontmoeting\, beleving en persoonlijke groei. \nPraktische informatie\n\nDatum: zondag 11 januari 2026\nLocatie: Stichting Noorderbreedte\nAdres: Meteoor 3\, 7891 BD Klazienaveen\nType evenement: Spirituele beurs\nEntree: Gratis\nParkeren: Gratis\nActiviteiten: Verkoopkramen\, gratis workshops en lezingen\nExtra: Betaalde consulten mogelijk\n\nMeer informatie: www.mienmagie.nl
URL:https://marktenmeer.nl/markt/mienmagie-beurs-klazienaveen-11-januari-2026/
LOCATION:Stichting Noorderbreedte\, Klazienaveen\, Meteoor 3\, Klazienaveen\, Netherlands
CATEGORIES:Drenthe
END:VEVENT
BEGIN:VEVENT
DTSTART;TZID=Europe/Amsterdam:20260114T110000
DTEND;TZID=Europe/Amsterdam:20260114T163000
DTSTAMP:20260419T215441
CREATED:20260114T093717Z
LAST-MODIFIED:20260328T220857Z
UID:18222-1768388400-1768408200@marktenmeer.nl
SUMMARY:Heerlijk Landleven Fair Vledder 2026 – zondag 21 juni
DESCRIPTION:Op zondag 21 juni 2026 staat het Lesturgeonplein in Vledder volledig in het teken van de Heerlijk Landleven Fair. Van 11:00 tot 16:30 uur geniet je van een sfeervolle dag vol ambacht\, creativiteit\, lifestyle en streekproducten. \nMeer dan 80 standhouders presenteren hun mooiste creaties en smakelijke specialiteiten. Ontdek handwerk en kunst in allerlei vormen: van breien\, haken en schilderen tot houtbewerking en design. Bezoekers kunnen demonstraties bijwonen\, nieuwe technieken ontdekken en zich laten inspireren door gepassioneerde makers. \nOok op het gebied van lifestyle is er volop keuze. Struin langs stands met kleding\, woonaccessoires\, kunst en handgemaakte sieraden. Voor fijnproevers is er veel te proeven: ambachtelijke kazen\, jams\, honing\, thee en internationale lekkernijen. Foodtrucks zorgen voor extra gezelligheid met wafels\, poffertjes\, stroopwafels en hartige snacks. \nMet workshops\, creatieve demonstraties en een warme\, gemoedelijke sfeer is deze fair een compleet dagje uit voor jong en oud. De entree is gratis\, dus kom vooral langs en geniet. \nPraktische informatie\n\n📅 Datum: zondag 21 juni 2026\n⏰ Tijd: 11:00 – 16:30 uur\n📍 Locatie: Lesturgeonplein\, Vledder\n🎪 Aantal standhouders: 80+\n🎟️ Entree: gratis
URL:https://marktenmeer.nl/markt/heerlijk-landleven-fair-vledder-juni-2026/
LOCATION:Vledder\, Vledder\, Netherlands
CATEGORIES:belevenismarkten / lifestylemarkten,Creatieve Markt Drenthe,Creatieve markten,Drenthe,Streekmarkt,Streekmarkt Drenthe
END:VEVENT
BEGIN:VEVENT
DTSTART;TZID=Europe/Amsterdam:20260117T100000
DTEND;TZID=Europe/Amsterdam:20260118T170000
DTSTAMP:20260419T215441
CREATED:20260113T082913Z
LAST-MODIFIED:20260328T220857Z
UID:18207-1768644000-1768755600@marktenmeer.nl
SUMMARY:Dé Noordelijke Motorbeurs – 17 & 18 januari 2026 | Eelde
DESCRIPTION:Op zaterdag 17 en zondag 18 januari 2026 vindt de 28e editie van Dé Noordelijke Motorbeurs plaats in Eelde. Deze toonaangevende motorbeurs is een vaste start van het motorseizoen voor liefhebbers uit heel Noord-Nederland en daarbuiten. \nMet circa 110 bedrijven en organisaties biedt de beurs een breed en gevarieerd aanbod. Bezoekers kunnen nieuwe en gebruikte motoren bekijken\, vergelijken en ontdekken\, maar ook terecht voor motorkleding\, accessoires\, gereedschap\, verzekeringen\, rijopleidingen en motorreizen. Daarnaast zijn diverse organisaties en (overheids)instanties aanwezig\, waaronder de politie en belangenorganisaties. \nVrijwel alle bekende motormerken zijn vertegenwoordigd\, zoals KTM\, Suzuki\, Kawasaki\, Honda\, Yamaha\, BMW\, Triumph en Harley-Davidson. Ook verschillende motorclubs en merkenverenigingen zijn aanwezig\, wat zorgt voor een complete en veelzijdige beursbeleving. \nDe beurs vindt plaats in de Flowerdome Eelde en parkeren is gratis. \nPraktische informatie\n\n📅 Datum: zaterdag 17 & zondag 18 januari 2026\n⏰ Tijd: 10:00 – 17:00 uur\n📍 Locatie: Burgemeester J.G. Legroweg 80\, 9761 TD Eelde\n🎟️ Entree: €14\,- volwassenen | kinderen t/m 12 jaar gratis
URL:https://marktenmeer.nl/markt/noordelijke-motorbeurs-eelde-17-18-januari-2026/
LOCATION:Flowerdome\, Eelde\, Burg. J.G. Legroweg 80\, Eelde\, Netherlands
CATEGORIES:Drenthe,Verzamelbeurs,Verzamelbeurs Drenthe
END:VEVENT
END:VCALENDAR