BEGIN:VCALENDAR
VERSION:2.0
PRODID:-//Markten en meer - ECPv6.15.20//NONSGML v1.0//EN
CALSCALE:GREGORIAN
METHOD:PUBLISH
X-ORIGINAL-URL:https://marktenmeer.nl
X-WR-CALDESC:Evenementen voor Markten en meer
REFRESH-INTERVAL;VALUE=DURATION:PT1H
X-Robots-Tag:noindex
X-PUBLISHED-TTL:PT1H
BEGIN:VTIMEZONE
TZID:Europe/Amsterdam
BEGIN:DAYLIGHT
TZOFFSETFROM:+0100
TZOFFSETTO:+0200
TZNAME:CEST
DTSTART:20240331T010000
END:DAYLIGHT
BEGIN:STANDARD
TZOFFSETFROM:+0200
TZOFFSETTO:+0100
TZNAME:CET
DTSTART:20241027T010000
END:STANDARD
BEGIN:DAYLIGHT
TZOFFSETFROM:+0100
TZOFFSETTO:+0200
TZNAME:CEST
DTSTART:20250330T010000
END:DAYLIGHT
BEGIN:STANDARD
TZOFFSETFROM:+0200
TZOFFSETTO:+0100
TZNAME:CET
DTSTART:20251026T010000
END:STANDARD
BEGIN:DAYLIGHT
TZOFFSETFROM:+0100
TZOFFSETTO:+0200
TZNAME:CEST
DTSTART:20260329T010000
END:DAYLIGHT
BEGIN:STANDARD
TZOFFSETFROM:+0200
TZOFFSETTO:+0100
TZNAME:CET
DTSTART:20261025T010000
END:STANDARD
END:VTIMEZONE
BEGIN:VEVENT
DTSTART;TZID=Europe/Amsterdam:20251207T110000
DTEND;TZID=Europe/Amsterdam:20251207T170000
DTSTAMP:20260420T010044
CREATED:20251114T091323Z
LAST-MODIFIED:20260328T220912Z
UID:14347-1765105200-1765126800@marktenmeer.nl
SUMMARY:Kerstmarkt Zwartemeer 2025 – Gezellige wintermarkt op 7 december
DESCRIPTION:Op zondag 7 december 2025 wordt het centrum van Zwartemeer omgetoverd tot een knusse kerstmarkt. Tussen 11.00 en 17.00 uur kunnen bezoekers genieten van winterse sfeer\, gezellige kraampjes en een fijn dorps karakter. De markt trekt jaarlijks veel buurtbewoners en bezoekers uit de regio Emmen en de grensstreek. \n\nSfeervolle markt met gevarieerd aanbod\nTijdens de markt vind je een mix van: \n\nkerstartikelen en handgemaakte decoratie\nsieraden\, cadeaus en creatieve producten\nstreeklekkernijen en warme hapjes\nkleine koopjes en ambachtelijke cadeaus\nwinterse aankleding en kerstmuziek\n\nDe laagdrempelige sfeer maakt dit een prettige markt om op je gemak rond te lopen\, cadeautjes te kopen of gewoon te genieten van het decemberweekend. \n\nWaarom bezoekers graag komen\n\ngezellige dorpsmarkt met warme sfeer\nideaal voor families en buurtbewoners\nmakkelijk te combineren met een wandeling door het dorp\ngeen drukte zoals in grote steden\nperfect moment voor decemberinkopen\n\n\nPraktische informatie\n📅 Datum: zondag 7 december 2025🕒 Tijd: 11.00 – 17.00 uur📍 Locatie: Centrum Zwartemeer🎟️ Entree: gratis
URL:https://marktenmeer.nl/markt/kerstmarkt-centrum-zwartemeer-7-december-2025-2/
LOCATION:Zwartemeer\, Zwartemeer\, Netherlands
CATEGORIES:Drenthe,Kerstmarkt Drenthe,Kerstmarkten
END:VEVENT
END:VCALENDAR