BEGIN:VCALENDAR
VERSION:2.0
PRODID:-//Markten en meer - ECPv6.15.20//NONSGML v1.0//EN
CALSCALE:GREGORIAN
METHOD:PUBLISH
X-WR-CALNAME:Markten en meer
X-ORIGINAL-URL:https://marktenmeer.nl
X-WR-CALDESC:Evenementen voor Markten en meer
REFRESH-INTERVAL;VALUE=DURATION:PT1H
X-Robots-Tag:noindex
X-PUBLISHED-TTL:PT1H
BEGIN:VTIMEZONE
TZID:Europe/Amsterdam
BEGIN:DAYLIGHT
TZOFFSETFROM:+0100
TZOFFSETTO:+0200
TZNAME:CEST
DTSTART:20240331T010000
END:DAYLIGHT
BEGIN:STANDARD
TZOFFSETFROM:+0200
TZOFFSETTO:+0100
TZNAME:CET
DTSTART:20241027T010000
END:STANDARD
BEGIN:DAYLIGHT
TZOFFSETFROM:+0100
TZOFFSETTO:+0200
TZNAME:CEST
DTSTART:20250330T010000
END:DAYLIGHT
BEGIN:STANDARD
TZOFFSETFROM:+0200
TZOFFSETTO:+0100
TZNAME:CET
DTSTART:20251026T010000
END:STANDARD
BEGIN:DAYLIGHT
TZOFFSETFROM:+0100
TZOFFSETTO:+0200
TZNAME:CEST
DTSTART:20260329T010000
END:DAYLIGHT
BEGIN:STANDARD
TZOFFSETFROM:+0200
TZOFFSETTO:+0100
TZNAME:CET
DTSTART:20261025T010000
END:STANDARD
END:VTIMEZONE
BEGIN:VEVENT
DTSTART;VALUE=DATE:20251219
DTEND;VALUE=DATE:20251222
DTSTAMP:20260420T010039
CREATED:20251114T092525Z
LAST-MODIFIED:20260328T220912Z
UID:14360-1766102400-1766361599@marktenmeer.nl
SUMMARY:Kerstmarkt Centrum Assen – 19\, 20 & 21 december 2025
DESCRIPTION:Drie dagen lang staat het centrum van Assen volledig in het teken van winterse gezelligheid tijdens de sfeervolle kerstmarkt op 19\, 20 en 21 december 2025. De binnenstad wordt feestelijk aangekleed met fonkelende lichtjes\, winters groen en een mix van kerstmuziek en gezellige drukte. Verspreid door het centrum vind je diverse kramen met kerstcadeaus\, streekproducten\, lekkernijen\, handgemaakte items en winteraccessoires. \nDe markt opent op vrijdag 19 december van 13.00 tot 21.00 uur\, ideaal voor bezoekers die graag in de avond de warme kerstsfeer willen proeven. Op zaterdag 20 december is de markt geopend van 10.00 tot 17.00 uur\, perfect voor een relaxed dagje struinen met familie of vrienden. De afsluitende dag\, zondag 21 december\, loopt van 12.00 tot 17.00 uur en biedt een gemoedelijke weekendbeleving met volop decemberinspiratie. \nDe centrale ligging van de markt maakt het evenement goed bereikbaar en aantrekkelijk voor bezoekers uit de regio. Gezinnen\, dagjesmensen en kerstliefhebbers vinden hier volop inspiratie voor cadeaus en genieten van een gezellige winterbeleving in het hart van Assen. \nLocatie: Centrum Assen
URL:https://marktenmeer.nl/markt/kerstmarkt-centrum-assen-19-20-21-december-2025/
LOCATION:Assen\, Assen\, Netherlands
CATEGORIES:Drenthe,Kerstmarkt Drenthe,Kerstmarkten
END:VEVENT
BEGIN:VEVENT
DTSTART;TZID=Europe/Amsterdam:20251221T100000
DTEND;TZID=Europe/Amsterdam:20251221T170000
DTSTAMP:20260420T010039
CREATED:20251115T100749Z
LAST-MODIFIED:20260328T220858Z
UID:14583-1766311200-1766336400@marktenmeer.nl
SUMMARY:Platenbeurs – Hoogeveen - 21 december 2025
DESCRIPTION:De platenbeurs in Hoogeveen op zondag 21 december 2025 is een geliefde eindejaarseditie en trekt liefhebbers uit de hele regio. Vlak voor de feestdagen bieden standhouders een laatste kans om unieke muziekitems te vinden: van lp’s\, singles en cd’s tot boxsets\, dvd’s en bijzondere lokale vondsten. De beurs staat bekend om de vriendelijke\, laagdrempelige sfeer\, waardoor bezoekers in alle rust kunnen struinen tussen het brede aanbod. \nVeel handelaren nemen richting het einde van het jaar extra voorraad mee\, wat de kans vergroot dat je titels of persingen tegenkomt die je eerder hebt gemist. Zowel beginnende verzamelaars als ervaren kenners waarderen de overzichtelijke opzet: je loopt eenvoudig alle tafels langs zonder iets te missen. \nDe editie van Hoogeveen is vooral populair bij muziekliefhebbers die graag rustig rondsnuffelen\, nieuwe inspiratie opdoen of hun collectie willen uitbreiden met iets speciaals. Dankzij de centrale ligging en het gastvrije karakter is de beurs een ideale bestemming voor een ontspannen muziekdag in de decembermaand.
URL:https://marktenmeer.nl/markt/platenbeurs-hoogeveen-21-december-2025/
LOCATION:Hoogeveen\, Hoogeveen\, Netherlands
CATEGORIES:Drenthe,Platenbeurs,platenbeurzen drenthe
ORGANIZER;CN="Variaworld":MAILTO:info@variaworld.nl
END:VEVENT
BEGIN:VEVENT
DTSTART;TZID=Europe/Amsterdam:20251221T110000
DTEND;TZID=Europe/Amsterdam:20251221T170000
DTSTAMP:20260420T010039
CREATED:20251117T102327Z
LAST-MODIFIED:20260328T220858Z
UID:14738-1766314800-1766336400@marktenmeer.nl
SUMMARY:Kerstmarkt Orvelte 21 december 2025
DESCRIPTION:De kerstmarkt van Orvelte op 21 december vormt de sfeervolle afsluiter van vier dagen kerstdorp in het historische hart van Orvelte. Het gehele dorp wordt aangekleed met lichtjes\, dennengroen\, kransen en warme winterdetails\, waardoor bezoekers direct in decemberstemming komen. Verspreid door het dorp staan kraampjes met handgemaakte producten\, ambachtelijk werk\, lokale lekkernijen\, brocante en winterse decoraties. De combinatie van authentiek erfgoed en feestelijke aankleding maakt deze markt geliefd bij bezoekers die graag een rustige\, warme winteromgeving opzoeken. \nOmdat dit de laatste dag van de reeks is\, kiezen veel mensen ervoor om nog één keer te struinen voor een origineel kerstcadeau of simpelweg te genieten van de gezellige sfeer. De markt heeft een vriendelijk en toegankelijk karakter en is geschikt voor gezinnen\, dagjesmensen en toeristen die op zoek zijn naar een authentieke winterervaring. Dankzij de gemoedelijke sfeer en de diversiteit aan kraampjes vormt deze dag het perfecte slot van de kerstmarkt in Orvelte. \nOpeningstijden: 11.00 – 17.00 uur
URL:https://marktenmeer.nl/markt/kerstmarkt-orvelte-21-december-2025/
LOCATION:Orvelte\, Orvelte\, Netherlands
CATEGORIES:Drenthe,Kerstmarkt Drenthe,Kerstmarkten
END:VEVENT
BEGIN:VEVENT
DTSTART;TZID=Europe/Amsterdam:20251221T120000
DTEND;TZID=Europe/Amsterdam:20251221T170000
DTSTAMP:20260420T010039
CREATED:20251215T130455Z
LAST-MODIFIED:20260328T220858Z
UID:16772-1766318400-1766336400@marktenmeer.nl
SUMMARY:Dickens in Meppel | Koopzondag 21 december 2025
DESCRIPTION:Dickens in Meppel vindt plaats op koopzondag 21 december en tovert het centrum van Meppel om tot een levendig decor uit de tijd van Charles Dickens. Tijdens deze winterse dag wandel je door winkelstraten vol Dickens-personages\, die samen zorgen voor een warme\, nostalgische kerstsfeer. Je komt onder andere figuren tegen als Ebenezer Scrooge\, de boefjes uit Oliver Twist\, wasvrouwen en kwakzalvers\, allemaal gekleed in authentieke kostuums. \n  \nTerwijl je door het centrum struint en winkelt\, geniet je van sfeervolle muziek en tal van extra activiteiten. In de binnenstad zijn onder meer een photo-booth\, gratis poffertjes\, een rijtuig met paarden\, een ouderwets schooltje en wasserij en een kleine draaimolen te vinden. De Christmas Carol Singers zorgen voor herkenbare kerstliederen die perfect passen bij de sfeer van de dag. \n  \nDaarnaast is er een gratis toegankelijk kerstconcert van muziekvereniging Apollo in de Grote of Mariakerk\, wat Dickens in Meppel een extra cultureel tintje geeft. Met meer dan honderd Dickens-karakters verspreid door de stad is dit evenement een feest voor jong en oud. Dickens in Meppel staat garant voor een magische winterdag vol beleving en gezelligheid.
URL:https://marktenmeer.nl/markt/dickens-in-meppel-2025/
LOCATION:Meppel\, Meppel\, Netherlands
CATEGORIES:Drenthe,Kerstmarkt Drenthe,Kerstmarkten
END:VEVENT
END:VCALENDAR