BEGIN:VCALENDAR
VERSION:2.0
PRODID:-//Markten en meer - ECPv6.15.20//NONSGML v1.0//EN
CALSCALE:GREGORIAN
METHOD:PUBLISH
X-ORIGINAL-URL:https://marktenmeer.nl
X-WR-CALDESC:Evenementen voor Markten en meer
REFRESH-INTERVAL;VALUE=DURATION:PT1H
X-Robots-Tag:noindex
X-PUBLISHED-TTL:PT1H
BEGIN:VTIMEZONE
TZID:Europe/Amsterdam
BEGIN:DAYLIGHT
TZOFFSETFROM:+0100
TZOFFSETTO:+0200
TZNAME:CEST
DTSTART:20250330T010000
END:DAYLIGHT
BEGIN:STANDARD
TZOFFSETFROM:+0200
TZOFFSETTO:+0100
TZNAME:CET
DTSTART:20251026T010000
END:STANDARD
BEGIN:DAYLIGHT
TZOFFSETFROM:+0100
TZOFFSETTO:+0200
TZNAME:CEST
DTSTART:20260329T010000
END:DAYLIGHT
BEGIN:STANDARD
TZOFFSETFROM:+0200
TZOFFSETTO:+0100
TZNAME:CET
DTSTART:20261025T010000
END:STANDARD
BEGIN:DAYLIGHT
TZOFFSETFROM:+0100
TZOFFSETTO:+0200
TZNAME:CEST
DTSTART:20270328T010000
END:DAYLIGHT
BEGIN:STANDARD
TZOFFSETFROM:+0200
TZOFFSETTO:+0100
TZNAME:CET
DTSTART:20271031T010000
END:STANDARD
END:VTIMEZONE
BEGIN:VEVENT
DTSTART;TZID=Europe/Amsterdam:20260117T100000
DTEND;TZID=Europe/Amsterdam:20260118T170000
DTSTAMP:20260419T233231
CREATED:20260113T082913Z
LAST-MODIFIED:20260328T220857Z
UID:18207-1768644000-1768755600@marktenmeer.nl
SUMMARY:Dé Noordelijke Motorbeurs – 17 & 18 januari 2026 | Eelde
DESCRIPTION:Op zaterdag 17 en zondag 18 januari 2026 vindt de 28e editie van Dé Noordelijke Motorbeurs plaats in Eelde. Deze toonaangevende motorbeurs is een vaste start van het motorseizoen voor liefhebbers uit heel Noord-Nederland en daarbuiten. \nMet circa 110 bedrijven en organisaties biedt de beurs een breed en gevarieerd aanbod. Bezoekers kunnen nieuwe en gebruikte motoren bekijken\, vergelijken en ontdekken\, maar ook terecht voor motorkleding\, accessoires\, gereedschap\, verzekeringen\, rijopleidingen en motorreizen. Daarnaast zijn diverse organisaties en (overheids)instanties aanwezig\, waaronder de politie en belangenorganisaties. \nVrijwel alle bekende motormerken zijn vertegenwoordigd\, zoals KTM\, Suzuki\, Kawasaki\, Honda\, Yamaha\, BMW\, Triumph en Harley-Davidson. Ook verschillende motorclubs en merkenverenigingen zijn aanwezig\, wat zorgt voor een complete en veelzijdige beursbeleving. \nDe beurs vindt plaats in de Flowerdome Eelde en parkeren is gratis. \nPraktische informatie\n\n📅 Datum: zaterdag 17 & zondag 18 januari 2026\n⏰ Tijd: 10:00 – 17:00 uur\n📍 Locatie: Burgemeester J.G. Legroweg 80\, 9761 TD Eelde\n🎟️ Entree: €14\,- volwassenen | kinderen t/m 12 jaar gratis
URL:https://marktenmeer.nl/markt/noordelijke-motorbeurs-eelde-17-18-januari-2026/
LOCATION:Flowerdome\, Eelde\, Burg. J.G. Legroweg 80\, Eelde\, Netherlands
CATEGORIES:Drenthe,Verzamelbeurs,Verzamelbeurs Drenthe
END:VEVENT
END:VCALENDAR