BEGIN:VCALENDAR
VERSION:2.0
PRODID:-//Markten en meer - ECPv6.15.20//NONSGML v1.0//EN
CALSCALE:GREGORIAN
METHOD:PUBLISH
X-ORIGINAL-URL:https://marktenmeer.nl
X-WR-CALDESC:Evenementen voor Markten en meer
REFRESH-INTERVAL;VALUE=DURATION:PT1H
X-Robots-Tag:noindex
X-PUBLISHED-TTL:PT1H
BEGIN:VTIMEZONE
TZID:Europe/Amsterdam
BEGIN:DAYLIGHT
TZOFFSETFROM:+0100
TZOFFSETTO:+0200
TZNAME:CEST
DTSTART:20250330T010000
END:DAYLIGHT
BEGIN:STANDARD
TZOFFSETFROM:+0200
TZOFFSETTO:+0100
TZNAME:CET
DTSTART:20251026T010000
END:STANDARD
BEGIN:DAYLIGHT
TZOFFSETFROM:+0100
TZOFFSETTO:+0200
TZNAME:CEST
DTSTART:20260329T010000
END:DAYLIGHT
BEGIN:STANDARD
TZOFFSETFROM:+0200
TZOFFSETTO:+0100
TZNAME:CET
DTSTART:20261025T010000
END:STANDARD
BEGIN:DAYLIGHT
TZOFFSETFROM:+0100
TZOFFSETTO:+0200
TZNAME:CEST
DTSTART:20270328T010000
END:DAYLIGHT
BEGIN:STANDARD
TZOFFSETFROM:+0200
TZOFFSETTO:+0100
TZNAME:CET
DTSTART:20271031T010000
END:STANDARD
END:VTIMEZONE
BEGIN:VEVENT
DTSTART;TZID=Europe/Amsterdam:20260221T080000
DTEND;TZID=Europe/Amsterdam:20260221T170000
DTSTAMP:20260419T215109
CREATED:20260222T090341Z
LAST-MODIFIED:20260328T220857Z
UID:19987-1771660800-1771693200@marktenmeer.nl
SUMMARY:Mirai Nexus 2026 – 21 februari 2026 – Meppel
DESCRIPTION:Op zaterdag 21 februari 2026 vindt Mirai Nexus plaats in Meppel. Voor één dag verandert een kerk in een kleurrijke ontmoetingsplek waar anime\, gaming en cosplay samenkomen. \nMirai Nexus is bedoeld voor fans én nieuwsgierige bezoekers. U struint langs standjes met merchandise en handgemaakte items\, neemt deel aan workshops en geniet van optredens op het podium. De historische setting geeft het evenement een eigen sfeer en biedt cosplayers een unieke achtergrond voor foto’s en ontmoetingen. \nProgramma 21 februari 2026\n\n11:30 – 12:00 Anime Opening Quiz\n12:00 – 12:15 Catwalk (vrije inloop)\n12:15 – 13:00 SFX make-up lezing\n13:00 – 13:30 Who’s That Pokémon Quiz\n13:30 – 14:30 Optreden DoReMelody\n14:30 – 15:00 Showcase (op aanmelding)\n15:00 – 15:30 RPD op het podium\n15:30 – 16:30 BonnieBonBun\n16:30 – 17:30 Cosplay upcycle lezing\n17:30 – 17:45 Catwalk (vrije inloop)\n\nHet programma kan worden aangevuld zodra nieuwe onderdelen bekend zijn. \nPraktische informatie\n\nDatum: zaterdag 21 februari 2026\nLocatie: Meppel\nDoelgroep: anime-\, gaming- en cosplayliefhebbers\n\nMirai Nexus belooft een inspirerende dag vol creativiteit\, ontmoeting en popcultuur.
URL:https://marktenmeer.nl/markt/mirai-nexus-2026-meppel-21-februari/
LOCATION:Meppel\, Meppel\, Netherlands
CATEGORIES:Drenthe
END:VEVENT
BEGIN:VEVENT
DTSTART;TZID=Europe/Amsterdam:20260221T090000
DTEND;TZID=Europe/Amsterdam:20260222T160000
DTSTAMP:20260419T215109
CREATED:20251205T091618Z
LAST-MODIFIED:20260328T220857Z
UID:16204-1771664400-1771776000@marktenmeer.nl
SUMMARY:Mega Vlooienmarkt Assen – De Bonte Wever • 21 & 22 februari 2026
DESCRIPTION:Twee dagen snuffelplezier met 225 kramen \nOp 21 en 22 februari vindt de eerste editie van de Mega Vlooienmarkt plaats in de beurshallen van De Bonte Wever in Assen. Deze ruime locatie biedt plek aan maar liefst 225 kramen vol tweedehands schatten\, vintage\, curiosa\, speelgoed\, woonvondsten en verrassende koopjes. Perfect voor wie houdt van snuffelen\, duurzame keuzes of gewoon een gezellig dagje uit. \nDe markt is volledig overdekt en goed toegankelijk\, waardoor bezoekers op beide dagen ontspannen kunnen rondkijken. Dankzij het grote en gevarieerde aanbod vind je altijd wel iets bijzonders: van praktische spullen tot echte pareltjes. De markt is geschikt voor gezinnen\, verzamelaars én nieuwsgierige dagjesmensen. \nKinderen tot en met 12 jaar hebben gratis toegang\, wat het een laagdrempelig uitje maakt. Parkeren is gratis en de locatie ligt centraal\, waardoor de markt makkelijk bereikbaar is. \n📅 Zaterdag 21 & zondag 22 februari 2026🕘 09:00 – 16:00 uur📍 De Bonte Wever\, Assen🎟️ Entree: €4\,- p.p. (t/m 12 jaar gratis)
URL:https://marktenmeer.nl/markt/mega-vlooienmarkt-assen-21-22-februari-2026/
LOCATION:De Bonte Wever\, Assen\, Assen\, Netherlands
CATEGORIES:Drenthe,Rommelmarkten,Rommelmarkten Drenthe
END:VEVENT
BEGIN:VEVENT
DTSTART;TZID=Europe/Amsterdam:20260221T093000
DTEND;TZID=Europe/Amsterdam:20260221T140000
DTSTAMP:20260419T215109
CREATED:20260113T082540Z
LAST-MODIFIED:20260328T220857Z
UID:18204-1771666200-1771682400@marktenmeer.nl
SUMMARY:Grote Boekenmarkt Koepelkerk Smilde – zaterdag 21 februari 2026
DESCRIPTION:In Smilde wordt op zaterdag 21 februari 2026 opnieuw de Grote Boekenmarkt in de Koepelkerk georganiseerd. Deze jaarlijkse boekenmarkt\, die traditioneel plaatsvindt op de derde zaterdag van februari\, trekt al jaren veel bezoekers uit de regio en daarbuiten. \nHet hele jaar door zijn boeken en tijdschriften ingezameld en zorgvuldig geselecteerd door vrijwilligers van de kerkcommissie. De collectie is overzichtelijk gesorteerd: romans apart en non-fictie per onderwerp. Daardoor kun je gericht zoeken naar een specifiek boek\, thema of hobby. Medewerkers in de kerk helpen je graag bij het vinden van een titel. \nDe boeken staan zowel beneden als boven in de kerk uitgestald. Een lift is aanwezig en betalen met pin is mogelijk. De volledige opbrengst van de markt komt ten goede aan het onderhoud van de monumentale Koepelkerk Smilde. \nIedereen is van harte welkom. \nPraktische informatie\n\n📅 Datum: zaterdag 21 februari 2026\n⏰ Tijd: 09:30 – 14:00 uur\n🎟️ Toegang: gratis\n📍 Locatie: Veenhoopsweg 13\, 9422 AA Smilde
URL:https://marktenmeer.nl/markt/boekenmarkt-smilde-februari-2026/
LOCATION:Koepelkerk\, Smilde\, Veenhoopsweg 13\, Smilde\, 9422 AA\, Netherlands
CATEGORIES:Boekenmarkt,Boekenmarkt Drenthe,Drenthe
END:VEVENT
BEGIN:VEVENT
DTSTART;TZID=Europe/Amsterdam:20260221T100000
DTEND;TZID=Europe/Amsterdam:20260222T163000
DTSTAMP:20260419T215109
CREATED:20260113T083447Z
LAST-MODIFIED:20260328T220857Z
UID:18209-1771668000-1771777800@marktenmeer.nl
SUMMARY:Heerlijk Landleven Winterfair Exloo – 21 & 22 februari 2026
DESCRIPTION:Op zaterdag 21 en zondag 22 februari 2026 vindt de Heerlijk Landleven Winterfair Exloo plaats in het Hippisch Centrum Exloo. Deze sfeervolle winterfair brengt meer dan 120 specialisten samen op het gebied van wol\, lifestyle\, kunst\, mode en streekproducten. \nBezoekers kunnen rekenen op een warme en ontspannen sfeer\, met volop inspiratie voor liefhebbers van het buitenleven. Struin langs stands vol ambachtelijke creaties\, ontdek unieke mode- en lifestyleproducten en proef eerlijke streeklekkernijen. Verspreid over het terrein zorgen foodtrucks voor heerlijke geuren en smaken\, ideaal voor een pauze tussendoor. \nDe Winterfair is een perfect uitje voor een dag samen met familie of vrienden. De ligging midden in de natuur van de Drentse Hondsrug maakt het plaatje compleet. Hier draait het om ontmoeten\, ontdekken en genieten van vakmanschap en gezelligheid in winterse sferen. \nPraktische informatie\n\n📅 Datum: zaterdag 21 & zondag 22 februari 2026\n⏰ Openingstijden:\nZaterdag: 11:00 – 16:30 uur\nZondag: 10:00 – 16:30 uur\n📍 Locatie: Valtherweg 27A\, Exloo\n🎟️ Entree: gratis
URL:https://marktenmeer.nl/markt/heerlijk-landleven-winterfair-exloo-21-22-februari-2026/
LOCATION:Hippisch Centrum Exloo\, Valtherweg 27A\, Exloo\, Netherlands
CATEGORIES:belevenismarkten / lifestylemarkten,Creatieve Markt Drenthe,Creatieve markten,Drenthe,Streekmarkt,Streekmarkt Drenthe
END:VEVENT
END:VCALENDAR