BEGIN:VCALENDAR
VERSION:2.0
PRODID:-//Markten en meer - ECPv6.15.20//NONSGML v1.0//EN
CALSCALE:GREGORIAN
METHOD:PUBLISH
X-WR-CALNAME:Markten en meer
X-ORIGINAL-URL:https://marktenmeer.nl
X-WR-CALDESC:Evenementen voor Markten en meer
REFRESH-INTERVAL;VALUE=DURATION:PT1H
X-Robots-Tag:noindex
X-PUBLISHED-TTL:PT1H
BEGIN:VTIMEZONE
TZID:Europe/Amsterdam
BEGIN:DAYLIGHT
TZOFFSETFROM:+0100
TZOFFSETTO:+0200
TZNAME:CEST
DTSTART:20250330T010000
END:DAYLIGHT
BEGIN:STANDARD
TZOFFSETFROM:+0200
TZOFFSETTO:+0100
TZNAME:CET
DTSTART:20251026T010000
END:STANDARD
BEGIN:DAYLIGHT
TZOFFSETFROM:+0100
TZOFFSETTO:+0200
TZNAME:CEST
DTSTART:20260329T010000
END:DAYLIGHT
BEGIN:STANDARD
TZOFFSETFROM:+0200
TZOFFSETTO:+0100
TZNAME:CET
DTSTART:20261025T010000
END:STANDARD
BEGIN:DAYLIGHT
TZOFFSETFROM:+0100
TZOFFSETTO:+0200
TZNAME:CEST
DTSTART:20270328T010000
END:DAYLIGHT
BEGIN:STANDARD
TZOFFSETFROM:+0200
TZOFFSETTO:+0100
TZNAME:CET
DTSTART:20271031T010000
END:STANDARD
END:VTIMEZONE
BEGIN:VEVENT
DTSTART;TZID=Europe/Amsterdam:20260228T093000
DTEND;TZID=Europe/Amsterdam:20260228T153000
DTSTAMP:20260419T215531
CREATED:20260114T095438Z
LAST-MODIFIED:20260328T220857Z
UID:18233-1772271000-1772292600@marktenmeer.nl
SUMMARY:Oale Laifde – Motor- & Brommer Onderdelenmarkt Exloo 2026
DESCRIPTION:Op zaterdag 28 februari 2026 organiseert Stichting Oale Laifde een sfeervolle motor- en brommer onderdelenmarkt in het Hippisch Centrum Exloo. Deze markt is dé ontmoetingsplek voor liefhebbers van klassieke motoren\, brommers en originele onderdelen. \nMet ruim 70 standhouders is er een breed aanbod van complete motoren en brommers tot onderdelen\, accessoires en technische vondsten. Of je nu gericht zoekt naar een specifiek onderdeel of gewoon wilt rondkijken tussen gelijkgestemden: hier haal je je hart op. \nDe markt is ontstaan uit pure passie voor oldtimers en vervangt bekende markten die verdwenen zijn. Dat voel je in de gemoedelijke sfeer en de betrokken organisatie. Parkeren is gratis en kinderen tot 12 jaar mogen gratis naar binnen. \nPraktische informatie\n\n📅 Datum: zaterdag 28 februari 2026\n⏰ Tijd: 09:30 – 15:30 uur\n📍 Locatie: Hippisch Centrum Exloo\, Valtherweg 27A\, Exloo\n🎟️ Entree: €8\,- | kinderen t/m 12 jaar gratis\n🚗 Parkeren: gratis
URL:https://marktenmeer.nl/markt/oale-laifde-motor-brommer-onderdelenmarkt-exloo-2026/
LOCATION:Hippisch Centrum Exloo\, Valtherweg 27A\, Exloo\, Netherlands
CATEGORIES:Drenthe,Verzamelbeurs,Verzamelbeurs Drenthe
END:VEVENT
END:VCALENDAR