BEGIN:VCALENDAR
VERSION:2.0
PRODID:-//Markten en meer - ECPv6.15.20//NONSGML v1.0//EN
CALSCALE:GREGORIAN
METHOD:PUBLISH
X-WR-CALNAME:Markten en meer
X-ORIGINAL-URL:https://marktenmeer.nl
X-WR-CALDESC:Evenementen voor Markten en meer
REFRESH-INTERVAL;VALUE=DURATION:PT1H
X-Robots-Tag:noindex
X-PUBLISHED-TTL:PT1H
BEGIN:VTIMEZONE
TZID:Europe/Amsterdam
BEGIN:DAYLIGHT
TZOFFSETFROM:+0100
TZOFFSETTO:+0200
TZNAME:CEST
DTSTART:20250330T010000
END:DAYLIGHT
BEGIN:STANDARD
TZOFFSETFROM:+0200
TZOFFSETTO:+0100
TZNAME:CET
DTSTART:20251026T010000
END:STANDARD
BEGIN:DAYLIGHT
TZOFFSETFROM:+0100
TZOFFSETTO:+0200
TZNAME:CEST
DTSTART:20260329T010000
END:DAYLIGHT
BEGIN:STANDARD
TZOFFSETFROM:+0200
TZOFFSETTO:+0100
TZNAME:CET
DTSTART:20261025T010000
END:STANDARD
BEGIN:DAYLIGHT
TZOFFSETFROM:+0100
TZOFFSETTO:+0200
TZNAME:CEST
DTSTART:20270328T010000
END:DAYLIGHT
BEGIN:STANDARD
TZOFFSETFROM:+0200
TZOFFSETTO:+0100
TZNAME:CET
DTSTART:20271031T010000
END:STANDARD
END:VTIMEZONE
BEGIN:VEVENT
DTSTART;TZID=Europe/Amsterdam:20260307T090000
DTEND;TZID=Europe/Amsterdam:20260307T140000
DTSTAMP:20260419T213610
CREATED:20260308T131645Z
LAST-MODIFIED:20260328T220857Z
UID:21845-1772874000-1772892000@marktenmeer.nl
SUMMARY:Biologische Boerenmarkt Vledder – 7 maart 2026
DESCRIPTION:Op zaterdag 7 maart 2026 vindt in Vledder (Drenthe) de Biologische Boerenmarkt plaats. Deze streekmarkt staat in het teken van biologische en lokale producten en wordt wekelijks georganiseerd bij restaurant De Tippe op het Lesturgeonplein. Bezoekers kunnen hier terecht voor verse producten rechtstreeks van producenten en lokale aanbieders. \nDe markt biedt een gevarieerd aanbod van biologische producten. Denk aan verse groenten en fruit\, brood en banket\, kaas\, vlees en kruidenierswaren. Daarnaast zijn er regelmatig extra kramen met onder andere Griekse producten\, bloemen\, tuingereedschap of kleding. Hierdoor is de markt niet alleen geschikt voor dagelijkse boodschappen\, maar ook voor bezoekers die graag lokale producten ontdekken. \nVoor bezoekers\nDe biologische boerenmarkt vindt plaats op het plein bij restaurant De Tippe in Vledder. \nPraktische informatie: \n\nDatum: zaterdag 7 maart 2026\nTijd: 09:00 – 14:00 uur\nPlaats: Vledder\nLocatie: Restaurant De Tippe\, Lesturgeonplein 5\, Vledder\nEntree: gratis\n\nBezoekers kunnen hier biologische producten kopen en kennismaken met verschillende lokale aanbieders. \nVoor standhouders\nStandhouders met biologische of streekproducten kunnen mogelijk deelnemen aan de markt. \nDe Biologische Boerenmarkt in Vledder is een wekelijkse markt waar bezoekers terecht kunnen voor biologische producten en streekproducten.
URL:https://marktenmeer.nl/markt/biologische-boerenmarkt-vledder-7-maart-2026/
LOCATION:Vledder\, Vledder\, Netherlands
CATEGORIES:Drenthe,Streekmarkt,Streekmarkt Drenthe
END:VEVENT
END:VCALENDAR