BEGIN:VCALENDAR
VERSION:2.0
PRODID:-//Markten en meer - ECPv6.15.20//NONSGML v1.0//EN
CALSCALE:GREGORIAN
METHOD:PUBLISH
X-ORIGINAL-URL:https://marktenmeer.nl
X-WR-CALDESC:Evenementen voor Markten en meer
REFRESH-INTERVAL;VALUE=DURATION:PT1H
X-Robots-Tag:noindex
X-PUBLISHED-TTL:PT1H
BEGIN:VTIMEZONE
TZID:Europe/Amsterdam
BEGIN:DAYLIGHT
TZOFFSETFROM:+0100
TZOFFSETTO:+0200
TZNAME:CEST
DTSTART:20250330T010000
END:DAYLIGHT
BEGIN:STANDARD
TZOFFSETFROM:+0200
TZOFFSETTO:+0100
TZNAME:CET
DTSTART:20251026T010000
END:STANDARD
BEGIN:DAYLIGHT
TZOFFSETFROM:+0100
TZOFFSETTO:+0200
TZNAME:CEST
DTSTART:20260329T010000
END:DAYLIGHT
BEGIN:STANDARD
TZOFFSETFROM:+0200
TZOFFSETTO:+0100
TZNAME:CET
DTSTART:20261025T010000
END:STANDARD
BEGIN:DAYLIGHT
TZOFFSETFROM:+0100
TZOFFSETTO:+0200
TZNAME:CEST
DTSTART:20270328T010000
END:DAYLIGHT
BEGIN:STANDARD
TZOFFSETFROM:+0200
TZOFFSETTO:+0100
TZNAME:CET
DTSTART:20271031T010000
END:STANDARD
END:VTIMEZONE
BEGIN:VEVENT
DTSTART;TZID=Europe/Amsterdam:20260403T100000
DTEND;TZID=Europe/Amsterdam:20260405T170000
DTSTAMP:20260419T213631
CREATED:20260330T122649Z
LAST-MODIFIED:20260330T122649Z
UID:24119-1775210400-1775408400@marktenmeer.nl
SUMMARY:Brocante & Antiek Paasroute Drenthe – Drenthe – 3 t/m 5 april 2026
DESCRIPTION:Van vrijdag 3 tot en met zondag 5 april 2026 kun je tijdens het paasweekend genieten van de sfeervolle brocante en antiek route in Drenthe. Verspreid over de provincie openen aangesloten winkels hun deuren voor bezoekers die houden van brocante\, antiek en vintage. In plaats van één centrale markt bezoek je meerdere locaties\, waardoor je zelf je route bepaalt en onderweg het Drentse landschap ontdekt. \nSfeer en aanbod\nDe Brocante & Antiek Paasroute staat bekend om de rustige en inspirerende sfeer. Je struint van winkel naar winkel en ontdekt een gevarieerd aanbod van brocante\, antiek\, curiosa en vintage vondsten. Elke winkel heeft een eigen stijl en inrichting\, samengesteld door gepassioneerde brocanteurs. Onderweg combineer je het bezoek met een dagje uit\, inclusief koffie of een korte pauze in de omgeving. \nDeelnemende plaatsen en winkels zijn onder andere: \n\nAnnen – Loods66\nEext – De Weeghals\nEmmen – De Brocante Kip\nNieuw-Buinen – Holmhuis\nNieuw Weerdinge – Jets Brocantiek & Mio Casa Fiora\nNorg – Carlotte\nOosterhesselen – Het Kroontje\nPaterswolde – bij De Palderhoeve\nRolde – Blij van Toen\nTynaarlo – Pronckgoedt\nVries – Het Koetshuis\nWesterbork – Brocantje van Bork\nWezup – Pand28\n\nVoor bezoekers\n\nDatum: vrijdag 3 t/m zondag 5 april 2026\nTijd: 10.00 – 17.00 uur\nLocatie: diverse winkels verspreid door Drenthe\nEntree: gratis\nAanbod: brocante\, antiek\, curiosa en vintage\nBijzonder: je bepaalt zelf je route\nTip: plan vooraf je route via de website of folder\n\nEen ontspannen en veelzijdige route langs brocante en antiek in het Drentse landschap.
URL:https://marktenmeer.nl/markt/brocante-antiek-route-drenthe-april-2026/
CATEGORIES:Antiek- en curiosamarkten,Brocantemarkten,Brocantemarkten Drenthe,Drenthe
END:VEVENT
END:VCALENDAR