BEGIN:VCALENDAR
VERSION:2.0
PRODID:-//Markten en meer - ECPv6.15.20//NONSGML v1.0//EN
CALSCALE:GREGORIAN
METHOD:PUBLISH
X-ORIGINAL-URL:https://marktenmeer.nl
X-WR-CALDESC:Evenementen voor Markten en meer
REFRESH-INTERVAL;VALUE=DURATION:PT1H
X-Robots-Tag:noindex
X-PUBLISHED-TTL:PT1H
BEGIN:VTIMEZONE
TZID:Europe/Amsterdam
BEGIN:DAYLIGHT
TZOFFSETFROM:+0100
TZOFFSETTO:+0200
TZNAME:CEST
DTSTART:20250330T010000
END:DAYLIGHT
BEGIN:STANDARD
TZOFFSETFROM:+0200
TZOFFSETTO:+0100
TZNAME:CET
DTSTART:20251026T010000
END:STANDARD
BEGIN:DAYLIGHT
TZOFFSETFROM:+0100
TZOFFSETTO:+0200
TZNAME:CEST
DTSTART:20260329T010000
END:DAYLIGHT
BEGIN:STANDARD
TZOFFSETFROM:+0200
TZOFFSETTO:+0100
TZNAME:CET
DTSTART:20261025T010000
END:STANDARD
BEGIN:DAYLIGHT
TZOFFSETFROM:+0100
TZOFFSETTO:+0200
TZNAME:CEST
DTSTART:20270328T010000
END:DAYLIGHT
BEGIN:STANDARD
TZOFFSETFROM:+0200
TZOFFSETTO:+0100
TZNAME:CET
DTSTART:20271031T010000
END:STANDARD
END:VTIMEZONE
BEGIN:VEVENT
DTSTART;TZID=Europe/Amsterdam:20260513T093000
DTEND;TZID=Europe/Amsterdam:20260513T153000
DTSTAMP:20260419T181754
CREATED:20260114T115030Z
LAST-MODIFIED:20260328T220841Z
UID:18242-1778664600-1778686200@marktenmeer.nl
SUMMARY:Plantjesmarkt Het Tuinhuis Nooitgedacht – 13 mei 2026
DESCRIPTION:Op woensdag 13 mei 2026 organiseert dagbestedingslocatie Het Tuinhuis in Nooitgedacht voor de 8e keer de jaarlijkse Plantjesmarkt. Wat ooit klein begon\, is inmiddels uitgegroeid tot een gezellige markt en braderie met ruim 50 kramen en een verrassend breed aanbod. \nNaast plantjes en groen vind je er producten van lokale ondernemers\, dagbestedingslocaties en maatschappelijke instellingen\, allemaal met zorg en aandacht gemaakt. De markt draait om ontmoeten\, genieten en samen beleven. \nEr is livemuziek van diverse artiesten\, volop lekkernijen én een wisselend aanbod aan activiteiten voor cliënten en bezoekers. Extra fijn: toegang\, parkeren én koffie\, thee en limonade zijn de hele dag gratis. \nEen warm\, laagdrempelig evenement waar iedereen zich welkom voelt – een echt feestje voor liefhebbers van gezelligheid. \nPraktische informatie\n\n📅 Datum: Woensdag 13 mei 2026\n⏰ Tijd: 09:30 – 15:30 uur\n📍 Locatie: Het Tuinhuis\, Stroetenweg 33A\, 9449 PD Nooitgedacht\n🎟️ Entree: gratis\n🚗 Parkeren: gratis
URL:https://marktenmeer.nl/markt/plantjesmarkt-nooitgedacht-2026/
LOCATION:Het Tuinhuis\, Nooitgedacht\, Stroetenweg 33A\, Nooitgedacht\, 9449 PD\, Netherlands
CATEGORIES:belevenismarkten / lifestylemarkten,Drenthe
END:VEVENT
END:VCALENDAR