BEGIN:VCALENDAR
VERSION:2.0
PRODID:-//Markten en meer - ECPv6.15.20//NONSGML v1.0//EN
CALSCALE:GREGORIAN
METHOD:PUBLISH
X-ORIGINAL-URL:https://marktenmeer.nl
X-WR-CALDESC:Evenementen voor Markten en meer
REFRESH-INTERVAL;VALUE=DURATION:PT1H
X-Robots-Tag:noindex
X-PUBLISHED-TTL:PT1H
BEGIN:VTIMEZONE
TZID:Europe/Amsterdam
BEGIN:DAYLIGHT
TZOFFSETFROM:+0100
TZOFFSETTO:+0200
TZNAME:CEST
DTSTART:20250330T010000
END:DAYLIGHT
BEGIN:STANDARD
TZOFFSETFROM:+0200
TZOFFSETTO:+0100
TZNAME:CET
DTSTART:20251026T010000
END:STANDARD
BEGIN:DAYLIGHT
TZOFFSETFROM:+0100
TZOFFSETTO:+0200
TZNAME:CEST
DTSTART:20260329T010000
END:DAYLIGHT
BEGIN:STANDARD
TZOFFSETFROM:+0200
TZOFFSETTO:+0100
TZNAME:CET
DTSTART:20261025T010000
END:STANDARD
BEGIN:DAYLIGHT
TZOFFSETFROM:+0100
TZOFFSETTO:+0200
TZNAME:CEST
DTSTART:20270328T010000
END:DAYLIGHT
BEGIN:STANDARD
TZOFFSETFROM:+0200
TZOFFSETTO:+0100
TZNAME:CET
DTSTART:20271031T010000
END:STANDARD
END:VTIMEZONE
BEGIN:VEVENT
DTSTART;VALUE=DATE:20260514
DTEND;VALUE=DATE:20260515
DTSTAMP:20260419T171038
CREATED:20251220T101336Z
LAST-MODIFIED:20260328T220841Z
UID:17195-1778716800-1778803199@marktenmeer.nl
SUMMARY:Hemelvaartsmarkt Orvelte – donderdag 14 mei 2026
DESCRIPTION:Op donderdag 14 mei 2026 staat het monumentendorp Orvelte volledig in het teken van de Hemelvaartsmarkt. In het hart van dit schilderachtige\, autovrije dorp struin je langs een sfeervolle en gevarieerde markt met een duidelijk landelijk karakter. \nOrvelte behoort volgens de ANWB tot de top 5 mooiste dorpen van Nederland – en tijdens deze markt zie je meteen waarom. De kramen sluiten perfect aan bij de historische uitstraling van het dorp en liggen verspreid langs de gezellige klinkerweggetjes en de Brink. \nTijdens de Hemelvaartsmarkt zijn alle winkels\, horecazaken en terrassen geopend\, waardoor een bezoek aan de markt eenvoudig te combineren is met een lunch\, koffie of dagje uit in Drenthe. De organisatie staat bekend om haar motto: “Sfeer gegarandeerd” – en dat merk je aan alles. \nPraktische informatie\n\n📅 Datum: Donderdag 14 mei 2026 (Hemelvaart)\n⏰ Tijd: 10:00 – 17:00 uur\n📍 Locatie: Brink\, 9441 PJ Orvelte\n🎟️ Entree: gratis\n🛍️ Extra: winkels & horeca geopend
URL:https://marktenmeer.nl/markt/hemelvaartsmarkt-orvelte-2026/
LOCATION:Orvelte\, Orvelte\, Netherlands
CATEGORIES:Drenthe,Fairs
END:VEVENT
BEGIN:VEVENT
DTSTART;TZID=Europe/Amsterdam:20260514T100000
DTEND;TZID=Europe/Amsterdam:20260514T170000
DTSTAMP:20260419T171038
CREATED:20260401T104652Z
LAST-MODIFIED:20260401T104652Z
UID:24253-1778752800-1778778000@marktenmeer.nl
SUMMARY:Kleintje Rodermarkt – Roden – 14 mei 2026
DESCRIPTION:De Kleintje Rodermarkt in Roden is een traditionele jaarmarkt die plaatsvindt tijdens de feestweek rond Hemelvaartsdag. Dit evenement trekt jaarlijks veel bezoekers en maakt deel uit van een breder programma met muziek en kermis. De markt in Roden biedt een gevarieerd aanbod en is een vast moment voor wie houdt van een levendige en toegankelijke markt. \nDe combinatie van een jaarmarkt met festiviteiten zorgt voor een dynamische sfeer. Je vindt er kramen met uiteenlopende producten\, van kleding en accessoires tot woonartikelen en lekkernijen. Door de aanwezigheid van muziek en kermis ontstaat een drukbezochte en gezellige omgeving waar bezoekers gemakkelijk een paar uur doorbrengen. \nVoor bezoekers\n\nDatum: donderdag 14 mei\nTijd: 10:00 – 17:00 uur\nLocatie: centrum van Roden\nType markt: jaarmarkt tijdens feestweek\nAanbod: diverse kramen met onder andere kleding\, accessoires\, food en non-food\nSfeer: levendig\, feestelijk en drukbezocht\n\nVoor standhouders\n\nKraamprijs: €55\,00 (inclusief grondplaats en btw)\nGrondplaats: €6\,50 per meter\nVlomarkt: €3\,00 per meter\nStroom: op aanvraag\nFood: toegestaan in overleg en op aanvraag\nDoelgroep: breed publiek\, bezoekers van de feestweek en dagjesmensen\n\nAanmelden kan via de marktlijst door de gewenste markt(en) te selecteren en je gegevens in te vullen. Na verzending ontvang je een bevestiging of annulering. Zonder bevestiging is je deelname niet definitief. \nBetaling gebeurt contant op de markt; je ontvangt een kwitantie. Door inschrijving ga je akkoord met de geldende voorwaarden. \nEen traditionele jaarmarkt met een levendige sfeer en breed aanbod.
URL:https://marktenmeer.nl/markt/kleintje-rodermarkt-roden-14-mei-2026/
LOCATION:Roden\, Roden\, Netherlands
CATEGORIES:Braderie Drenthe,Braderieën,Drenthe,Rommelmarkten,Rommelmarkten Drenthe
END:VEVENT
BEGIN:VEVENT
DTSTART;TZID=Europe/Amsterdam:20260514T110000
DTEND;TZID=Europe/Amsterdam:20260514T170000
DTSTAMP:20260419T171038
CREATED:20260328T091721Z
LAST-MODIFIED:20260328T220841Z
UID:23827-1778756400-1778778000@marktenmeer.nl
SUMMARY:Braderie en vlomarkt Exloo – 14 mei 2026
DESCRIPTION:De braderie en vlomarkt in Exloo op 14 mei 2026 is een toegankelijke markt waar je rustig langs de kramen kunt wandelen. In het centrum van het dorp vind je een combinatie van braderiekramen en tweedehands verkoop\, wat zorgt voor een gevarieerd aanbod. Deze markt in Exloo is geschikt voor een breed publiek: van bezoekers die gericht iets zoeken tot mensen die gewoon willen rondkijken. Door de mix van nieuw en gebruikt ontstaat een afwisselende marktdag. \nDe sfeer is gemoedelijk en dorps. Standhouders uit de regio en daarbuiten bieden uiteenlopende producten aan\, van kleding en accessoires tot curiosa en praktische spullen. De braderie en vlomarkt in Exloo trekt bezoekers die graag struinen en verrast willen worden door het aanbod. Door de ligging in het dorp is de markt goed te combineren met een wandeling of fietstocht in de omgeving. \nVoor bezoekers\n\nDatum: donderdag 14 mei 2026\nTijd: 11:00 – 17:00\nLocatie: Zuiderhoofdstraat / Schoolstraat\, Exloo\nEntree: gratis\nType markt: braderie en vlomarkt\nAanbod: combinatie van nieuwe en tweedehands producten.\n\nVoor standhouders\nDeze markt in Exloo biedt ruimte voor zowel braderiekramen als deelnemers aan de vlomarkt. Door de combinatie van typen standhouders trekt het evenement een gevarieerd publiek. \n\nKraamprijs braderie: €46\,- (incl. 4 meter grondplaats)\nGrondplaats braderie: €7\,- per meter (minimaal 4 meter)\nStroom (230V): €8\,- per aansluiting\nHobbykraam: €30\,- (incl. 4 meter\, voorwaarden van toepassing)\nVlomarkt grondplaats: €3\,- per meter (minimaal 5 meter)\nKraam vlomarkt: €30\,- (optioneel\, reserveren via inschrijving)\nStroom aanwezig: ja\nDoelgroep: breed publiek\, met interesse in markten en tweedehands aanbod\n\nDeze braderie en vlomarkt in Exloo biedt een toegankelijke en gevarieerde marktdag.
URL:https://marktenmeer.nl/markt/braderie-vlomarkt-exloo-14-mei-2026/
LOCATION:Exloo\, Exloo\, Netherlands
CATEGORIES:Braderie Drenthe,Braderieën,Drenthe,Rommelmarkten,Rommelmarkten Drenthe
END:VEVENT
BEGIN:VEVENT
DTSTART;TZID=Europe/Amsterdam:20260514T110000
DTEND;TZID=Europe/Amsterdam:20260514T170000
DTSTAMP:20260419T171038
CREATED:20260401T131652Z
LAST-MODIFIED:20260401T131652Z
UID:24312-1778756400-1778778000@marktenmeer.nl
SUMMARY:Kunstmarkt Diever – 14 mei 2026
DESCRIPTION:De Kunstmarkt in Diever op 14 mei 2026 is een jaarlijkse markt rondom de Pancratiuskerk. Deze markt in Diever richt zich op kunst\, ambacht en creatieve producten en trekt bezoekers die geïnteresseerd zijn in originele en handgemaakte items. De setting rondom de kerk geeft het evenement een rustige en karaktervolle uitstraling. \nHet aanbod bestaat uit kunstwerken\, handgemaakte producten en creatieve materialen. Bezoekers kunnen in gesprek gaan met makers en kunstenaars\, wat zorgt voor een persoonlijke en laagdrempelige sfeer. De combinatie van locatie en aanbod maakt deze kunstmarkt anders dan een reguliere braderie en aantrekkelijk voor liefhebbers van creatief werk. \nVoor bezoekers\n\nDatum: donderdag 14 mei 2026\nTijd: 11:00 – 17:00 uur\nLocatie: rondom de Pancratiuskerk in Diever\nType markt: kunstmarkt\nAanbod: kunst\, handgemaakte producten en creatieve artikelen\nSfeer: rustig\, creatief en kleinschalig\n\nVoor standhouders\n\nKraamprijs: €50\,00 (inclusief grondplaats en btw)\nGrondplaats: in overleg\nStroom: op aanvraag\nDoelgroep: kunstliefhebbers\, dagjesmensen en bezoekers uit de regio\n\nAanmelden kan via de marktlijst door de gewenste markt(en) aan te vinken en je gegevens in te vullen. Na verzending ontvang je een bevestiging of annulering. Zonder bevestiging is deelname niet definitief. \nBetaling gebeurt contant op de markt; je ontvangt een kwitantie. Door inschrijving ga je akkoord met de geldende voorwaarden. \nEen kleinschalige markt waar kunst en ambacht centraal staan.
URL:https://marktenmeer.nl/markt/kunstmarkt-diever-14-mei-2026/
LOCATION:Diever\, Diever\, Netherlands
CATEGORIES:Creatieve Markt Drenthe,Creatieve markten,Drenthe
END:VEVENT
END:VCALENDAR