BEGIN:VCALENDAR
VERSION:2.0
PRODID:-//Markten en meer - ECPv6.15.20//NONSGML v1.0//EN
CALSCALE:GREGORIAN
METHOD:PUBLISH
X-ORIGINAL-URL:https://marktenmeer.nl
X-WR-CALDESC:Evenementen voor Markten en meer
REFRESH-INTERVAL;VALUE=DURATION:PT1H
X-Robots-Tag:noindex
X-PUBLISHED-TTL:PT1H
BEGIN:VTIMEZONE
TZID:Europe/Amsterdam
BEGIN:DAYLIGHT
TZOFFSETFROM:+0100
TZOFFSETTO:+0200
TZNAME:CEST
DTSTART:20250330T010000
END:DAYLIGHT
BEGIN:STANDARD
TZOFFSETFROM:+0200
TZOFFSETTO:+0100
TZNAME:CET
DTSTART:20251026T010000
END:STANDARD
BEGIN:DAYLIGHT
TZOFFSETFROM:+0100
TZOFFSETTO:+0200
TZNAME:CEST
DTSTART:20260329T010000
END:DAYLIGHT
BEGIN:STANDARD
TZOFFSETFROM:+0200
TZOFFSETTO:+0100
TZNAME:CET
DTSTART:20261025T010000
END:STANDARD
BEGIN:DAYLIGHT
TZOFFSETFROM:+0100
TZOFFSETTO:+0200
TZNAME:CEST
DTSTART:20270328T010000
END:DAYLIGHT
BEGIN:STANDARD
TZOFFSETFROM:+0200
TZOFFSETTO:+0100
TZNAME:CET
DTSTART:20271031T010000
END:STANDARD
END:VTIMEZONE
BEGIN:VEVENT
DTSTART;TZID=Europe/Amsterdam:20260524T100000
DTEND;TZID=Europe/Amsterdam:20260525T170000
DTSTAMP:20260419T171117
CREATED:20260114T124414Z
LAST-MODIFIED:20260328T220826Z
UID:18246-1779616800-1779728400@marktenmeer.nl
SUMMARY:Plattelandsfeest Paard & Erfgoed 2026 – Frederiksoord  Zondag 24 & maandag 25 mei 2026
DESCRIPTION:Op zondag 24 en maandag 25 mei 2026 vormt Tuinen van Frederiksoord het decor van Paard & Erfgoed: een stijlvol plattelandsfeest en paardenevenement voor iedereen die houdt van het buitenleven\, erfgoed en ambacht. \nTijdens dit tweedaagse evenement is er een doorlopend programma met indrukwekkende paardenshows\, roofvogelshows\, hondenshows en demonstraties schapendrijven. Verspreid over het terrein vind je een plattelandsmarkt\, oude trekkers\, authentieke woonwagens en oude ambachten. Voor kinderen zijn er volop activiteiten\, waardoor Paard & Erfgoed een ideaal gezinsuitje is. \nBijzonder aan Paard & Erfgoed is het sociale karakter: het evenement wordt mede georganiseerd met mensen met een beperking of met afstand tot de arbeidsmarkt. Dat maakt een bezoek niet alleen leuk\, maar ook betekenisvol. \nPraktische informatie\n\n📅 Datum: zondag 24 & maandag 25 mei 2026\n⏰ Tijd: 10:00 – 17:00 uur\n📍 Locatie: Majoor van Swietenlaan 1b\, 8382 CE Frederiksoord\n🎟️ Entree:\n\n\n\nVolwassenen: €9\,- \n\n\nKinderen (4 t/m 12 jaar): €5\,-
URL:https://marktenmeer.nl/markt/paard-en-erfgoed-frederiksoord-2026/
LOCATION:De Tuinen\, Frederiksoord\, Frederiksoord\, Netherlands
CATEGORIES:belevenismarkten / lifestylemarkten,Drenthe
END:VEVENT
BEGIN:VEVENT
DTSTART;TZID=Europe/Amsterdam:20260525T100000
DTEND;TZID=Europe/Amsterdam:20260525T163000
DTSTAMP:20260419T171117
CREATED:20260407T083438Z
LAST-MODIFIED:20260407T085521Z
UID:24899-1779703200-1779726600@marktenmeer.nl
SUMMARY:Zuidlaren Hondsrugmarkt – braderie en vlooienmarkt in Zuidlaren (25 mei 2026)
DESCRIPTION:De Zuidlaren Hondsrugmarkt op maandag 25 mei 2026 (2e Pinksterdag) is een combinatie van braderie en vlooienmarkt op de karakteristieke Brink. Deze markt in Zuidlaren staat bekend om de groene\, ruim opgezette locatie en de gezellige sfeer. Bezoekers kunnen hier op hun gemak langs kramen struinen met tweedehands spullen\, curiosa en nieuwe producten. Door de afwisseling in aanbod is er voor een breed publiek iets te vinden\, van verzamelaars tot mensen die gewoon een dagje uit willen. \nDe Brink vormt het hart van het dorp en is omringd door terrassen en historische gebouwen. Tijdens de markt ontstaat er een levendige maar overzichtelijke sfeer. Naast het aanbod van kramen is er ook aandacht voor eten en drinken\, waardoor je eenvoudig even kunt pauzeren tijdens je bezoek. \nVoor bezoekers\n\nType markt: braderie en vlooienmarkt\nPlaats: Zuidlaren\nDatum: maandag 25 mei 2026\nTijd: 10.00 – 16.30 uur\nLocatie: De Brink\, 9470 AE Zuidlaren\nEntree: gratis\nParkeren: gratis in de nabije omgeving\n\nVoor standhouders\n\nReserveren: verplicht\n\nBraderie: \n\nStandplaats 4 meter: vanaf €37\,50\nExtra meters: €6\,50 per meter\nKraam (4 meter met bovenbouw): €52\,50 (extra kraam €41)\nFoodstandplaats (4 meter): €75\n\nVlooienmarkt: \n\nStandplaats 5 meter: €22\,50\nExtra meters: €4 per meter\nStandplaats incl. kraam (4 meter): €37\,50\n\nHobby/Ambachten: \n\nStandplaats incl. kraam (4 meter): €40\nDiepte standplaats: 2\,5 meter\nStroom aanwezig: [controleer]\nFood toegestaan: ja (op aanvraag)\nOpbouw: 08.00 – 09.30 uur\n\nStandhouders kunnen tijdens het opbouwen hun standplaats bereiken met de auto. Daarna wordt deze elders geparkeerd\, tenzij anders aangegeven. Het is belangrijk dat de stand tot het einde van de markt open blijft. \nDe Zuidlaren Hondsrugmarkt biedt een toegankelijke combinatie van sfeer\, locatie en een gevarieerd aanbod.
URL:https://marktenmeer.nl/markt/zuidlaren-hondsrugmarkt-25-mei-2026/
LOCATION:Zuidlaren\, Zuidlaren\, Netherlands
CATEGORIES:Braderie Drenthe,Braderieën,Drenthe,Rommelmarkten,Rommelmarkten Drenthe
END:VEVENT
BEGIN:VEVENT
DTSTART;TZID=Europe/Amsterdam:20260525T110000
DTEND;TZID=Europe/Amsterdam:20260525T170000
DTSTAMP:20260419T171117
CREATED:20260401T105649Z
LAST-MODIFIED:20260401T105649Z
UID:24261-1779706800-1779728400@marktenmeer.nl
SUMMARY:Pinkstermarkt Sluisdagen Dieverbrug – 25 mei 2026
DESCRIPTION:De Pinkstermarkt tijdens de Sluisdagen in Dieverbrug op tweede pinksterdag is een vervolg op de markt van de dag ervoor. Deze braderie maakt onderdeel uit van het bredere evenement rondom de sluis en trekt bezoekers die komen voor zowel de markt als de activiteiten in de omgeving. De markt in Dieverbrug biedt een toegankelijke en overzichtelijke setting waar je rustig kunt rondkijken. \nHet aanbod bestaat uit een mix van kramen met uiteenlopende producten. Denk aan accessoires\, praktische artikelen en food. Door de combinatie met de Sluisdagen ontstaat er een gemoedelijke sfeer waarin bezoekers gemakkelijk blijven hangen. De ligging bij het water en de kleinschalige opzet maken deze markt aantrekkelijk voor een breed publiek. \nVoor bezoekers\n\nDatum: maandag 25 mei 2026\nTijd: 11:00 – 17:00 uur\nLocatie: omgeving van de sluis in Dieverbrug\nType markt: braderie tijdens Sluisdagen\nAanbod: diverse kramen met non-food\, accessoires en food\nSfeer: rustig\, dorps en toegankelijk\n\nVoor standhouders\n\nKraamprijs: €50\,00 (inclusief grondplaats en btw)\nGrondplaats: op aanvraag\nStroom: op aanvraag\nFood: toegestaan op aanvraag\nDoelgroep: bezoekers van de Sluisdagen\, gezinnen en dagjesmensen\n\nAanmelden kan via de marktlijst door de gewenste markt(en) te selecteren en je gegevens in te vullen. Na verzending ontvang je een bevestiging of annulering. Zonder bevestiging is je deelname niet definitief. \nBetaling gebeurt contant op de markt; je ontvangt een kwitantie. Door inschrijving ga je akkoord met de geldende voorwaarden. \nEen kleinschalige markt als onderdeel van een groter dorps evenement.
URL:https://marktenmeer.nl/markt/pinkstermarkt-dieverbrug-25-mei-2026/
LOCATION:Dieverbrug\, Dieverbrug\, Netherlands
CATEGORIES:Braderie Drenthe,Braderieën,Drenthe
END:VEVENT
BEGIN:VEVENT
DTSTART;TZID=Europe/Amsterdam:20260525T110000
DTEND;TZID=Europe/Amsterdam:20260525T170000
DTSTAMP:20260419T171117
CREATED:20260401T131947Z
LAST-MODIFIED:20260401T131947Z
UID:24314-1779706800-1779728400@marktenmeer.nl
SUMMARY:Boekenmarkt Diever – 25 mei 2026
DESCRIPTION:De Boekenmarkt in Diever op 25 mei 2026 is een bekende markt die jaarlijks plaatsvindt op tweede pinksterdag. Deze markt in Diever staat bekend als een van de grotere boekenmarkten in het noorden en trekt bezoekers die gericht op zoek zijn naar boeken en bijzondere uitgaven. Met tientallen antiquariaten en stands is er een breed en verdiepend aanbod. \nWat deze markt onderscheidt\, is het niveau en de variatie binnen het aanbod. Je vindt er tweedehands boeken\, antiquarische werken en bijzondere edities. Bezoekers nemen vaak de tijd om rustig langs de kramen te gaan en gericht te zoeken. De sfeer is rustig en inhoudelijk\, passend bij een markt die volledig in het teken staat van boeken en lezen. \nVoor bezoekers\n\nDatum: maandag 25 mei 2026 (2e pinksterdag)\nTijd: 11:00 – 17:00 uur\nLocatie: centrum van Diever\nType markt: boekenmarkt\nAanbod: boeken\, antiquarische werken en bijzondere uitgaven\nSfeer: rustig\, gericht en overzichtelijk\n\nVoor standhouders\n\nKraamprijs: €50\,00 (inclusief grondplaats en btw)\nGrondplaats: €7\,00 per meter\nStroom: op aanvraag\nDoelgroep: boekenliefhebbers\, verzamelaars en dagjesmensen\n\nAanmelden kan via de marktlijst door de gewenste markt(en) aan te vinken en je gegevens in te vullen. Na verzending ontvang je een bevestiging of annulering. Zonder bevestiging is deelname niet definitief. \nBetaling gebeurt contant op de markt; je ontvangt een kwitantie. Door inschrijving ga je akkoord met de geldende voorwaarden. \nEen gespecialiseerde markt waar boeken centraal staan.
URL:https://marktenmeer.nl/markt/boekenmarkt-diever-25-mei-2026/
LOCATION:Diever\, Diever\, Netherlands
CATEGORIES:Boekenmarkt,Boekenmarkt Drenthe,Drenthe
END:VEVENT
END:VCALENDAR