BEGIN:VCALENDAR
VERSION:2.0
PRODID:-//Markten en meer - ECPv6.15.20//NONSGML v1.0//EN
CALSCALE:GREGORIAN
METHOD:PUBLISH
X-ORIGINAL-URL:https://marktenmeer.nl
X-WR-CALDESC:Evenementen voor Markten en meer
REFRESH-INTERVAL;VALUE=DURATION:PT1H
X-Robots-Tag:noindex
X-PUBLISHED-TTL:PT1H
BEGIN:VTIMEZONE
TZID:Europe/Amsterdam
BEGIN:DAYLIGHT
TZOFFSETFROM:+0100
TZOFFSETTO:+0200
TZNAME:CEST
DTSTART:20250330T010000
END:DAYLIGHT
BEGIN:STANDARD
TZOFFSETFROM:+0200
TZOFFSETTO:+0100
TZNAME:CET
DTSTART:20251026T010000
END:STANDARD
BEGIN:DAYLIGHT
TZOFFSETFROM:+0100
TZOFFSETTO:+0200
TZNAME:CEST
DTSTART:20260329T010000
END:DAYLIGHT
BEGIN:STANDARD
TZOFFSETFROM:+0200
TZOFFSETTO:+0100
TZNAME:CET
DTSTART:20261025T010000
END:STANDARD
BEGIN:DAYLIGHT
TZOFFSETFROM:+0100
TZOFFSETTO:+0200
TZNAME:CEST
DTSTART:20270328T010000
END:DAYLIGHT
BEGIN:STANDARD
TZOFFSETFROM:+0200
TZOFFSETTO:+0100
TZNAME:CET
DTSTART:20271031T010000
END:STANDARD
END:VTIMEZONE
BEGIN:VEVENT
DTSTART;TZID=Europe/Amsterdam:20260531T110000
DTEND;TZID=Europe/Amsterdam:20260531T170000
DTSTAMP:20260419T171043
CREATED:20260329T070904Z
LAST-MODIFIED:20260329T070904Z
UID:23861-1780225200-1780246800@marktenmeer.nl
SUMMARY:Braderie en vlomarkt Odoorn – 31 mei 2026
DESCRIPTION:De braderie en vlomarkt in Odoorn op 31 mei 2026 is een toegankelijke markt waar je op je gemak langs de kramen kunt struinen. De markt vindt plaats op een van de karakteristieke brinken van het dorp\, wat zorgt voor een open en rustige setting. Deze markt in Odoorn combineert braderiekramen met tweedehands verkoop\, waardoor het aanbod gevarieerd is. Of je nu iets zoekt of gewoon wilt rondkijken\, de opzet maakt het een prettige plek om even buiten te zijn. \nDe sfeer is gemoedelijk en dorps. Standhouders bieden een mix van producten aan\, van kleding en accessoires tot curiosa\, huisraad en kleine vondsten. De combinatie van nieuwe en gebruikte artikelen maakt deze braderie en vlomarkt in Odoorn aantrekkelijk voor een breed publiek. Door de ligging op de Drentse Hondsrug is het bovendien goed te combineren met een wandeling of fietstocht in de omgeving. \nVoor bezoekers\n\nDatum: zondag 31 mei 2026\nTijd: 11.00 – 17.00 uur\nLocatie: brink\, Odoorn\nEntree: gratis\nType markt: braderie en vlomarkt\nAanbod: combinatie van nieuwe en tweedehands producten\n\nVoor standhouders\nDeze markt in Odoorn biedt ruimte aan zowel braderiekramen als verkopers op de vlomarkt. Door de combinatie van typen standhouders trekt het evenement een breed publiek. \n\nKraamprijs braderie: €46\,- (incl. 4 meter grondplaats)\nGrondplaats braderie: €7\,- per meter (minimaal 4 meter)\nStroom (230V): €8\,- per aansluiting\nHobbykraam: €30\,- (incl. 4 meter\, voorwaarden van toepassing)\nVlomarkt grondplaats: €3\,- per meter (minimaal 5 meter)\nKraam vlomarkt: €30\,- (optioneel\, reserveren via inschrijving)\nStroom aanwezig: ja\nDoelgroep: breed publiek\, met interesse in markten en tweedehands aanbod\n\nDeze braderie en vlomarkt in Odoorn biedt een toegankelijke en gevarieerde marktdag.
URL:https://marktenmeer.nl/markt/braderie-en-vlomarkt-odoorn-31-mei-2026/
LOCATION:Odoorn\, Odoorn\, Netherlands
CATEGORIES:Braderie Drenthe,Braderieën,Drenthe,Rommelmarkten,Rommelmarkten Drenthe
END:VEVENT
BEGIN:VEVENT
DTSTART;TZID=Europe/Amsterdam:20260531T110000
DTEND;TZID=Europe/Amsterdam:20260531T170000
DTSTAMP:20260419T171043
CREATED:20260401T105845Z
LAST-MODIFIED:20260401T105845Z
UID:24263-1780225200-1780246800@marktenmeer.nl
SUMMARY:Struunmarkt Diever – 31 mei 2026
DESCRIPTION:De Struunmarkt in Diever op 31 mei 2026 is een terugkerend evenement waar braderie en vlooienmarkt samenkomen. Deze markt in Diever staat bekend om de afwisseling in aanbod en de ontspannen sfeer. Bezoekers komen hier om te struinen langs kramen met zowel nieuwe als tweedehands artikelen\, wat elke editie anders maakt. \nDe kracht van deze markt zit in de combinatie van handel en gezelligheid. Je vindt er kleding\, accessoires\, huisraad en curiosa\, afgewisseld met plekken waar tweedehands spullen worden verkocht. Dat zorgt voor een gevarieerd beeld en maakt het interessant voor verschillende doelgroepen. De opzet is overzichtelijk en uitnodigend\, waardoor bezoekers rustig rond kunnen kijken. \nVoor bezoekers\n\nDatum: zondag 31 mei 2026\nTijd: 11:00 – 17:00 uur\nLocatie: centrum van Diever\nType markt: braderie en vlooienmarkt\nAanbod: mix van nieuwe producten\, tweedehands spullen en curiosa\nSfeer: gemoedelijk\, gevarieerd en toegankelijk\n\nVoor standhouders\n\nKraamprijs: €50\,00 (inclusief grondplaats en btw)\nGrondplaats: €6\,50 per meter\nVlomarkt: €3\,00 per meter\nStroom: op aanvraag\nDoelgroep: breed publiek\, koopjeszoekers en dagjesmensen\n\nAanmelden gaat via de marktlijst. Vink de gewenste markt(en) aan\, vul je gegevens in en verzend je aanvraag. Je ontvangt daarna een bevestiging of annulering. Zonder bevestiging is deelname niet definitief. \nBetaling vindt contant plaats op de markt en je ontvangt een kwitantie. Door deelname ga je akkoord met de geldende voorwaarden. \nEen toegankelijke markt waar variatie in aanbod centraal staat.
URL:https://marktenmeer.nl/markt/struunnmarkt-diever-31-mei-2026/
LOCATION:Diever\, Diever\, Netherlands
CATEGORIES:Braderie Drenthe,Braderieën,Drenthe
END:VEVENT
BEGIN:VEVENT
DTSTART;TZID=Europe/Amsterdam:20260531T110000
DTEND;TZID=Europe/Amsterdam:20260531T170000
DTSTAMP:20260419T171043
CREATED:20260407T085923Z
LAST-MODIFIED:20260407T085923Z
UID:24918-1780225200-1780246800@marktenmeer.nl
SUMMARY:Rolde Dingspilmarkt – braderie en vlooienmarkt in Rolde (31 mei 2026)
DESCRIPTION:De Rolde Dingspilmarkt keert op zondag 31 mei 2026 terug op de Grote Brink in Rolde. Deze markt heeft een lange historie in de regio en wordt opnieuw georganiseerd als combinatie van braderie en vlooienmarkt. Bezoekers kunnen hier rondstruinen langs kramen met tweedehands spullen\, curiosa en nieuwe producten. De markt in Rolde biedt een toegankelijke en gemoedelijke sfeer\, passend bij de ligging op de groene Brink in het dorpscentrum. \nDe Dingspilmarkt stond vroeger bekend als een vaste markt in de zomermaanden en heeft voor veel bezoekers een herkenbare naam. Met de terugkeer van deze markt ontstaat opnieuw een plek waar handel\, ontmoeting en sfeer samenkomen. De combinatie van gebruikte goederen en nieuwe waren zorgt voor variatie in het aanbod. \nVoor bezoekers\n\nType markt: braderie en vlooienmarkt\nPlaats: Rolde\nDatum: zondag 31 mei 2026\nTijd: 11.00 – 17.00 uur\nLocatie: Grote Brink\, 9451 BR Rolde\n\nVoor standhouders\n\nStandplaats: vanaf 4 meter (braderie)\nPrijs: vanaf €32\,50 [controleer afhankelijk van keuze]\nReserveren: verplicht\nKraamopties: 4 meter kraam mogelijk (meerdere kramen te reserveren)\nVerkoopwagen: toegestaan (afhankelijk van afmeting)\nFood toegestaan: op aanvraag\nOpbouw: 09.00 – 10.15 uur (melden vóór 10.15 uur)\n\nStandhouders kunnen tijdens het opbouwen met de auto bij de standplaats komen. Bij de vlooienmarkt kan de auto achter de stand blijven staan\, afhankelijk van de beschikbare ruimte. Het is belangrijk dat de stand gedurende de hele markt bemand blijft. \nDe Rolde Dingspilmarkt brengt een bekende markttraditie terug naar het centrum van Rolde.
URL:https://marktenmeer.nl/markt/rolde-dingspilmarkt-31-mei-2026/
LOCATION:Rolde\, Rolde\, Netherlands
CATEGORIES:Braderie Drenthe,Braderieën,Drenthe,Rommelmarkten,Rommelmarkten Drenthe
END:VEVENT
END:VCALENDAR