BEGIN:VCALENDAR
VERSION:2.0
PRODID:-//Markten en meer - ECPv6.15.20//NONSGML v1.0//EN
CALSCALE:GREGORIAN
METHOD:PUBLISH
X-ORIGINAL-URL:https://marktenmeer.nl
X-WR-CALDESC:Evenementen voor Markten en meer
REFRESH-INTERVAL;VALUE=DURATION:PT1H
X-Robots-Tag:noindex
X-PUBLISHED-TTL:PT1H
BEGIN:VTIMEZONE
TZID:Europe/Amsterdam
BEGIN:DAYLIGHT
TZOFFSETFROM:+0100
TZOFFSETTO:+0200
TZNAME:CEST
DTSTART:20250330T010000
END:DAYLIGHT
BEGIN:STANDARD
TZOFFSETFROM:+0200
TZOFFSETTO:+0100
TZNAME:CET
DTSTART:20251026T010000
END:STANDARD
BEGIN:DAYLIGHT
TZOFFSETFROM:+0100
TZOFFSETTO:+0200
TZNAME:CEST
DTSTART:20260329T010000
END:DAYLIGHT
BEGIN:STANDARD
TZOFFSETFROM:+0200
TZOFFSETTO:+0100
TZNAME:CET
DTSTART:20261025T010000
END:STANDARD
BEGIN:DAYLIGHT
TZOFFSETFROM:+0100
TZOFFSETTO:+0200
TZNAME:CEST
DTSTART:20270328T010000
END:DAYLIGHT
BEGIN:STANDARD
TZOFFSETFROM:+0200
TZOFFSETTO:+0100
TZNAME:CET
DTSTART:20271031T010000
END:STANDARD
END:VTIMEZONE
BEGIN:VEVENT
DTSTART;TZID=Europe/Amsterdam:20260707T100000
DTEND;TZID=Europe/Amsterdam:20260707T163000
DTSTAMP:20260419T223035
CREATED:20251112T182902Z
LAST-MODIFIED:20260407T094226Z
UID:14092-1783418400-1783441800@marktenmeer.nl
SUMMARY:Emmen Vlindermarkten – braderie en vlooienmarkt in Emmen (7 juli 2026)
DESCRIPTION:De Emmen Vlindermarkten zijn een terugkerende braderie en vlooienmarkt in het centrum van Emmen. Op dinsdag 7 juli 2026 kun je hier rondstruinen langs een groot aantal kramen verspreid door het centrum. Deze markt in Emmen staat bekend om de omvang en de levendige sfeer. Van tweedehands vondsten en verzamelobjecten tot nieuwe producten en foodstands: het aanbod is breed en gevarieerd. \nDe markt slingert door het centrum\, van het oude gedeelte tot aan het Raadhuisplein en het gebied rondom Wildlands en het Atlas Theater. Het hart van de markt ligt bij de Grote Kerk\, met in de directe omgeving terrassen en winkels. Door deze opzet is de markt goed te combineren met een dagje winkelen of een bezoek aan de stad. \nVoor bezoekers\n\nType markt: braderie en vlooienmarkt\nPlaats: Emmen\nDatum: dinsdag 7 juli 2026\nTijd: 10.00 – 16.30 uur\nLocatie: centrum Emmen (inrijden via Hoofdstraat 43)\nEntree: gratis\n\nVoor standhouders\n\nReserveren: verplicht\n\nBraderie: \n\nStandplaats 4 meter: €37\,50\nExtra meters: €6\,50 per meter\nKraam (4 meter met bovenbouw): €52\,50 (extra kraam €41)\nFoodstandplaats (5 meter): vanaf €75\n\nVlooienmarkt: \n\nStandplaats 5 meter: €22\,50\nExtra meters: €4 per meter\nStandplaats incl. kraam (4 meter): €37\,50\n\nHobby/Ambachten: \n\nStandplaats 4 meter incl. kraam: €40\nDiepte standplaats: 2\,5 meter\nFood toegestaan: ja\nOpbouw: 08.00 – 09.30 uur (melden vóór 09.15 uur)\n\nStandhouders kunnen tijdens het opbouwen hun standplaats bereiken via het centrum. Daarna moet de auto elders worden geparkeerd\, omdat parkeren op het marktgebied niet is toegestaan. Het is belangrijk dat de stand tot het einde van de markt open blijft. \nDe Vlindermarkt in Emmen biedt een combinatie van een groot marktgebied en een gevarieerd aanbod in het centrum van de stad.
URL:https://marktenmeer.nl/markt/vlindermarkten-emmen-7-juli-2026/
LOCATION:Emmen\, centrum\, Emmen\, Netherlands
CATEGORIES:Braderie Drenthe,Braderieën,Drenthe,Rommelmarkten,Rommelmarkten Drenthe
END:VEVENT
BEGIN:VEVENT
DTSTART;TZID=Europe/Amsterdam:20260707T150000
DTEND;TZID=Europe/Amsterdam:20260707T210000
DTSTAMP:20260419T223035
CREATED:20251124T084808Z
LAST-MODIFIED:20260328T220813Z
UID:15556-1783436400-1783458000@marktenmeer.nl
SUMMARY:Brinkfestijn Ruinen – 7 juli 2026
DESCRIPTION:Op woensdag 7 juli 2026 bruist de Brink in Ruinen van gezelligheid tijdens het Brinkfestijn. Van 15.00 tot 21.00 uur kun je rondslenteren over de vernieuwde Brinkmarkt\, waar ongeveer 25 stands een zorgvuldig geselecteerd aanbod presenteren. Denk aan creatieve producten\, lokaal handwerk\, kunstzinnige items en originele cadeauartikelen. De sfeervolle omgeving van de Brink\, samen met zomeractiviteiten\, muziek en kinderplezier\, zorgt voor een ontspannen middag en avond uit. Het Brinkfestijn maakt deel uit van vier woensdagen in de zomervakantie en trekt jaarlijks veel bezoekers uit de regio. Een fijne zomermarkt voor gezinnen\, vakantiegangers en iedereen die houdt van een levendig dorpsplein met een gevarieerd aanbod. \nLocatie: Brink 19\, RuinenEntree: gratis
URL:https://marktenmeer.nl/markt/brinkfestijn-ruinen-7-juli-2026/
LOCATION:Ruinen\, Ruinen\, Netherlands
CATEGORIES:Braderie Drenthe,Braderieën,Drenthe
END:VEVENT
END:VCALENDAR