BEGIN:VCALENDAR
VERSION:2.0
PRODID:-//Markten en meer - ECPv6.15.20//NONSGML v1.0//EN
CALSCALE:GREGORIAN
METHOD:PUBLISH
X-WR-CALNAME:Markten en meer
X-ORIGINAL-URL:https://marktenmeer.nl
X-WR-CALDESC:Evenementen voor Markten en meer
REFRESH-INTERVAL;VALUE=DURATION:PT1H
X-Robots-Tag:noindex
X-PUBLISHED-TTL:PT1H
BEGIN:VTIMEZONE
TZID:Europe/Amsterdam
BEGIN:DAYLIGHT
TZOFFSETFROM:+0100
TZOFFSETTO:+0200
TZNAME:CEST
DTSTART:20250330T010000
END:DAYLIGHT
BEGIN:STANDARD
TZOFFSETFROM:+0200
TZOFFSETTO:+0100
TZNAME:CET
DTSTART:20251026T010000
END:STANDARD
BEGIN:DAYLIGHT
TZOFFSETFROM:+0100
TZOFFSETTO:+0200
TZNAME:CEST
DTSTART:20260329T010000
END:DAYLIGHT
BEGIN:STANDARD
TZOFFSETFROM:+0200
TZOFFSETTO:+0100
TZNAME:CET
DTSTART:20261025T010000
END:STANDARD
BEGIN:DAYLIGHT
TZOFFSETFROM:+0100
TZOFFSETTO:+0200
TZNAME:CEST
DTSTART:20270328T010000
END:DAYLIGHT
BEGIN:STANDARD
TZOFFSETFROM:+0200
TZOFFSETTO:+0100
TZNAME:CET
DTSTART:20271031T010000
END:STANDARD
END:VTIMEZONE
BEGIN:VEVENT
DTSTART;TZID=Europe/Amsterdam:20260709T120000
DTEND;TZID=Europe/Amsterdam:20260709T180000
DTSTAMP:20260420T012403
CREATED:20260408T080145Z
LAST-MODIFIED:20260408T080145Z
UID:25031-1783598400-1783620000@marktenmeer.nl
SUMMARY:Braderie Fiets4daagse Westerbork – 9 juli 2026
DESCRIPTION:Op donderdag 9 juli 2026 vindt de braderie tijdens de Fiets4daagse in Westerbork plaats. Deze braderie in Westerbork is onderdeel van een sportief en drukbezocht evenement dat jaarlijks veel fietsliefhebbers en bezoekers trekt. Terwijl deelnemers genieten van de routes door de omgeving\, biedt de braderie een gezellige plek om rond te kijken\, te winkelen en even bij te komen. De combinatie van de Fiets4daagse en de markt zorgt voor een levendige en toegankelijke sfeer. \nRond het Oole Gemeentehuus ontstaat een kleinschalige en sfeervolle markt met een gevarieerd aanbod. Je vindt er onder andere lokale producten\, ambachtelijke artikelen en diverse kleine handelswaren. Door de mix van sportieve deelnemers en dagjesmensen is er een constant publiek gedurende de dag. Dit maakt de braderie aantrekkelijk voor bezoekers die willen combineren: actief bezig zijn en ontspannen rondstruinen. \nVoor bezoekers\n\nDatum: 9 juli 2026\nTijd: 12:00 – 18:00\nPlaats: Westerbork\nLocatie: Oole Gemeentehuus\, Westerbork\nType markt: braderie\n\nDe braderie is vrij toegankelijk en goed te combineren met een bezoek aan de Fiets4daagse. Door de doorloop van deelnemers is er de hele middag een levendige sfeer. \nVoor standhouders\nDe braderie in Westerbork tijdens de Fiets4daagse biedt standhouders een plek binnen een goed bezocht evenement met een breed publiek. \n\nKosten kraam: €56\,- (inclusief 4 meter)\nExtra meters: €6\,- per meter\nStroomvoorziening:\n\n1x 230V: €7\,50\n2x 230V: €15\,-\n1x 16 amp: €15\,-\n2x 16 amp: €25\,-\n1x 32 amp: €25\,-\n2x 32 amp: €40\,-\n\n\n\nDe doelgroep bestaat uit fietsdeelnemers\, bezoekers uit de regio en dagjesmensen. Producten die geschikt zijn voor een breed publiek en impulsaankopen doen het hier doorgaans goed. \nDe braderie Fiets4daagse Westerbork is een toegankelijke markt met een sportieve en gezellige setting.
URL:https://marktenmeer.nl/markt/braderie-fiets4daagse-westerbork-9-juli-2026/
LOCATION:Westerbork\, Westerbork\, Netherlands
CATEGORIES:Braderie Drenthe,Braderieën,Drenthe
END:VEVENT
END:VCALENDAR