BEGIN:VCALENDAR
VERSION:2.0
PRODID:-//Markten en meer - ECPv6.15.20//NONSGML v1.0//EN
CALSCALE:GREGORIAN
METHOD:PUBLISH
X-ORIGINAL-URL:https://marktenmeer.nl
X-WR-CALDESC:Evenementen voor Markten en meer
REFRESH-INTERVAL;VALUE=DURATION:PT1H
X-Robots-Tag:noindex
X-PUBLISHED-TTL:PT1H
BEGIN:VTIMEZONE
TZID:Europe/Amsterdam
BEGIN:DAYLIGHT
TZOFFSETFROM:+0100
TZOFFSETTO:+0200
TZNAME:CEST
DTSTART:20250330T010000
END:DAYLIGHT
BEGIN:STANDARD
TZOFFSETFROM:+0200
TZOFFSETTO:+0100
TZNAME:CET
DTSTART:20251026T010000
END:STANDARD
BEGIN:DAYLIGHT
TZOFFSETFROM:+0100
TZOFFSETTO:+0200
TZNAME:CEST
DTSTART:20260329T010000
END:DAYLIGHT
BEGIN:STANDARD
TZOFFSETFROM:+0200
TZOFFSETTO:+0100
TZNAME:CET
DTSTART:20261025T010000
END:STANDARD
BEGIN:DAYLIGHT
TZOFFSETFROM:+0100
TZOFFSETTO:+0200
TZNAME:CEST
DTSTART:20270328T010000
END:DAYLIGHT
BEGIN:STANDARD
TZOFFSETFROM:+0200
TZOFFSETTO:+0100
TZNAME:CET
DTSTART:20271031T010000
END:STANDARD
END:VTIMEZONE
BEGIN:VEVENT
DTSTART;TZID=Europe/Amsterdam:20260730T090000
DTEND;TZID=Europe/Amsterdam:20260730T180000
DTSTAMP:20260419T223020
CREATED:20251215T073957Z
LAST-MODIFIED:20260408T081658Z
UID:16661-1785402000-1785434400@marktenmeer.nl
SUMMARY:Donderdag Meppeldag 30 juli 2026 | Stadsfestival Meppel
DESCRIPTION:Op donderdag 30 juli 2026 vindt opnieuw een editie van de Donderdag Meppeldag plaats in Meppel. Dit stadsfestival is een vaste waarde in de regio en trekt jaarlijks veel bezoekers. Tijdens de Donderdag Meppeldag in Meppel verandert het centrum in een levendige combinatie van markt\, entertainment en ontmoeting. Elke editie heeft een eigen thema [controleer]\, wat zorgt voor afwisseling en een steeds andere invulling van de dag. \nDe sfeer is druk en gevarieerd\, met kramen verspreid door de binnenstad. Je vindt er een mix van producten\, van kleding en accessoires tot cadeauartikelen en food. Door de combinatie met activiteiten en entertainment is er de hele dag door aanloop van bezoekers. Dit maakt het evenement aantrekkelijk voor een breed publiek\, van gezinnen tot toeristen. \nVoor bezoekers\n\nDatum: 30 juli 2026\nTijd: 09:00 – 18:00\nPlaats: Meppel\nLocatie: centrum Meppel\nType markt: braderie / stadsfestival\n\nDe markt is goed toegankelijk en verspreid over het centrum. In de middag is het doorgaans het drukst. \nVoor standhouders\nDe Donderdag Meppeldag in Meppel biedt standhouders een plek binnen een groot en drukbezocht evenement met een brede doelgroep. \n\nKosten kraam: €62\,- (inclusief 4 meter)\nExtra meters: €7\,50 per meter\nStroomvoorziening:\n\n1x 230V: €7\,50\n2x 230V: €15\,-\n1x 16 amp: €15\,-\n2x 16 amp: €25\,-\n1x 32 amp: €25\,-\n2x 32 amp: €40\,-\n\n\n\nFoodstandplaatsen (uitgebreide tijden): \n\nKosten: €242\,- incl. btw en stroom (gebaseerd op 09:00 – 01:00 uur)\nFood toegestaan: ja\n\nDe doelgroep bestaat uit een breed publiek: inwoners\, dagjesmensen en toeristen. Producten die geschikt zijn voor een groot en divers publiek sluiten hier goed op aan. \nDe Donderdag Meppeldag in Meppel is een drukbezocht stadsfestival met een combinatie van markt en entertainment.
URL:https://marktenmeer.nl/markt/donderdag-meppeldag-30-juli-2026/
LOCATION:Meppel\, Meppel\, Netherlands
CATEGORIES:Braderie Drenthe,Braderieën,Drenthe
END:VEVENT
BEGIN:VEVENT
DTSTART;TZID=Europe/Amsterdam:20260730T100000
DTEND;TZID=Europe/Amsterdam:20260730T163000
DTSTAMP:20260419T223020
CREATED:20260407T103613Z
LAST-MODIFIED:20260407T103613Z
UID:24961-1785405600-1785429000@marktenmeer.nl
SUMMARY:Zuidlaren Hondsrugmarkt – braderie en vlooienmarkt in Zuidlaren (30 juli 2026)
DESCRIPTION:De Zuidlaren Hondsrugmarkt op donderdag 30 juli 2026 is een combinatie van braderie en vlooienmarkt op de karakteristieke Brink. Deze zomermarkt in Zuidlaren staat bekend om de groene omgeving en de ontspannen sfeer. Bezoekers kunnen hier langs kramen struinen met een mix van tweedehands spullen\, curiosa en nieuwe producten. De markt trekt zowel vakantiegangers als bezoekers uit de regio. \nDe Brink ligt centraal in het dorp en wordt omringd door terrassen en karakteristieke panden. Tijdens de markt ontstaat een levendige maar overzichtelijke sfeer. Het aanbod wordt aangevuld met eet- en drinkmogelijkheden\, waardoor je het bezoek eenvoudig kunt afwisselen. \nVoor bezoekers\n\nType markt: braderie en vlooienmarkt\nPlaats: Zuidlaren\nDatum: donderdag 30 juli 2026\nTijd: 10.00 – 16.30 uur\nLocatie: De Brink\, 9470 AE Zuidlaren\nEntree: gratis\nParkeren: gratis in de nabije omgeving\n\nVoor standhouders\n\nReserveren: verplicht\n\nBraderie: \n\nStandplaats 4 meter: vanaf €37\,50\nExtra meters: €6\,50 per meter\nKraam (4 meter met bovenbouw): €52\,50 (extra kraam €41)\nFoodstandplaats (4 meter): €75\n\nVlooienmarkt: \n\nStandplaats 5 meter: €22\,50\nExtra meters: €4 per meter\nStandplaats incl. kraam (4 meter): €37\,50\n\nHobby/Ambachten: \n\nStandplaats incl. kraam (4 meter): €40\nDiepte standplaats: 2\,5 meter\nFood toegestaan: ja (op aanvraag)\nOpbouw: 08.00 – 09.30 uur (melden vóór 08.15 uur op donderdag)\n\nStandhouders kunnen tijdens het opbouwen met de auto bij hun standplaats komen. Daarna wordt deze elders geparkeerd\, tenzij anders aangegeven. Het is belangrijk dat de stand tot het einde van de markt open blijft. \nDe Zuidlaren Hondsrugmarkt biedt een combinatie van sfeer\, locatie en een gevarieerd aanbod.
URL:https://marktenmeer.nl/markt/zuidlaren-hondsrugmarkt-30-juli-2026/
LOCATION:Zuidlaren\, Zuidlaren\, Netherlands
CATEGORIES:Braderie Drenthe,Braderieën,Drenthe,Rommelmarkten,Rommelmarkten Drenthe
END:VEVENT
BEGIN:VEVENT
DTSTART;TZID=Europe/Amsterdam:20260730T100000
DTEND;TZID=Europe/Amsterdam:20260730T170000
DTSTAMP:20260419T223020
CREATED:20260211T074627Z
LAST-MODIFIED:20260328T220759Z
UID:19416-1785405600-1785430800@marktenmeer.nl
SUMMARY:Braderie & Vlooienmarkt Pulledagen Hoogeveen | Donderdag 30 juli 2026 – Hoogeveen
DESCRIPTION:Op donderdag 30 juli 2026 staat het centrum van Hoogeveen opnieuw in het teken van de Pulledagen. Van 10.00 tot 17.00 uur vindt hier de Braderie & Vlooienmarkt Pulledagen plaats\, een vaste en drukbezochte zomermarkt. \nDe Pulledagen zorgen jaarlijks voor extra reuring in de binnenstad. Bezoekers komen voor het programma en combineren dit met een rondje langs de kramen. De braderie biedt ondernemers ruimte om hun producten en diensten te presenteren aan een breed publiek. De vlooienmarkt trekt liefhebbers van tweedehands spullen\, curiosa en koopjes. Deze combinatie maakt de markt aantrekkelijk voor zowel gezinnen als toeristen. \nVoor standhouders betekent deelname een zichtbare plek in een levendig centrum met veel aanloop. De organisatie is in handen van Organisatieburo Wildro\, dat zorgt voor een duidelijke indeling en heldere deelnamevoorwaarden. \nPraktische informatie\n\nDatum: donderdag 30 juli 2026\nTijd: 10.00 – 17.00 uur\nLocatie: Centrum Hoogeveen\nType markt: braderie & vlooienmarkt\n\nInformatie voor standhouders\nBraderie\n\nGrondplaats: € 10\,00 per strekkende meter\nKraam: € 50\,00 per kraam (excl. btw\, incl. grondplaats)\n\nVlooienmarkt\n\nGrondplaats: € 3\,00 per strekkende meter\nKraam: € 30\,00 per kraam (incl. grondplaats)\n\n(Over grondplaatsen wordt geen btw berekend)
URL:https://marktenmeer.nl/markt/pulledagen-hoogeveen-braderie-vlooienmarkt-30-juli-2026/
LOCATION:Hoogeveen\, Hoogeveen\, Netherlands
CATEGORIES:Braderie Drenthe,Braderieën,Drenthe,Rommelmarkten,Rommelmarkten Drenthe
END:VEVENT
BEGIN:VEVENT
DTSTART;TZID=Europe/Amsterdam:20260730T150000
DTEND;TZID=Europe/Amsterdam:20260730T210000
DTSTAMP:20260419T223020
CREATED:20260108T095019Z
LAST-MODIFIED:20260328T220759Z
UID:18008-1785423600-1785445200@marktenmeer.nl
SUMMARY:GEANNULEERD - Zomermarkt Gees – donderdag 30 juli 2026
DESCRIPTION:Namens de Zomermarktcommissie moeten wij helaas mededelen dat we hebben besloten te stoppen met de organisatie van de Zomermarkt.\n\n\nDe afgelopen periode hebben wij actief gezocht naar nieuwe bestuursleden om de continuïteit van het evenement te waarborgen. Helaas is hier onvoldoende animo voor gebleken\, waardoor het voor ons niet mogelijk is om de Zomermarkt op een verantwoorde manier te blijven organiseren.\n\n\nWij vinden dit uiteraard erg jammer\, aangezien de Zomermarkt altijd een mooie en verbindende activiteit is geweest. Tegelijkertijd hopen we dat er in de toekomst nieuwe initiatieven en frisse ideeën zullen ontstaan.\n\n\nMet vriendelijke groet\,\nDe Zomermarktcommissie\n\n\n\nOp donderdag 30 juli 2026 staat Gees weer in het teken van gezelligheid tijdens de Zomermarkt Gees. Na een winterse start van het jaar kijkt de organisatie alweer vooruit naar een sfeervolle zomeravond vol ontmoeting\, kramen en dorpsgevoel. De voorbereidingen zijn begonnen\, de eerste aanmeldingen zijn binnen en de marktcommissie heeft er zichtbaar zin in. \nDe zomermarkt vindt plaats in de namiddag en avond\, wat zorgt voor een ontspannen sfeer waarin bezoekers rustig kunnen rondlopen\, bijpraten en genieten. Lokale en regionale standhouders presenteren een gevarieerd aanbod en maken samen met bezoekers deze markt tot een levendig dorpsmoment. De locatie langs de Oude Steeg en Schaapveensweg vormt een herkenbaar en centraal decor binnen het dorp. \nNaast standhouders is de organisatie ook op zoek naar nieuwe bestuursleden. Woon je in Gees\, Zwinderen of Oosterhesselen en lijkt het je leuk om mee te denken en te organiseren? Dan is aansluiting bij het bestuur van de marktcommissie zeker het overwegen waard. \n\nPraktische informatie\n\nDatum: donderdag 30 juli 2026\nTijd: 15:00 – 21:00 uur\nLocatie: Oude Steeg / Schaapveensweg\, Gees\nType markt: zomermarkt / avondmarkt\nToegang: gratis\n\n\nAanmelden als standhouder of bestuurslid\nAanmeldingen voor standhouders lopen al binnen\, maar er is ruimte voor meer deelnemers. Ook nieuwe bestuursleden zijn welkom. \n📧 Contact: marktcommissiegees@hotmail.com
URL:https://marktenmeer.nl/markt/zomermarkt-gees-30-juli-2026/
LOCATION:Gees\, Gees\, Netherlands
CATEGORIES:Braderie Drenthe,Braderieën,Drenthe
END:VEVENT
END:VCALENDAR