BEGIN:VCALENDAR
VERSION:2.0
PRODID:-//Markten en meer - ECPv6.15.20//NONSGML v1.0//EN
CALSCALE:GREGORIAN
METHOD:PUBLISH
X-WR-CALNAME:Markten en meer
X-ORIGINAL-URL:https://marktenmeer.nl
X-WR-CALDESC:Evenementen voor Markten en meer
REFRESH-INTERVAL;VALUE=DURATION:PT1H
X-Robots-Tag:noindex
X-PUBLISHED-TTL:PT1H
BEGIN:VTIMEZONE
TZID:Europe/Amsterdam
BEGIN:DAYLIGHT
TZOFFSETFROM:+0100
TZOFFSETTO:+0200
TZNAME:CEST
DTSTART:20250330T010000
END:DAYLIGHT
BEGIN:STANDARD
TZOFFSETFROM:+0200
TZOFFSETTO:+0100
TZNAME:CET
DTSTART:20251026T010000
END:STANDARD
BEGIN:DAYLIGHT
TZOFFSETFROM:+0100
TZOFFSETTO:+0200
TZNAME:CEST
DTSTART:20260329T010000
END:DAYLIGHT
BEGIN:STANDARD
TZOFFSETFROM:+0200
TZOFFSETTO:+0100
TZNAME:CET
DTSTART:20261025T010000
END:STANDARD
BEGIN:DAYLIGHT
TZOFFSETFROM:+0100
TZOFFSETTO:+0200
TZNAME:CEST
DTSTART:20270328T010000
END:DAYLIGHT
BEGIN:STANDARD
TZOFFSETFROM:+0200
TZOFFSETTO:+0100
TZNAME:CET
DTSTART:20271031T010000
END:STANDARD
END:VTIMEZONE
BEGIN:VEVENT
DTSTART;TZID=Europe/Amsterdam:20260804T100000
DTEND;TZID=Europe/Amsterdam:20260804T163000
DTSTAMP:20260419T235751
CREATED:20251113T075732Z
LAST-MODIFIED:20260407T103953Z
UID:14108-1785837600-1785861000@marktenmeer.nl
SUMMARY:Emmen Vlindermarkten – braderie en vlooienmarkt in Emmen (4 augustus 2026)
DESCRIPTION:De Emmen Vlindermarkten zijn een terugkerende braderie en vlooienmarkt in het centrum van Emmen. Op dinsdag 4 augustus 2026 kun je hier langs een groot aantal kramen struinen die verspreid staan door het centrum. Deze markt in Emmen staat bekend om de omvang en de levendige sfeer\, met een breed aanbod van tweedehands spullen\, curiosa en nieuwe producten. \nDe markt slingert door verschillende delen van het centrum\, van het oude centrum tot het Raadhuisplein en de omgeving van Wildlands en het Atlas Theater. Het hart van de markt ligt rondom de Grote Kerk\, waar ook terrassen en winkels te vinden zijn. Dit maakt de markt goed te combineren met een bezoek aan het centrum. \nVoor bezoekers\n\nType markt: braderie en vlooienmarkt\nPlaats: Emmen\nDatum: dinsdag 4 augustus 2026\nTijd: 10.00 – 16.30 uur\nLocatie: centrum Emmen (inrijden via Hoofdstraat 43)\nEntree: gratis\n\nVoor standhouders\n\nReserveren: verplicht\n\nBraderie: \n\nStandplaats 4 meter: €37\,50\nExtra meters: €6\,50 per meter\nKraam (4 meter met bovenbouw): €52\,50 (extra kraam €41)\nFoodstandplaats (5 meter): vanaf €75\n\nVlooienmarkt: \n\nStandplaats 5 meter: €22\,50\nExtra meters: €4 per meter\nStandplaats incl. kraam (4 meter): €37\,50\n\nHobby/Ambachten: \n\nStandplaats 4 meter incl. kraam: €40\nDiepte standplaats: 2\,5 meter\nFood toegestaan: ja\nOpbouw: 08.00 – 09.30 uur (melden vóór 09.15 uur)\n\nStandhouders kunnen tijdens het opbouwen hun standplaats bereiken via het centrum. Daarna moet de auto elders worden geparkeerd\, omdat parkeren op het marktgebied niet is toegestaan. Standplaatsen blijven tot het einde van de markt bezet. \nDe Vlindermarkt in Emmen biedt een combinatie van een groot marktgebied en een gevarieerd aanbod.
URL:https://marktenmeer.nl/markt/vlindermarkt-emmen-4-augustus-2026/
LOCATION:Emmen\, centrum\, Emmen\, Netherlands
CATEGORIES:Braderie Drenthe,Braderieën,Drenthe,Rommelmarkten,Rommelmarkten Drenthe
END:VEVENT
BEGIN:VEVENT
DTSTART;TZID=Europe/Amsterdam:20260804T100000
DTEND;TZID=Europe/Amsterdam:20260804T163000
DTSTAMP:20260419T235751
CREATED:20260319T112910Z
LAST-MODIFIED:20260328T220759Z
UID:23189-1785837600-1785861000@marktenmeer.nl
SUMMARY:Braderie en Vlooienmarkt Zomermarkt Ruinen – 4 augustus 2026
DESCRIPTION:De zomermarkt in Ruinen is een combinatie van een braderie en vlooienmarkt in het centrum van het dorp. Op dinsdag 4 augustus wordt het centrum opnieuw gevuld met een gevarieerd aanbod aan kramen en grondplaatsen. Deze markt in Ruinen is geschikt voor bezoekers die op zoek zijn naar zowel nieuwe producten als tweedehands vondsten. \nDe sfeer is gemoedelijk en levendig\, met een mix van handelaren en particulieren. Bezoekers kunnen rustig langs de kramen lopen en genieten van een zomerse marktdag. Door de combinatie van een braderie en vlooienmarkt ontstaat een breed en afwisselend aanbod. \nVoor bezoekers\n\nDatum: dinsdag 4 augustus 2026\nTijd: 10:00 – 16:30 uur\nPlaats: Ruinen\nLocatie: centrum\nType markt: braderie en vlooienmarkt\n\nBezoekers kunnen rekenen op een combinatie van nieuwe artikelen\, tweedehands spullen en lokale producten. De markt is geschikt voor een breed publiek en goed te combineren met een bezoek aan het centrum. \nVoor standhouders\nBraderie \n\nGrondplaats: €6\,00 per strekkende meter\nKraam: €45\,00 excl. btw (incl. grondplaats)\n\nVlooienmarkt \n\nGrondplaats: €3\,00 per strekkende meter\nKraam: €30\,00 (incl. grondplaats)\nBTW: over grondplaats wordt geen btw berekend\n\nDe markt biedt ruimte voor zowel handelaren als particulieren. Door de combinatie van braderie en vlooienmarkt ontstaat een gevarieerd aanbod en een constante bezoekersstroom. \nDeze zomermarkt biedt een toegankelijke verkoopplek in het centrum van Ruinen.
URL:https://marktenmeer.nl/markt/braderie-vlooienmarkt-ruinen-4-augustus-2026/
LOCATION:Ruinen\, Ruinen\, Netherlands
CATEGORIES:Braderie Drenthe,Braderieën,Drenthe,Rommelmarkten,Rommelmarkten Drenthe
END:VEVENT
BEGIN:VEVENT
DTSTART;TZID=Europe/Amsterdam:20260804T110000
DTEND;TZID=Europe/Amsterdam:20260804T163000
DTSTAMP:20260419T235751
CREATED:20260401T125946Z
LAST-MODIFIED:20260401T125946Z
UID:24296-1785841200-1785861000@marktenmeer.nl
SUMMARY:Campingmarkt Kuierpad – Wezuperbrug – 4 augustus 2026
DESCRIPTION:De campingmarkt bij Wezuperbrug op 4 augustus 2026 is een kleinschalige en toegankelijke markt op en rond camping Kuierpad. Deze markt in Wezuperbrug richt zich vooral op campinggasten en bezoekers uit de omgeving die op zoek zijn naar een ontspannen activiteit tijdens hun verblijf. Door de overzichtelijke opzet is het een markt waar je rustig kunt rondkijken. \nHet aanbod bestaat uit een mix van praktische artikelen\, kleine producten en leuke vondsten. De markt heeft een informeel karakter\, waardoor er direct contact is tussen bezoekers en standhouders. De rustige setting en het tijdstip maken het een laagdrempelige activiteit voor overdag. \nVoor bezoekers\n\nDatum: dinsdag 4 augustus 2026\nTijd: 11:00 – 16:30 uur\nLocatie: camping Kuierpad in Wezuperbrug\nType markt: campingmarkt\nAanbod: diverse kramen met kleine artikelen\, accessoires en praktische producten\nSfeer: rustig\, informeel en kleinschalig\n\nVoor standhouders\n\nKraamprijs: €35\,00 (inclusief grondplaats en btw)\nGrondplaats: €6\,00 per meter\nStroom: op aanvraag\nDoelgroep: campinggasten en bezoekers uit de regio\n\nAanmelden kan via de marktlijst door de gewenste markt(en) aan te vinken en je gegevens in te vullen. Na verzending ontvang je een bevestiging of annulering. Zonder bevestiging is deelname niet definitief. \nBetaling gebeurt contant op de markt; je ontvangt een kwitantie. Door inschrijving ga je akkoord met de geldende voorwaarden. \nEen kleinschalige markt met een ontspannen karakter op de camping.
URL:https://marktenmeer.nl/markt/campingmarkt-wezuperbrug-4-augustus-2026/
LOCATION:camping Kuierpad\, Wezuperbrug\, Wezuperbrug\, Netherlands
CATEGORIES:Braderie Drenthe,Braderieën,Campingmarkten,Campingmarkten Drenthe,Drenthe
END:VEVENT
BEGIN:VEVENT
DTSTART;TZID=Europe/Amsterdam:20260804T140000
DTEND;TZID=Europe/Amsterdam:20260804T210000
DTSTAMP:20260419T235751
CREATED:20260408T082633Z
LAST-MODIFIED:20260408T082633Z
UID:25049-1785852000-1785877200@marktenmeer.nl
SUMMARY:Vleddermarkt Vledder – 4 augustus 2026
DESCRIPTION:Op dinsdag 4 augustus 2026 vindt de Vleddermarkt in Vledder plaats. Deze zomermarkt in Vledder is onderdeel van een bekende reeks markten die elke zomer veel bezoekers trekken. Tijdens de Vleddermarkt in Vledder kun je in de middag en avond langs een groot aantal kramen wandelen en genieten van de levendige sfeer in het dorpscentrum. \nDe markt staat bekend om het brede en toegankelijke aanbod. Je vindt er onder andere kleding\, sieraden\, streekproducten en tweedehands spullen. Daarnaast zijn er vaak eetkraampjes en muziek aanwezig\, wat zorgt voor een gezellige en drukbezochte setting. Ook de kinderrommelmarkt is een vast onderdeel\, waar kinderen hun eigen spullen verkopen. Dit maakt de markt aantrekkelijk voor gezinnen en zorgt voor extra dynamiek. \nVoor bezoekers\n\nDatum: 4 augustus 2026\nTijd: 14:00 – 21:00\nPlaats: Vledder\nLocatie: centrum Vledder\nType markt: braderie / zomermarkt\n\nDoor de middag- en avondtijden is de markt geschikt voor zowel een kort bezoek als een langere avond. In de avond neemt de drukte doorgaans toe. \nVoor standhouders\nDe Vleddermarkt in Vledder biedt standhouders een plek binnen een goed bezochte zomermarkt met een breed publiek. \n\nKosten kraam: €56\,- (inclusief 4 meter)\nExtra meters: €6\,- per meter\nStroomvoorziening:\n\n1x 230V: €7\,50\n2x 230V: €15\,-\n1x 16 amp: €15\,-\n2x 16 amp: €25\,-\n1x 32 amp: €25\,-\n2x 32 amp: €40\,-\n\n\nFood toegestaan: ja\n\nDe doelgroep bestaat uit toeristen\, gezinnen en vaste bezoekers van de zomermarkten. Een gevarieerd en toegankelijk aanbod sluit hier goed op aan. \nDe Vleddermarkt in Vledder is een drukbezochte zomermarkt met een combinatie van traditie en variatie.
URL:https://marktenmeer.nl/markt/vleddermarkt-vledder-4-augustus-2026/
LOCATION:Vledder\, Vledder\, Netherlands
CATEGORIES:Braderie Drenthe,Braderieën,Drenthe
END:VEVENT
END:VCALENDAR