BEGIN:VCALENDAR
VERSION:2.0
PRODID:-//Markten en meer - ECPv6.15.20//NONSGML v1.0//EN
CALSCALE:GREGORIAN
METHOD:PUBLISH
X-WR-CALNAME:Markten en meer
X-ORIGINAL-URL:https://marktenmeer.nl
X-WR-CALDESC:Evenementen voor Markten en meer
REFRESH-INTERVAL;VALUE=DURATION:PT1H
X-Robots-Tag:noindex
X-PUBLISHED-TTL:PT1H
BEGIN:VTIMEZONE
TZID:Europe/Amsterdam
BEGIN:DAYLIGHT
TZOFFSETFROM:+0100
TZOFFSETTO:+0200
TZNAME:CEST
DTSTART:20250330T010000
END:DAYLIGHT
BEGIN:STANDARD
TZOFFSETFROM:+0200
TZOFFSETTO:+0100
TZNAME:CET
DTSTART:20251026T010000
END:STANDARD
BEGIN:DAYLIGHT
TZOFFSETFROM:+0100
TZOFFSETTO:+0200
TZNAME:CEST
DTSTART:20260329T010000
END:DAYLIGHT
BEGIN:STANDARD
TZOFFSETFROM:+0200
TZOFFSETTO:+0100
TZNAME:CET
DTSTART:20261025T010000
END:STANDARD
BEGIN:DAYLIGHT
TZOFFSETFROM:+0100
TZOFFSETTO:+0200
TZNAME:CEST
DTSTART:20270328T010000
END:DAYLIGHT
BEGIN:STANDARD
TZOFFSETFROM:+0200
TZOFFSETTO:+0100
TZNAME:CET
DTSTART:20271031T010000
END:STANDARD
END:VTIMEZONE
BEGIN:VEVENT
DTSTART;TZID=Europe/Amsterdam:20260805T100000
DTEND;TZID=Europe/Amsterdam:20260805T170000
DTSTAMP:20260419T235747
CREATED:20260211T082539Z
LAST-MODIFIED:20260328T220759Z
UID:19426-1785924000-1785949200@marktenmeer.nl
SUMMARY:Braderie & Vlooienmarkt Siepeldagen Dwingeloo | Woensdag 5 augustus 2026 – Dwingeloo
DESCRIPTION:Op woensdag 5 augustus 2026 vindt in het centrum van Dwingeloo opnieuw een Braderie & Vlooienmarkt tijdens de Siepeldagen plaats. Van 10.00 tot 17.00 uur staat het dorp in het teken van een levendige zomermarkt met een gevarieerd aanbod. \nDe Siepeldagen zorgen ieder jaar voor extra bezoekers in Dwingeloo. Dat betekent een constante stroom publiek langs de kramen. De braderie biedt ondernemers ruimte om hun producten en diensten te presenteren aan een breed publiek. De vlooienmarkt trekt bezoekers die graag struinen tussen tweedehands spullen\, curiosa en koopjes. Deze combinatie maakt de markt aantrekkelijk voor jong en oud. \nVoor standhouders is deelname interessant door de zichtbare locatie in het centrum en de hoge bezoekersaantallen. De organisatie is in handen van Organisatieburo Wildro\, dat zorgt voor een duidelijke marktindeling en heldere voorwaarden. \nPraktische informatie\n\nDatum: woensdag 5 augustus 2026\nTijd: 10.00 – 17.00 uur\nLocatie: Centrum Dwingeloo\nType markt: braderie & vlooienmarkt\n\nInformatie voor standhouders\nBraderie\n\nGrondplaats: € 6\,00 per strekkende meter\nKraam: € 45\,00 per kraam (excl. btw\, incl. grondplaats)\n\nVlooienmarkt\n\nGrondplaats: € 3\,00 per strekkende meter\nKraam: € 30\,00 per kraam (incl. grondplaats)\n\n(Over grondplaatsen wordt geen btw berekend)
URL:https://marktenmeer.nl/markt/siepeldagen-dwingeloo-braderie-vlooienmarkt-5-augustus-2026/
LOCATION:Dwingeloo\, Dwingeloo\, Netherlands
CATEGORIES:Braderie Drenthe,Braderieën,Drenthe,Rommelmarkten,Rommelmarkten Drenthe
END:VEVENT
BEGIN:VEVENT
DTSTART;TZID=Europe/Amsterdam:20260805T110000
DTEND;TZID=Europe/Amsterdam:20260805T170000
DTSTAMP:20260419T235747
CREATED:20260329T084716Z
LAST-MODIFIED:20260329T084716Z
UID:23924-1785927600-1785949200@marktenmeer.nl
SUMMARY:Braderie en vlomarkt Schoonoord – 5 augustus 2026
DESCRIPTION:De braderie en vlomarkt in Schoonoord op 5 augustus 2026 is een zomerse markt waar je op je gemak langs de kramen kunt struinen. In dit dorp\, ontstaan langs het Oranjekanaal\, vind je een combinatie van braderiekramen en tweedehands verkoop. Deze markt in Schoonoord biedt een gevarieerd aanbod en is geschikt voor bezoekers die willen rondkijken\, iets zoeken of gewoon de sfeer willen ervaren. \nDe sfeer is gemoedelijk en dorps. Standhouders bieden een mix van producten aan\, van kleding en accessoires tot curiosa\, huisraad en kleine vondsten. De combinatie van nieuwe en gebruikte artikelen maakt deze braderie en vlomarkt in Schoonoord aantrekkelijk voor een breed publiek. Door de ligging in een bosrijke omgeving is het bovendien goed te combineren met een wandeling of fietstocht. \nVoor bezoekers\n\nDatum: woensdag 5 augustus 2026\nTijd: 11.00 – 17.00 uur\nLocatie: centrum Schoonoord\nEntree: gratis\nType markt: braderie en vlomarkt\nAanbod: combinatie van nieuwe en tweedehands producten\,\n\nVoor standhouders\nDeze markt in Schoonoord biedt ruimte aan zowel braderiekramen als verkopers op de vlomarkt. Door de combinatie van typen standhouders trekt het evenement een breed publiek. \n\nKraamprijs braderie: €46\,- (incl. 4 meter grondplaats)\nGrondplaats braderie: €7\,- per meter (minimaal 4 meter)\nStroom (230V): €8\,- per aansluiting\nHobbykraam: €30\,- (incl. 4 meter\, voorwaarden van toepassing)\nVlomarkt grondplaats: €3\,- per meter (minimaal 5 meter)\nKraam vlomarkt: €30\,- (optioneel\, reserveren via inschrijving)\nStroom aanwezig: ja\nDoelgroep: breed publiek\, met interesse in markten en tweedehands aanbod\n\nDeze braderie en vlomarkt in Schoonoord biedt een toegankelijke en gevarieerde marktdag.
URL:https://marktenmeer.nl/markt/braderie-en-vlomarkt-schoonoord-5-augustus-2026/
LOCATION:Schoonoord\, Schoonoord\, Netherlands
CATEGORIES:Braderie Drenthe,Braderieën,Drenthe,Rommelmarkten,Rommelmarkten Drenthe
END:VEVENT
END:VCALENDAR