BEGIN:VCALENDAR
VERSION:2.0
PRODID:-//Markten en meer - ECPv6.15.20//NONSGML v1.0//EN
CALSCALE:GREGORIAN
METHOD:PUBLISH
X-WR-CALNAME:Markten en meer
X-ORIGINAL-URL:https://marktenmeer.nl
X-WR-CALDESC:Evenementen voor Markten en meer
REFRESH-INTERVAL;VALUE=DURATION:PT1H
X-Robots-Tag:noindex
X-PUBLISHED-TTL:PT1H
BEGIN:VTIMEZONE
TZID:Europe/Amsterdam
BEGIN:DAYLIGHT
TZOFFSETFROM:+0100
TZOFFSETTO:+0200
TZNAME:CEST
DTSTART:20250330T010000
END:DAYLIGHT
BEGIN:STANDARD
TZOFFSETFROM:+0200
TZOFFSETTO:+0100
TZNAME:CET
DTSTART:20251026T010000
END:STANDARD
BEGIN:DAYLIGHT
TZOFFSETFROM:+0100
TZOFFSETTO:+0200
TZNAME:CEST
DTSTART:20260329T010000
END:DAYLIGHT
BEGIN:STANDARD
TZOFFSETFROM:+0200
TZOFFSETTO:+0100
TZNAME:CET
DTSTART:20261025T010000
END:STANDARD
BEGIN:DAYLIGHT
TZOFFSETFROM:+0100
TZOFFSETTO:+0200
TZNAME:CEST
DTSTART:20270328T010000
END:DAYLIGHT
BEGIN:STANDARD
TZOFFSETFROM:+0200
TZOFFSETTO:+0100
TZNAME:CET
DTSTART:20271031T010000
END:STANDARD
END:VTIMEZONE
BEGIN:VEVENT
DTSTART;VALUE=DATE:20260806
DTEND;VALUE=DATE:20260807
DTSTAMP:20260419T235751
CREATED:20251215T080957Z
LAST-MODIFIED:20260408T083235Z
UID:16663-1785974400-1786060799@marktenmeer.nl
SUMMARY:Mokum in Meppel 2026 | Donderdag Meppeldag 6 augustus
DESCRIPTION:Mokum in Meppel vindt plaats op donderdag 6 augustus 2026 en is een thematische editie binnen de Donderdag Meppeldag-reeks. Tijdens deze dag staat de binnenstad van Meppel in het teken van Amsterdamse gezelligheid\, herkenbare sfeer en zomerse levendigheid. \nMokum in Meppel is geliefd bij bezoekers die houden van een uitbundige\, maar toegankelijke stadsbeleving. Het centrum vormt het decor voor een dag waarop sfeer en beleving centraal staan en de stad nét even anders aanvoelt dan normaal. Je kunt vrij door de stad bewegen\, genieten van de ambiance en je laten verrassen door wat je onderweg tegenkomt. \nOp donderdag 6 augustus 2026 vindt een van de Donderdag Meppeldagen plaats in Meppel. Dit stadsfestival is een bekend en drukbezocht evenement in de regio en trekt jaarlijks veel bezoekers naar het centrum. Tijdens de Donderdag Meppeldag in Meppel staat de binnenstad in het teken van een combinatie van markt\, entertainment en ontmoeting. \nDe sfeer is levendig en gevarieerd\, met kramen verspreid door het centrum. Je vindt er een breed aanbod van producten\, van kleding en accessoires tot cadeauartikelen en food. Door de combinatie met activiteiten en entertainment is er de hele dag door aanloop van bezoekers. Dit maakt het evenement aantrekkelijk voor zowel inwoners als toeristen. \nVoor bezoekers\n\nDatum: 6 augustus 2026\nTijd: 09:00 – 18:00\nPlaats: Meppel\nLocatie: centrum Meppel\nType markt: braderie / stadsfestival\n\nDe markt is goed toegankelijk en verspreid over het centrum. In de middag is het doorgaans het drukst. \nVoor standhouders\nDe Donderdag Meppeldag in Meppel biedt standhouders een plek binnen een groot en drukbezocht evenement met een brede doelgroep. \n\nKosten kraam: €62\,- (inclusief 4 meter)\nExtra meters: €7\,50 per meter\nStroomvoorziening:\n\n1x 230V: €7\,50\n2x 230V: €15\,-\n1x 16 amp: €15\,-\n2x 16 amp: €25\,-\n1x 32 amp: €25\,-\n2x 32 amp: €40\,-\n\n\n\nFoodstandplaatsen (uitgebreide tijden): \n\nKosten: €242\,- incl. btw en stroom (gebaseerd op 09:00 – 01:00 uur)\nFood toegestaan: ja\n\nDe doelgroep bestaat uit een breed publiek: inwoners\, dagjesmensen en toeristen. Producten die geschikt zijn voor een groot en divers publiek sluiten hier goed op aan. \nDe Donderdag Meppeldag in Meppel is een drukbezocht stadsfestival met een combinatie van markt en entertainment.
URL:https://marktenmeer.nl/markt/mokum-in-meppel-6-augustus-2026/
LOCATION:Meppel\, Meppel\, Netherlands
CATEGORIES:Braderie Drenthe,Braderieën,Drenthe
END:VEVENT
BEGIN:VEVENT
DTSTART;TZID=Europe/Amsterdam:20260806T100000
DTEND;TZID=Europe/Amsterdam:20260806T163000
DTSTAMP:20260419T235751
CREATED:20260407T104227Z
LAST-MODIFIED:20260407T104227Z
UID:24966-1786010400-1786033800@marktenmeer.nl
SUMMARY:Zuidlaren Hondsrugmarkt – braderie en vlooienmarkt in Zuidlaren (6 augustus 2026)
DESCRIPTION:De Zuidlaren Hondsrugmarkt op donderdag 6 augustus 2026 is een combinatie van braderie en vlooienmarkt op de karakteristieke Brink. Deze zomermarkt in Zuidlaren staat bekend om de groene omgeving en de ontspannen sfeer. Bezoekers kunnen hier langs kramen struinen met een mix van tweedehands spullen\, curiosa en nieuwe producten. De markt trekt zowel vakantiegangers als bezoekers uit de regio. \nDe Brink ligt centraal in het dorp en wordt omringd door terrassen en karakteristieke panden. Tijdens de markt ontstaat een levendige maar overzichtelijke sfeer. Het aanbod wordt aangevuld met eet- en drinkmogelijkheden\, waardoor je het bezoek eenvoudig kunt afwisselen. \nVoor bezoekers\n\nType markt: braderie en vlooienmarkt\nPlaats: Zuidlaren\nDatum: donderdag 6 augustus 2026\nTijd: 10.00 – 16.30 uur\nLocatie: De Brink\, 9470 AE Zuidlaren\nEntree: gratis\nParkeren: gratis in de nabije omgeving\n\nVoor standhouders\n\nReserveren: verplicht\n\nBraderie: \n\nStandplaats 4 meter: vanaf €37\,50\nExtra meters: €6\,50 per meter\nKraam (4 meter met bovenbouw): €52\,50 (extra kraam €41)\nFoodstandplaats (4 meter): €75\n\nVlooienmarkt: \n\nStandplaats 5 meter: €22\,50\nExtra meters: €4 per meter\nStandplaats incl. kraam (4 meter): €37\,50\n\nHobby/Ambachten: \n\nStandplaats incl. kraam (4 meter): €40\nDiepte standplaats: 2\,5 meter\nFood toegestaan: ja (op aanvraag)\nOpbouw: 08.00 – 09.30 uur (melden vóór 08.15 uur op donderdag)\n\nStandhouders kunnen tijdens het opbouwen met de auto bij hun standplaats komen. Daarna wordt deze elders geparkeerd\, tenzij anders aangegeven. Het is belangrijk dat de stand tot het einde van de markt open blijft. \nDe Zuidlaren Hondsrugmarkt biedt een combinatie van sfeer\, locatie en een gevarieerd aanbod.
URL:https://marktenmeer.nl/markt/zuidlaren-hondsrugmarkt-6-augustus-2026/
LOCATION:Zuidlaren\, Zuidlaren\, Netherlands
CATEGORIES:Braderie Drenthe,Braderieën,Drenthe,Rommelmarkten,Rommelmarkten Drenthe
END:VEVENT
BEGIN:VEVENT
DTSTART;TZID=Europe/Amsterdam:20260806T100000
DTEND;TZID=Europe/Amsterdam:20260806T170000
DTSTAMP:20260419T235751
CREATED:20260211T082940Z
LAST-MODIFIED:20260328T220758Z
UID:19428-1786010400-1786035600@marktenmeer.nl
SUMMARY:Braderie & Vlooienmarkt Pulledagen Hoogeveen | Donderdag 6 augustus 2026 – Hoogeveen
DESCRIPTION:Op donderdag 6 augustus 2026 staat het centrum van Hoogeveen in het teken van de Pulledagen met een uitgebreide braderie en vlooienmarkt. Van 10.00 tot 17.00 uur trekken bezoekers door het centrum om te winkelen\, te struinen en te genieten van de zomerse sfeer. \nDe Pulledagen zijn een bekend evenement in Hoogeveen en zorgen voor veel publiek. De braderie biedt ondernemers ruimte om hun assortiment te presenteren aan een breed publiek. De vlooienmarkt trekt koopjesjagers en verzamelaars die op zoek zijn naar tweedehands vondsten en bijzondere items. De combinatie zorgt voor een gevarieerd aanbod en een levendig marktbeeld. \nDe organisatie is in handen van Organisatieburo Wildro\, dat zorgt voor een duidelijke indeling en heldere deelnamevoorwaarden. \nPraktische informatie\n\nDatum: donderdag 6 augustus 2026\nTijd: 10.00 – 17.00 uur\nLocatie: Centrum Hoogeveen\nType markt: braderie & vlooienmarkt\n\nInformatie voor standhouders\nBraderie\n\nGrondplaats: € 10\,00 per strekkende meter\nKraam: € 50\,00 per kraam (excl. btw\, incl. grondplaats)\n\nVlooienmarkt\n\nGrondplaats: € 3\,00 per strekkende meter\nKraam: € 30\,00 per kraam (incl. grondplaats)\n\n(Over grondplaatsen wordt geen btw berekend)
URL:https://marktenmeer.nl/markt/pulledagen-hoogeveen-braderie-vlooienmarkt-6-augustus-2026/
LOCATION:Hoogeveen\, Hoogeveen\, Netherlands
CATEGORIES:Braderie Drenthe,Braderieën,Drenthe,Rommelmarkten,Rommelmarkten Drenthe
END:VEVENT
END:VCALENDAR