BEGIN:VCALENDAR
VERSION:2.0
PRODID:-//Markten en meer - ECPv6.15.20//NONSGML v1.0//EN
CALSCALE:GREGORIAN
METHOD:PUBLISH
X-WR-CALNAME:Markten en meer
X-ORIGINAL-URL:https://marktenmeer.nl
X-WR-CALDESC:Evenementen voor Markten en meer
REFRESH-INTERVAL;VALUE=DURATION:PT1H
X-Robots-Tag:noindex
X-PUBLISHED-TTL:PT1H
BEGIN:VTIMEZONE
TZID:Europe/Amsterdam
BEGIN:DAYLIGHT
TZOFFSETFROM:+0100
TZOFFSETTO:+0200
TZNAME:CEST
DTSTART:20250330T010000
END:DAYLIGHT
BEGIN:STANDARD
TZOFFSETFROM:+0200
TZOFFSETTO:+0100
TZNAME:CET
DTSTART:20251026T010000
END:STANDARD
BEGIN:DAYLIGHT
TZOFFSETFROM:+0100
TZOFFSETTO:+0200
TZNAME:CEST
DTSTART:20260329T010000
END:DAYLIGHT
BEGIN:STANDARD
TZOFFSETFROM:+0200
TZOFFSETTO:+0100
TZNAME:CET
DTSTART:20261025T010000
END:STANDARD
BEGIN:DAYLIGHT
TZOFFSETFROM:+0100
TZOFFSETTO:+0200
TZNAME:CEST
DTSTART:20270328T010000
END:DAYLIGHT
BEGIN:STANDARD
TZOFFSETFROM:+0200
TZOFFSETTO:+0100
TZNAME:CET
DTSTART:20271031T010000
END:STANDARD
END:VTIMEZONE
BEGIN:VEVENT
DTSTART;VALUE=DATE:20260813
DTEND;VALUE=DATE:20260814
DTSTAMP:20260419T235806
CREATED:20251215T081449Z
LAST-MODIFIED:20260408T083914Z
UID:16665-1786579200-1786665599@marktenmeer.nl
SUMMARY:Donderdag Meppeldag 13 augustus 2026 | Zomers stadsfestival
DESCRIPTION:De Donderdag Meppeldag van 13 augustus 2026 vormt een zomers hoogtepunt in het centrum van Meppel. Als onderdeel van de bekende Donderdag Meppeldagen staat ook deze editie volledig in het teken van gezelligheid\, ontmoeting en het vieren van de stad. \nOp deze dag komt Meppel extra tot leven. Bezoekers wandelen door de binnenstad\, genieten van de sfeer en maken er samen een ontspannen zomerdag van. Donderdag Meppeldag is toegankelijk voor iedereen en leent zich perfect voor een spontaan bezoek\, of je nu een paar uur blijft of de hele dag in de stad doorbrengt. \nOp donderdag 13 augustus 2026 vindt een van de Donderdag Meppeldagen plaats in Meppel. Dit stadsfestival is een bekend en drukbezocht evenement in de regio en trekt jaarlijks veel bezoekers naar het centrum. Tijdens de Donderdag Meppeldag in Meppel staat de binnenstad in het teken van een combinatie van markt\, entertainment en ontmoeting. \nDe sfeer is levendig en gevarieerd\, met kramen verspreid door het centrum. Je vindt er een mix van producten zoals kleding\, accessoires en cadeauartikelen\, aangevuld met food en activiteiten. Door de combinatie met entertainment en het stadsfestivalkarakter is er de hele dag door aanloop van bezoekers. Dit maakt het evenement aantrekkelijk voor een breed publiek. \nVoor bezoekers\n\nDatum: 13 augustus 2026\nTijd: 09:00 – 18:00\nPlaats: Meppel\nLocatie: centrum Meppel\nType markt: braderie / stadsfestival\n\nDe markt is goed toegankelijk en verspreid over het centrum. In de middag is het doorgaans het drukst. \nVoor standhouders\nDe Donderdag Meppeldag in Meppel biedt standhouders een plek binnen een groot en drukbezocht evenement met een brede doelgroep. \n\nKosten kraam: €62\,- (inclusief 4 meter)\nExtra meters: €7\,50 per meter\nStroomvoorziening:\n\n1x 230V: €7\,50\n2x 230V: €15\,-\n1x 16 amp: €15\,-\n2x 16 amp: €25\,-\n1x 32 amp: €25\,-\n2x 32 amp: €40\,-\n\n\n\nFoodstandplaatsen (uitgebreide tijden): \n\nKosten: €242\,- incl. btw en stroom (gebaseerd op 09:00 – 01:00 uur)\nFood toegestaan: ja\n\nDe doelgroep bestaat uit inwoners\, toeristen en dagjesmensen. Producten die geschikt zijn voor een breed publiek sluiten hier goed op aan. \nDe Donderdag Meppeldag in Meppel is een drukbezocht stadsfestival met een combinatie van markt en entertainment.
URL:https://marktenmeer.nl/markt/donderdag-meppeldag-13-augustus-2026/
LOCATION:Meppel\, Meppel\, Netherlands
CATEGORIES:Braderie Drenthe,Braderieën,Drenthe
END:VEVENT
BEGIN:VEVENT
DTSTART;TZID=Europe/Amsterdam:20260813T100000
DTEND;TZID=Europe/Amsterdam:20260813T170000
DTSTAMP:20260419T235806
CREATED:20260211T084510Z
LAST-MODIFIED:20260328T220719Z
UID:19432-1786615200-1786640400@marktenmeer.nl
SUMMARY:Braderie & Vlooienmarkt Pulledagen Hoogeveen | Donderdag 13 augustus 2026 – Hoogeveen
DESCRIPTION:Op donderdag 13 augustus 2026 staat het centrum van Hoogeveen opnieuw in het teken van de Pulledagen met een uitgebreide braderie en vlooienmarkt. Van 10.00 tot 17.00 uur bruist het centrum van de activiteiten en bezoekers. \nDe Pulledagen behoren tot de bekendste zomerevenementen in Hoogeveen. Tijdens deze editie presenteren ondernemers hun assortiment op de braderie\, terwijl particulieren en handelaren op de vlooienmarkt tweedehands spullen\, curiosa en verrassende vondsten aanbieden. De combinatie zorgt voor een gevarieerd aanbod en een brede doelgroep. \nDe organisatie is in handen van Organisatieburo Wildro\, dat zorgt voor een duidelijke indeling en heldere deelnamevoorwaarden. \nPraktische informatie\n\nDatum: donderdag 13 augustus 2026\nTijd: 10.00 – 17.00 uur\nLocatie: Centrum Hoogeveen\nType markt: braderie & vlooienmarkt\n\nInformatie voor standhouders\nBraderie\n\nGrondplaats: € 10\,00 per strekkende meter\nKraam: € 50\,00 per kraam (excl. btw\, incl. grondplaats)\n\nVlooienmarkt\n\nGrondplaats: € 3\,00 per strekkende meter\nKraam: € 30\,00 per kraam (incl. grondplaats)\n\n(Over grondplaatsen wordt geen btw berekend)
URL:https://marktenmeer.nl/markt/pulledagen-hoogeveen-braderie-vlooienmarkt-13-augustus-2026/
LOCATION:Hoogeveen\, Hoogeveen\, Netherlands
CATEGORIES:Braderie Drenthe,Braderieën,Drenthe,Rommelmarkten,Rommelmarkten Drenthe
END:VEVENT
END:VCALENDAR