BEGIN:VCALENDAR
VERSION:2.0
PRODID:-//Markten en meer - ECPv6.15.20//NONSGML v1.0//EN
CALSCALE:GREGORIAN
METHOD:PUBLISH
X-ORIGINAL-URL:https://marktenmeer.nl
X-WR-CALDESC:Evenementen voor Markten en meer
REFRESH-INTERVAL;VALUE=DURATION:PT1H
X-Robots-Tag:noindex
X-PUBLISHED-TTL:PT1H
BEGIN:VTIMEZONE
TZID:Europe/Amsterdam
BEGIN:DAYLIGHT
TZOFFSETFROM:+0100
TZOFFSETTO:+0200
TZNAME:CEST
DTSTART:20250330T010000
END:DAYLIGHT
BEGIN:STANDARD
TZOFFSETFROM:+0200
TZOFFSETTO:+0100
TZNAME:CET
DTSTART:20251026T010000
END:STANDARD
BEGIN:DAYLIGHT
TZOFFSETFROM:+0100
TZOFFSETTO:+0200
TZNAME:CEST
DTSTART:20260329T010000
END:DAYLIGHT
BEGIN:STANDARD
TZOFFSETFROM:+0200
TZOFFSETTO:+0100
TZNAME:CET
DTSTART:20261025T010000
END:STANDARD
BEGIN:DAYLIGHT
TZOFFSETFROM:+0100
TZOFFSETTO:+0200
TZNAME:CEST
DTSTART:20270328T010000
END:DAYLIGHT
BEGIN:STANDARD
TZOFFSETFROM:+0200
TZOFFSETTO:+0100
TZNAME:CET
DTSTART:20271031T010000
END:STANDARD
END:VTIMEZONE
BEGIN:VEVENT
DTSTART;TZID=Europe/Amsterdam:20260814T110000
DTEND;TZID=Europe/Amsterdam:20260814T170000
DTSTAMP:20260425T222602
CREATED:20260329T073509Z
LAST-MODIFIED:20260329T073509Z
UID:23882-1786705200-1786726800@marktenmeer.nl
SUMMARY:Braderie en vlomarkt Borger – 14 augustus 2026
DESCRIPTION:De braderie en vlomarkt in Borger op 14 augustus 2026 is een zomerse markt waar je rustig langs de kramen kunt struinen. In het centrum van het dorp vind je een combinatie van braderiekramen en tweedehands verkoop\, wat zorgt voor een gevarieerd aanbod. Deze markt in Borger is geschikt voor bezoekers die iets willen kopen\, maar ook voor wie gewoon wil rondkijken. Door de overzichtelijke opzet is het een prettige plek om een paar uur door te brengen. \nDe sfeer is gemoedelijk en dorps. Standhouders bieden een mix van producten aan\, van kleding en accessoires tot curiosa\, huisraad en kleine vondsten. De combinatie van nieuwe en gebruikte artikelen maakt deze braderie en vlomarkt in Borger aantrekkelijk voor een breed publiek. In de zomerperiode is het bovendien goed te combineren met een wandeling of fietstocht in de omgeving van de Hondsrug. \nVoor bezoekers\n\nDatum: vrijdag 14 augustus 2026\nTijd: 11.00 – 17.00 uur\nLocatie: centrum Borger\nEntree: gratis\nType markt: braderie en vlomarkt\nAanbod: combinatie van nieuwe en tweedehands producten\n\nVoor standhouders\nDeze markt in Borger biedt ruimte aan zowel braderiekramen als verkopers op de vlomarkt. Door de combinatie van typen standhouders trekt het evenement een breed publiek. \n\nKraamprijs braderie: €46\,- (incl. 4 meter grondplaats)\nGrondplaats braderie: €7\,- per meter (minimaal 4 meter)\nStroom (230V): €8\,- per aansluiting\nHobbykraam: €30\,- (incl. 4 meter\, voorwaarden van toepassing)\nVlomarkt grondplaats: €3\,- per meter (minimaal 5 meter)\nKraam vlomarkt: €30\,- (optioneel\, reserveren via inschrijving)\nStroom aanwezig: ja\nDoelgroep: breed publiek\, met interesse in markten en tweedehands aanbod\n\nDeze braderie en vlomarkt in Borger biedt een toegankelijke en gevarieerde marktdag.
URL:https://marktenmeer.nl/markt/braderie-en-vlomarkt-borger-14-augustus-2026/
LOCATION:Borger\, Borger\, Netherlands
CATEGORIES:Braderie Drenthe,Braderieën,Drenthe,Rommelmarkten,Rommelmarkten Drenthe
END:VEVENT
BEGIN:VEVENT
DTSTART;TZID=Europe/Amsterdam:20260814T110000
DTEND;TZID=Europe/Amsterdam:20260814T180000
DTSTAMP:20260425T222602
CREATED:20260401T130832Z
LAST-MODIFIED:20260401T130832Z
UID:24304-1786705200-1786730400@marktenmeer.nl
SUMMARY:Zomermarkt Beilen – 14 augustus 2026
DESCRIPTION:De Zomermarkt in Beilen op 14 augustus 2026 is de laatste in een reeks van zomermarkten in het centrum. Deze markt in Beilen trekt bezoekers die willen genieten van een levendige en toegankelijke markt in de zomerperiode. Door de combinatie van kramen en een centrale locatie is het een vaste activiteit voor zowel inwoners als bezoekers. \nHet aanbod is gevarieerd en bestaat uit een mix van nieuwe producten en tweedehands artikelen. Je vindt er kramen met kleding\, accessoires\, woonartikelen en food. Daarnaast is er ruimte voor een vlomarkt\, wat zorgt voor extra afwisseling. De zomerse sfeer en de drukte in het centrum maken het een prettige plek om rond te lopen. \nVoor bezoekers\n\nDatum: vrijdag 14 augustus 2026\nTijd: 11:00 – 18:00 uur\nLocatie: centrum van Beilen\nType markt: zomermarkt met vlomarkt\nAanbod: kramen met kleding\, accessoires\, food en tweedehands artikelen\nSfeer: levendig\, zomers en toegankelijk\n\nVoor standhouders\n\nKraamprijs: €40\,00 (inclusief grondplaats en btw)\nGrondplaats: €5\,00 per meter\nVlomarkt: €2\,50 per meter\nStroom: op aanvraag\nFood: toegestaan op aanvraag\nDoelgroep: breed publiek\, winkelend publiek en dagjesmensen\n\nAanmelden kan via de marktlijst door de gewenste markt(en) aan te vinken en je gegevens in te vullen. Na verzending ontvang je een bevestiging of annulering. Zonder bevestiging is deelname niet definitief. \nBetaling gebeurt contant op de markt; je ontvangt een kwitantie. Door inschrijving ga je akkoord met de geldende voorwaarden. \nEen zomerse afsluiting van de reeks markten in Beilen.
URL:https://marktenmeer.nl/markt/zomermarkt-beilen-14-augustus-2026/
LOCATION:Beilen\, Beilen\, Netherlands
CATEGORIES:Braderie Drenthe,Braderieën,Drenthe,Rommelmarkten,Rommelmarkten Drenthe
END:VEVENT
END:VCALENDAR