BEGIN:VCALENDAR
VERSION:2.0
PRODID:-//Markten en meer - ECPv6.15.20//NONSGML v1.0//EN
CALSCALE:GREGORIAN
METHOD:PUBLISH
X-WR-CALNAME:Markten en meer
X-ORIGINAL-URL:https://marktenmeer.nl
X-WR-CALDESC:Evenementen voor Markten en meer
REFRESH-INTERVAL;VALUE=DURATION:PT1H
X-Robots-Tag:noindex
X-PUBLISHED-TTL:PT1H
BEGIN:VTIMEZONE
TZID:Europe/Amsterdam
BEGIN:DAYLIGHT
TZOFFSETFROM:+0100
TZOFFSETTO:+0200
TZNAME:CEST
DTSTART:20250330T010000
END:DAYLIGHT
BEGIN:STANDARD
TZOFFSETFROM:+0200
TZOFFSETTO:+0100
TZNAME:CET
DTSTART:20251026T010000
END:STANDARD
BEGIN:DAYLIGHT
TZOFFSETFROM:+0100
TZOFFSETTO:+0200
TZNAME:CEST
DTSTART:20260329T010000
END:DAYLIGHT
BEGIN:STANDARD
TZOFFSETFROM:+0200
TZOFFSETTO:+0100
TZNAME:CET
DTSTART:20261025T010000
END:STANDARD
BEGIN:DAYLIGHT
TZOFFSETFROM:+0100
TZOFFSETTO:+0200
TZNAME:CEST
DTSTART:20270328T010000
END:DAYLIGHT
BEGIN:STANDARD
TZOFFSETFROM:+0200
TZOFFSETTO:+0100
TZNAME:CET
DTSTART:20271031T010000
END:STANDARD
END:VTIMEZONE
BEGIN:VEVENT
DTSTART;VALUE=DATE:20260816
DTEND;VALUE=DATE:20260817
DTSTAMP:20260419T235745
CREATED:20251220T102024Z
LAST-MODIFIED:20260328T220719Z
UID:17203-1786838400-1786924799@marktenmeer.nl
SUMMARY:Orveltermarkt Orvelte 16 augustus 2026 | Zomer & sfeer
DESCRIPTION:Op zondag 16 augustus 2026 vindt de Orveltermarkt plaats in het monumentale dorp Orvelte. Deze zomermarkt staat bekend om haar ontspannen sfeer\, kleinschalige opzet en gevarieerd aanbod. \nTijdens je bezoek wandel je langs kramen met brocante\, woonaccessoires\, decoratie en unieke vondsten met karakter. De Orveltermarkt richt zich op kwaliteit en uitstraling\, waardoor het aanbod goed aansluit bij de sfeer van het dorp. Geen drukte\, maar ruimte om rustig rond te kijken en inspiratie op te doen. \nDe zomerse periode maakt deze markt ideaal voor een dagje uit. Combineer je bezoek met een terrasje\, een lunch of een wandeling door Orvelte en de omgeving. De Orveltermarkt is geliefd bij zowel vaste bezoekers als toeristen die het dorp voor het eerst ontdekken. Een fijne\, ongedwongen marktbeleving in het hart van Drenthe.
URL:https://marktenmeer.nl/markt/orveltermarkt-orvelte-16-augustus-2026/
LOCATION:Orvelte\, Orvelte\, Netherlands
CATEGORIES:Drenthe,Fairs
END:VEVENT
BEGIN:VEVENT
DTSTART;TZID=Europe/Amsterdam:20260816T110000
DTEND;TZID=Europe/Amsterdam:20260816T170000
DTSTAMP:20260419T235745
CREATED:20260109T104834Z
LAST-MODIFIED:20260328T220719Z
UID:18117-1786878000-1786899600@marktenmeer.nl
SUMMARY:Boekenmarkt Vledder – zondag 16 augustus 2026
DESCRIPTION:Op zondag 16 augustus 2026 vindt in Vledder voor de tweede keer de Boekenmarkt Vledder plaats. Tussen 11:00 en 17:00 uur verandert het dorpshart in een sfeervolle ontmoetingsplek voor boekenliefhebbers\, verzamelaars en nieuwsgierige bezoekers. De markt strekt zich uit over het Lesturgeonplein\, waar kramen vol boeken zorgen voor een ontspannen en inspirerende sfeer. \nBezoekers kunnen rustig struinen langs een breed aanbod: van romans en poëzie tot kinderboeken\, reisverhalen en bijzondere vondsten. De opzet is overzichtelijk en gemoedelijk\, passend bij het karakter van het dorp. De organisatie wil de boekenmarkt laten uitgroeien tot een jaarlijks terugkerend evenement en Vledder verder op de kaart zetten als plek waar verhalen tot leven komen. \nDe Boekenmarkt Vledder is laagdrempelig en gratis toegankelijk. Of je nu gericht zoekt of gewoon wilt rondkijken: deze zomerse zondag staat in het teken van lezen\, ontdekken en gezelligheid. \n\nPraktische informatie (bezoekers)\n\nDatum: zondag 16 augustus 2026\nTijd: 11:00 – 17:00\nPlaats: Lesturgeonplein\, Vledder\nEntree: gratis\nParkeren: op aangewezen locaties rondom het dorp\n\n\nVoor standhouders (kort)\n\nKraam (4 meter): € 50\,-\nExtra meters: € 6\,- per meter\nStroom: 230V en krachtstroom beschikbaar (tegen meerprijs)\nGeschikt voor boekverkopers & verzamelaars
URL:https://marktenmeer.nl/markt/boekenmarkt-vledder-16-augustus-2026/
LOCATION:Vledder\, Vledder\, Netherlands
CATEGORIES:Boekenmarkt,Boekenmarkt Drenthe,Drenthe
END:VEVENT
BEGIN:VEVENT
DTSTART;TZID=Europe/Amsterdam:20260816T110000
DTEND;TZID=Europe/Amsterdam:20260816T170000
DTSTAMP:20260419T235745
CREATED:20260329T071708Z
LAST-MODIFIED:20260329T071708Z
UID:23867-1786878000-1786899600@marktenmeer.nl
SUMMARY:Braderie en vlomarkt Odoorn – 16 augustus 2026
DESCRIPTION:De braderie en vlomarkt in Odoorn op 16 augustus 2026 is een zomerse markt waar je op je gemak langs de kramen kunt struinen. De markt vindt plaats op een van de karakteristieke brinken in het dorp\, wat zorgt voor een open en overzichtelijke setting. Deze markt in Odoorn combineert braderiekramen met tweedehands verkoop\, waardoor het aanbod afwisselend is. Het is een geschikte plek voor bezoekers die iets willen kopen of gewoon willen rondkijken in een ontspannen omgeving. \nDe sfeer is gemoedelijk en dorps. Standhouders bieden een mix van producten aan\, van kleding en accessoires tot curiosa\, huisraad en kleine vondsten. De combinatie van nieuwe en gebruikte artikelen maakt deze braderie en vlomarkt in Odoorn aantrekkelijk voor een breed publiek. In de zomerperiode is het bovendien goed te combineren met een wandeling of fietstocht in de omgeving. \nVoor bezoekers\n\nDatum: zondag 16 augustus 2026\nTijd: 11.00 – 17.00 uur\nLocatie: brink\, Odoorn\nEntree: gratis\nType markt: braderie en vlomarkt\nAanbod: combinatie van nieuwe en tweedehands producten\n\nVoor standhouders\nDeze markt in Odoorn biedt ruimte aan zowel braderiekramen als verkopers op de vlomarkt. Door de combinatie van typen standhouders trekt het evenement een breed publiek. \n\nKraamprijs braderie: €46\,- (incl. 4 meter grondplaats)\nGrondplaats braderie: €7\,- per meter (minimaal 4 meter)\nStroom (230V): €8\,- per aansluiting\nHobbykraam: €30\,- (incl. 4 meter\, voorwaarden van toepassing)\nVlomarkt grondplaats: €3\,- per meter (minimaal 5 meter)\nKraam vlomarkt: €30\,- (optioneel\, reserveren via inschrijving)\nStroom aanwezig: ja\nDoelgroep: breed publiek\, met interesse in markten en tweedehands aanbod\n\nDeze braderie en vlomarkt in Odoorn biedt een toegankelijke en gevarieerde marktdag.
URL:https://marktenmeer.nl/markt/braderie-en-vlomarkt-odoorn-16-augustus-2026/
LOCATION:Odoorn\, Odoorn\, Netherlands
CATEGORIES:Braderie Drenthe,Braderieën,Drenthe,Rommelmarkten,Rommelmarkten Drenthe
END:VEVENT
END:VCALENDAR