BEGIN:VCALENDAR
VERSION:2.0
PRODID:-//Markten en meer - ECPv6.15.20//NONSGML v1.0//EN
CALSCALE:GREGORIAN
METHOD:PUBLISH
X-WR-CALNAME:Markten en meer
X-ORIGINAL-URL:https://marktenmeer.nl
X-WR-CALDESC:Evenementen voor Markten en meer
REFRESH-INTERVAL;VALUE=DURATION:PT1H
X-Robots-Tag:noindex
X-PUBLISHED-TTL:PT1H
BEGIN:VTIMEZONE
TZID:Europe/Amsterdam
BEGIN:DAYLIGHT
TZOFFSETFROM:+0100
TZOFFSETTO:+0200
TZNAME:CEST
DTSTART:20250330T010000
END:DAYLIGHT
BEGIN:STANDARD
TZOFFSETFROM:+0200
TZOFFSETTO:+0100
TZNAME:CET
DTSTART:20251026T010000
END:STANDARD
BEGIN:DAYLIGHT
TZOFFSETFROM:+0100
TZOFFSETTO:+0200
TZNAME:CEST
DTSTART:20260329T010000
END:DAYLIGHT
BEGIN:STANDARD
TZOFFSETFROM:+0200
TZOFFSETTO:+0100
TZNAME:CET
DTSTART:20261025T010000
END:STANDARD
BEGIN:DAYLIGHT
TZOFFSETFROM:+0100
TZOFFSETTO:+0200
TZNAME:CEST
DTSTART:20270328T010000
END:DAYLIGHT
BEGIN:STANDARD
TZOFFSETFROM:+0200
TZOFFSETTO:+0100
TZNAME:CET
DTSTART:20271031T010000
END:STANDARD
END:VTIMEZONE
BEGIN:VEVENT
DTSTART;TZID=Europe/Amsterdam:20260820T100000
DTEND;TZID=Europe/Amsterdam:20260820T170000
DTSTAMP:20260419T235748
CREATED:20260211T085352Z
LAST-MODIFIED:20260328T220719Z
UID:19436-1787220000-1787245200@marktenmeer.nl
SUMMARY:Braderie & Vlooienmarkt Pulledagen Hoogeveen | Donderdag 20 augustus 2026 – Hoogeveen
DESCRIPTION:Op donderdag 20 augustus 2026 vindt in het centrum van Hoogeveen opnieuw een editie van de Pulledagen plaats met een uitgebreide braderie en vlooienmarkt. Van 10.00 tot 17.00 uur is het centrum gevuld met kramen\, bezoekers en zomerse levendigheid. \nDe Pulledagen trekken elke zomer veel publiek. Ondernemers presenteren zich op de braderie met een gevarieerd aanbod aan producten en diensten. Op de vlooienmarkt kunnen bezoekers rustig struinen tussen tweedehands spullen\, verzamelitems en curiosa. Deze combinatie zorgt voor een brede doelgroep en een aantrekkelijke marktdag voor jong en oud. \nDe organisatie is in handen van Organisatieburo Wildro\, dat zorgt voor duidelijke afspraken en een overzichtelijke marktindeling. \nPraktische informatie\n\nDatum: donderdag 20 augustus 2026\nTijd: 10.00 – 17.00 uur\nLocatie: Centrum Hoogeveen\nType markt: braderie & vlooienmarkt\n\nInformatie voor standhouders\nBraderie\n\nGrondplaats: € 10\,00 per strekkende meter\nKraam: € 50\,00 per kraam (excl. btw\, incl. grondplaats)\n\nVlooienmarkt\n\nGrondplaats: € 3\,00 per strekkende meter\nKraam: € 30\,00 per kraam (incl. grondplaats)\n\n(Over grondplaatsen wordt geen btw berekend)
URL:https://marktenmeer.nl/markt/pulledagen-hoogeveen-braderie-vlooienmarkt-20-augustus-2026/
LOCATION:Hoogeveen\, Hoogeveen\, Netherlands
CATEGORIES:Braderie Drenthe,Braderieën,Drenthe,Rommelmarkten,Rommelmarkten Drenthe
END:VEVENT
END:VCALENDAR