BEGIN:VCALENDAR
VERSION:2.0
PRODID:-//Markten en meer - ECPv6.15.20//NONSGML v1.0//EN
CALSCALE:GREGORIAN
METHOD:PUBLISH
X-WR-CALNAME:Markten en meer
X-ORIGINAL-URL:https://marktenmeer.nl
X-WR-CALDESC:Evenementen voor Markten en meer
REFRESH-INTERVAL;VALUE=DURATION:PT1H
X-Robots-Tag:noindex
X-PUBLISHED-TTL:PT1H
BEGIN:VTIMEZONE
TZID:Europe/Amsterdam
BEGIN:DAYLIGHT
TZOFFSETFROM:+0100
TZOFFSETTO:+0200
TZNAME:CEST
DTSTART:20250330T010000
END:DAYLIGHT
BEGIN:STANDARD
TZOFFSETFROM:+0200
TZOFFSETTO:+0100
TZNAME:CET
DTSTART:20251026T010000
END:STANDARD
BEGIN:DAYLIGHT
TZOFFSETFROM:+0100
TZOFFSETTO:+0200
TZNAME:CEST
DTSTART:20260329T010000
END:DAYLIGHT
BEGIN:STANDARD
TZOFFSETFROM:+0200
TZOFFSETTO:+0100
TZNAME:CET
DTSTART:20261025T010000
END:STANDARD
BEGIN:DAYLIGHT
TZOFFSETFROM:+0100
TZOFFSETTO:+0200
TZNAME:CEST
DTSTART:20270328T010000
END:DAYLIGHT
BEGIN:STANDARD
TZOFFSETFROM:+0200
TZOFFSETTO:+0100
TZNAME:CET
DTSTART:20271031T010000
END:STANDARD
END:VTIMEZONE
BEGIN:VEVENT
DTSTART;TZID=Europe/Amsterdam:20260826T100000
DTEND;TZID=Europe/Amsterdam:20260826T170000
DTSTAMP:20260419T235809
CREATED:20260211T090608Z
LAST-MODIFIED:20260328T220718Z
UID:19440-1787738400-1787763600@marktenmeer.nl
SUMMARY:Braderie & Vlooienmarkt Siepeldagen Dwingeloo | Woensdag 26 augustus 2026 – Dwingeloo
DESCRIPTION:Op woensdag 26 augustus 2026 sluit het zomerseizoen van de Siepeldagen in Dwingeloo af met een uitgebreide braderie en vlooienmarkt in het centrum. Van 10.00 tot 17.00 uur staat het dorp in het teken van handel\, ontmoeting en gezelligheid. \nTijdens deze editie presenteren ondernemers zich op de braderie met een gevarieerd aanbod aan producten en diensten. De vlooienmarkt biedt ruimte voor tweedehands spullen\, curiosa en verzamelitems. De combinatie zorgt voor een brede doelgroep en een levendig centrum. \nDe organisatie is in handen van Organisatieburo Wildro\, dat zorgt voor een duidelijke marktindeling en heldere deelnamevoorwaarden. \nPraktische informatie\n\nDatum: woensdag 26 augustus 2026\nTijd: 10.00 – 17.00 uur\nLocatie: Centrum Dwingeloo\nType markt: braderie & vlooienmarkt\n\nInformatie voor standhouders\nBraderie\n\nGrondplaats: € 6\,00 per strekkende meter\nKraam: € 45\,00 per kraam (excl. btw\, incl. grondplaats)\n\nVlooienmarkt\n\nGrondplaats: € 3\,00 per strekkende meter\nKraam: € 30\,00 per kraam (incl. grondplaats)\n\n(Over grondplaatsen wordt geen btw berekend)
URL:https://marktenmeer.nl/markt/siepeldagen-dwingeloo-braderie-vlooienmarkt-26-augustus-2026/
LOCATION:Dwingeloo\, Dwingeloo\, Netherlands
CATEGORIES:Braderie Drenthe,Braderieën,Drenthe,Rommelmarkten,Rommelmarkten Drenthe
END:VEVENT
BEGIN:VEVENT
DTSTART;TZID=Europe/Amsterdam:20260826T120000
DTEND;TZID=Europe/Amsterdam:20260826T200000
DTSTAMP:20260419T235809
CREATED:20251114T125520Z
LAST-MODIFIED:20260328T220718Z
UID:14454-1787745600-1787774400@marktenmeer.nl
SUMMARY:Jaarmarkt Schoonebeek – 26 augustus 2026 | Europaweg Schoonebeek
DESCRIPTION:Op woensdag 26 augustus 2026 vindt de Jaarmarkt Schoonebeek plaats van 12:00 tot 20:00 uur. De markt wordt gehouden aan de Europaweg in Schoonebeek en valt samen met de feestweek en kermis. \nDeze jaarmarkt is al jaren een begrip in de regio en trekt veel bezoekers uit de wijde omgeving. \nMarktinformatie\nDatum: woensdag 26 augustus 2026Tijd: 12:00 – 20:00 uurLocatie: Europaweg\, SchoonebeekAantal kramen: 80–100Gelegenheid: tijdens feestweek en kermis \nTarieven\n\nHuurkraam: € 60\,25 (incl. € 5\,25 btw en 4 meter grondplaats)\nGrondplaats 4 meter: € 30\,00\nExtra meter: € 7\,50 (geen btw over grondmeters)\nReclamekosten: € 6\,05 per standhouder (incl. 21% btw)\n\nStroom is ter plaatse te regelen en te betalen. \nFoodbeleid\nNiet toegestaan: patat\, snacks\, hamburgers\, braadworst e.d. \nGeen hobbyprijzen\nEr worden geen standaard hobbytarieven gehanteerd. \nWel kan er in specifieke gevallen een aangepast tarief worden besproken wanneer u een zelfgemaakt en bijzonder product verkoopt met een kleine winstmarge en zonder directe concurrentie met reguliere standhouders. U kunt hiervoor vooraf foto’s per e-mail of WhatsApp toesturen. \nWat valt onder reguliere artikelen?\nVoor onderstaande productgroepen wordt geen korting gegeven: \n\nAlle soorten tassen en lederwaren\nSieraden\nAlle soorten kleding\nSpeelgoed\nHaaraccessoires\nWoonaccessoires\nLifestyleproducten\nBaby- en kinderartikelen\nModeartikelen\nTuinaccessoires\nAlle foodproducten\n\nTwijfelt u of uw assortiment hieronder valt? Neem dan vooraf contact op per e-mail. \nWaarom deelnemen aan de Jaarmarkt Schoonebeek?\n\nGrote regionale publiekstrekker\n80–100 kramen\nTijdens feestweek en kermis\nLange openingstijd tot 20:00 uur\nBekende en gevestigde jaarmarkt\n\nWilt u uw producten presenteren tijdens een drukbezochte feestweek in de regio? Dan is de Jaarmarkt Schoonebeek een interessante markt om aan deel te nemen.
URL:https://marktenmeer.nl/markt/schoonebeek-jaarmarkt-26-augustus-2026/
LOCATION:Schoonebeek\, Schoonebeek\, Netherlands
CATEGORIES:Braderie Drenthe,Braderieën,Drenthe,Jaarmarkten,Jaarmarkten Drenthe
END:VEVENT
END:VCALENDAR