BEGIN:VCALENDAR
VERSION:2.0
PRODID:-//Markten en meer - ECPv6.15.20//NONSGML v1.0//EN
CALSCALE:GREGORIAN
METHOD:PUBLISH
X-WR-CALNAME:Markten en meer
X-ORIGINAL-URL:https://marktenmeer.nl
X-WR-CALDESC:Evenementen voor Markten en meer
REFRESH-INTERVAL;VALUE=DURATION:PT1H
X-Robots-Tag:noindex
X-PUBLISHED-TTL:PT1H
BEGIN:VTIMEZONE
TZID:Europe/Amsterdam
BEGIN:DAYLIGHT
TZOFFSETFROM:+0100
TZOFFSETTO:+0200
TZNAME:CEST
DTSTART:20250330T010000
END:DAYLIGHT
BEGIN:STANDARD
TZOFFSETFROM:+0200
TZOFFSETTO:+0100
TZNAME:CET
DTSTART:20251026T010000
END:STANDARD
BEGIN:DAYLIGHT
TZOFFSETFROM:+0100
TZOFFSETTO:+0200
TZNAME:CEST
DTSTART:20260329T010000
END:DAYLIGHT
BEGIN:STANDARD
TZOFFSETFROM:+0200
TZOFFSETTO:+0100
TZNAME:CET
DTSTART:20261025T010000
END:STANDARD
BEGIN:DAYLIGHT
TZOFFSETFROM:+0100
TZOFFSETTO:+0200
TZNAME:CEST
DTSTART:20270328T010000
END:DAYLIGHT
BEGIN:STANDARD
TZOFFSETFROM:+0200
TZOFFSETTO:+0100
TZNAME:CET
DTSTART:20271031T010000
END:STANDARD
END:VTIMEZONE
BEGIN:VEVENT
DTSTART;TZID=Europe/Amsterdam:20260829T100000
DTEND;TZID=Europe/Amsterdam:20260829T170000
DTSTAMP:20260419T235750
CREATED:20260211T091247Z
LAST-MODIFIED:20260328T220718Z
UID:19444-1787997600-1788022800@marktenmeer.nl
SUMMARY:Braderie & Vlooienmarkt Jaarmarkt Hollandscheveld | Zaterdag 29 augustus 2026 – Hollandscheveld
DESCRIPTION:Op zaterdag 29 augustus 2026 vindt in het centrum van Hollandscheveld de Jaarmarkt Hollandscheveld plaats met een uitgebreide braderie en vlooienmarkt. Van 10.00 tot 17.00 uur staat het dorp in het teken van handel\, ontmoeting en zomerse gezelligheid. \nTijdens de braderie presenteren ondernemers hun producten en diensten aan een breed publiek. De vlooienmarkt biedt ruimte voor tweedehands goederen\, curiosa en verzamelitems. De combinatie zorgt voor een gevarieerd aanbod en trekt bezoekers uit de regio. \nDe organisatie is in handen van Organisatieburo Wildro\, dat zorgt voor duidelijke voorwaarden en een overzichtelijke marktindeling. \nPraktische informatie\n\nDatum: zaterdag 29 augustus 2026\nTijd: 10.00 – 17.00 uur\nLocatie: Centrum Hollandscheveld\nType markt: braderie & vlooienmarkt\n\nInformatie voor standhouders\nBraderie\n\nGrondplaats: € 6\,00 per strekkende meter\nKraam: € 45\,00 per kraam (excl. btw\, incl. grondplaats)\n\nVlooienmarkt\n\nGrondplaats: € 3\,00 per strekkende meter\nKraam: € 30\,00 per kraam (incl. grondplaats)\n\n(Over grondplaatsen wordt geen btw berekend)
URL:https://marktenmeer.nl/markt/jaarmarkt-hollandscheveld-braderie-vlooienmarkt-29-augustus-2026/
LOCATION:Hollandscheveld\, Hollandscheveld\, Netherlands
CATEGORIES:Braderie Drenthe,Braderieën,Drenthe,Rommelmarkten,Rommelmarkten Drenthe
END:VEVENT
BEGIN:VEVENT
DTSTART;TZID=Europe/Amsterdam:20260829T100000
DTEND;TZID=Europe/Amsterdam:20260830T170000
DTSTAMP:20260419T235750
CREATED:20260330T081258Z
LAST-MODIFIED:20260330T081258Z
UID:23955-1787997600-1788109200@marktenmeer.nl
SUMMARY:Reuzenfair Schoonoord – 29 en 30 augustus 2026
DESCRIPTION:De Reuzenfair in Schoonoord op 29 en 30 augustus 2026 vindt plaats op het terrein van het Openluchtmuseum Ellert & Brammert. Dit tweedaagse evenement combineert een markt met activiteiten en is geschikt voor bezoekers die een compleet dagje uit zoeken. Tijdens deze markt in Schoonoord kun je langs diverse kramen struinen en tegelijkertijd het museum en de omgeving beleven. \nDe sfeer is levendig en gericht op een breed publiek. Verspreid over het museumterrein vind je kraampjes met uiteenlopende producten en foodtrucks met verschillende eetmogelijkheden. Daarnaast zijn er activiteiten voor jong en oud\, waardoor de Reuzenfair meer is dan alleen een markt. Door de combinatie met het openluchtmuseum ontstaat een afwisselend en toegankelijk evenement. \nVoor bezoekers\n\nDatum: zaterdag 29 en zondag 30 augustus 2026\nTijd: 10.00 – 17.00 uur\nLocatie: Openluchtmuseum Ellert & Brammert\, Tramstraat 73\, Schoonoord\nType markt: fair / braderie (op museumterrein)\nAanbod: kramen met diverse producten en foodtrucks\nExtra: activiteiten voor jong en oud\n\nToegang (museumprijzen): \n\nt/m 3 jaar: gratis\n4 t/m 11 jaar: €6\,-\n12 jaar en ouder: €10\,-\nParkeren: gratis\nHonden (aangelijnd): toegestaan\n\nVoor standhouders\nDe Reuzenfair biedt ruimte aan standhouders die willen deelnemen aan een evenement met een breed en gevarieerd publiek. \n\nDeelname: aanmelden via organisatie\nContact: reuzenfair@ellertenbrammert.nl\nType aanbod: divers\, inclusief food en non-food\nDoelgroep: gezinnen\, dagjesbezoekers en museumbezoekers\n\nDeze Reuzenfair in Schoonoord biedt een gevarieerd evenement met markt en activiteiten binnen het museumterrein.
URL:https://marktenmeer.nl/markt/reuzenfair-schoonoord-2026/
LOCATION:Openluchtmuseum Ellert & Brammert\, Tramstraat 73\, Schoonoord\, Netherlands
CATEGORIES:Drenthe,Fair Drenthe,Fairs
END:VEVENT
END:VCALENDAR