BEGIN:VCALENDAR
VERSION:2.0
PRODID:-//Markten en meer - ECPv6.15.20//NONSGML v1.0//EN
CALSCALE:GREGORIAN
METHOD:PUBLISH
X-WR-CALNAME:Markten en meer
X-ORIGINAL-URL:https://marktenmeer.nl
X-WR-CALDESC:Evenementen voor Markten en meer
REFRESH-INTERVAL;VALUE=DURATION:PT1H
X-Robots-Tag:noindex
X-PUBLISHED-TTL:PT1H
BEGIN:VTIMEZONE
TZID:Europe/Amsterdam
BEGIN:DAYLIGHT
TZOFFSETFROM:+0100
TZOFFSETTO:+0200
TZNAME:CEST
DTSTART:20250330T010000
END:DAYLIGHT
BEGIN:STANDARD
TZOFFSETFROM:+0200
TZOFFSETTO:+0100
TZNAME:CET
DTSTART:20251026T010000
END:STANDARD
BEGIN:DAYLIGHT
TZOFFSETFROM:+0100
TZOFFSETTO:+0200
TZNAME:CEST
DTSTART:20260329T010000
END:DAYLIGHT
BEGIN:STANDARD
TZOFFSETFROM:+0200
TZOFFSETTO:+0100
TZNAME:CET
DTSTART:20261025T010000
END:STANDARD
BEGIN:DAYLIGHT
TZOFFSETFROM:+0100
TZOFFSETTO:+0200
TZNAME:CEST
DTSTART:20270328T010000
END:DAYLIGHT
BEGIN:STANDARD
TZOFFSETFROM:+0200
TZOFFSETTO:+0100
TZNAME:CET
DTSTART:20271031T010000
END:STANDARD
END:VTIMEZONE
BEGIN:VEVENT
DTSTART;TZID=Europe/Amsterdam:20260919T110000
DTEND;TZID=Europe/Amsterdam:20260919T170000
DTSTAMP:20260420T012334
CREATED:20260328T093245Z
LAST-MODIFIED:20260328T220718Z
UID:23837-1789815600-1789837200@marktenmeer.nl
SUMMARY:Braderie en vlomarkt Exloo – 19 september 2026
DESCRIPTION:De braderie en vlomarkt in Exloo op 19 september 2026 is een najaarsmarkt waar je op je gemak langs de kramen kunt struinen. In het centrum van het dorp vind je een combinatie van braderiekramen en tweedehands verkoop\, wat zorgt voor een afwisselend aanbod. Deze markt in Exloo is geschikt voor bezoekers die willen rondkijken\, iets zoeken of gewoon de sfeer willen ervaren. Door de overzichtelijke opzet is het een prettige markt voor een ontspannen bezoek. \nDe sfeer is gemoedelijk en dorps. Standhouders bieden een mix van producten aan\, van kleding en accessoires tot curiosa\, huisraad en seizoensartikelen. De combinatie van nieuwe en gebruikte spullen maakt deze braderie en vlomarkt in Exloo aantrekkelijk voor een breed publiek. In het najaar is het bovendien een moment om een bezoek aan de markt te combineren met de omgeving. \nVoor bezoekers\n\nDatum: zaterdag 19 september 2026\nTijd: 11.00 – 17.00 uur\nLocatie: Zuiderhoofdstraat / Schoolstraat\, Exloo\nEntree: gratis\nType markt: braderie en vlomarkt\nAanbod: combinatie van nieuwe en tweedehands producten.\n\nVoor standhouders\nDeze markt in Exloo biedt ruimte aan zowel braderiekramen als verkopers op de vlomarkt. Door de combinatie van typen standhouders trekt het evenement een breed publiek. \n\nKraamprijs braderie: €46\,- (incl. 4 meter grondplaats)\nGrondplaats braderie: €7\,- per meter (minimaal 4 meter)\nStroom (230V): €8\,- per aansluiting\nHobbykraam: €30\,- (incl. 4 meter\, voorwaarden van toepassing)\nVlomarkt grondplaats: €3\,- per meter (minimaal 5 meter)\nKraam vlomarkt: €30\,- (optioneel\, reserveren via inschrijving)\nStroom aanwezig: ja\nDoelgroep: breed publiek\, met interesse in markten en tweedehands aanbod\n\nDeze braderie en vlomarkt in Exloo biedt een toegankelijke en gevarieerde marktdag.
URL:https://marktenmeer.nl/markt/braderie-vlomarkt-exloo-19-september-2026/
LOCATION:Exloo\, Exloo\, Netherlands
CATEGORIES:Braderie Drenthe,Braderieën,Drenthe,Rommelmarkten,Rommelmarkten Drenthe
END:VEVENT
BEGIN:VEVENT
DTSTART;TZID=Europe/Amsterdam:20260919T110000
DTEND;TZID=Europe/Amsterdam:20260919T170000
DTSTAMP:20260420T012334
CREATED:20260329T074315Z
LAST-MODIFIED:20260329T074315Z
UID:23888-1789815600-1789837200@marktenmeer.nl
SUMMARY:Braderie en vlomarkt Borger – 19 september 2026
DESCRIPTION:De braderie en vlomarkt in Borger op 19 september 2026 is een najaarsmarkt waar je rustig langs de kramen kunt struinen. In het centrum van het dorp vind je een combinatie van braderiekramen en tweedehands verkoop\, wat zorgt voor een gevarieerd aanbod. Deze markt in Borger is geschikt voor bezoekers die iets willen kopen\, maar ook voor wie gewoon wil rondkijken. Door de overzichtelijke opzet is het een prettige plek om een paar uur door te brengen. \nDe sfeer is gemoedelijk en dorps. Standhouders bieden een mix van producten aan\, van kleding en accessoires tot curiosa\, huisraad en seizoensartikelen. De combinatie van nieuwe en gebruikte artikelen maakt deze braderie en vlomarkt in Borger aantrekkelijk voor een breed publiek. In het najaar is het bovendien goed te combineren met een wandeling of fietstocht in de omgeving. \nVoor bezoekers\n\nDatum: zaterdag 19 september 2026\nTijd: 11.00 – 17.00 uur\nLocatie: centrum Borger\nEntree: gratis\nType markt: braderie en vlomarkt\nAanbod: combinatie van nieuwe en tweedehands producten\n\nVoor standhouders\nDeze markt in Borger biedt ruimte aan zowel braderiekramen als verkopers op de vlomarkt. Door de combinatie van typen standhouders trekt het evenement een breed publiek. \n\nKraamprijs braderie: €46\,- (incl. 4 meter grondplaats)\nGrondplaats braderie: €7\,- per meter (minimaal 4 meter)\nStroom (230V): €8\,- per aansluiting\nHobbykraam: €30\,- (incl. 4 meter\, voorwaarden van toepassing)\nVlomarkt grondplaats: €3\,- per meter (minimaal 5 meter)\nKraam vlomarkt: €30\,- (optioneel\, reserveren via inschrijving)\nStroom aanwezig: ja\nDoelgroep: breed publiek\, met interesse in markten en tweedehands aanbod\n\nDeze braderie en vlomarkt in Borger biedt een toegankelijke en gevarieerde marktdag.
URL:https://marktenmeer.nl/markt/braderie-en-vlomarkt-borger-19-september-2026/
LOCATION:Borger\, Borger\, Netherlands
CATEGORIES:Braderie Drenthe,Braderieën,Drenthe,Rommelmarkten,Rommelmarkten Drenthe
END:VEVENT
END:VCALENDAR