BEGIN:VCALENDAR
VERSION:2.0
PRODID:-//Markten en meer - ECPv6.15.20//NONSGML v1.0//EN
CALSCALE:GREGORIAN
METHOD:PUBLISH
X-WR-CALNAME:Markten en meer
X-ORIGINAL-URL:https://marktenmeer.nl
X-WR-CALDESC:Evenementen voor Markten en meer
REFRESH-INTERVAL;VALUE=DURATION:PT1H
X-Robots-Tag:noindex
X-PUBLISHED-TTL:PT1H
BEGIN:VTIMEZONE
TZID:Europe/Amsterdam
BEGIN:DAYLIGHT
TZOFFSETFROM:+0100
TZOFFSETTO:+0200
TZNAME:CEST
DTSTART:20250330T010000
END:DAYLIGHT
BEGIN:STANDARD
TZOFFSETFROM:+0200
TZOFFSETTO:+0100
TZNAME:CET
DTSTART:20251026T010000
END:STANDARD
BEGIN:DAYLIGHT
TZOFFSETFROM:+0100
TZOFFSETTO:+0200
TZNAME:CEST
DTSTART:20260329T010000
END:DAYLIGHT
BEGIN:STANDARD
TZOFFSETFROM:+0200
TZOFFSETTO:+0100
TZNAME:CET
DTSTART:20261025T010000
END:STANDARD
BEGIN:DAYLIGHT
TZOFFSETFROM:+0100
TZOFFSETTO:+0200
TZNAME:CEST
DTSTART:20270328T010000
END:DAYLIGHT
BEGIN:STANDARD
TZOFFSETFROM:+0200
TZOFFSETTO:+0100
TZNAME:CET
DTSTART:20271031T010000
END:STANDARD
END:VTIMEZONE
BEGIN:VEVENT
DTSTART;TZID=Europe/Amsterdam:20260920T100000
DTEND;TZID=Europe/Amsterdam:20260920T163000
DTSTAMP:20260420T012353
CREATED:20260407T115603Z
LAST-MODIFIED:20260407T115603Z
UID:24987-1789898400-1789921800@marktenmeer.nl
SUMMARY:Zuidlaren Hondsrugmarkt – braderie en vlooienmarkt in Zuidlaren (20 september 2026)
DESCRIPTION:De Zuidlaren Hondsrugmarkt op zondag 20 september 2026 is een combinatie van braderie en vlooienmarkt op de karakteristieke Brink. Deze markt in Zuidlaren staat bekend om de groene omgeving en de gemoedelijke sfeer. Bezoekers kunnen hier langs kramen struinen met een mix van tweedehands spullen\, curiosa en nieuwe producten. De markt is geschikt voor zowel gericht zoeken als een ontspannen dagje uit. \nDe Brink ligt centraal in het dorp en wordt omringd door terrassen en karakteristieke panden. Tijdens de markt ontstaat een levendige maar overzichtelijke sfeer. Het aanbod wordt aangevuld met eet- en drinkgelegenheden\, waardoor je het bezoek eenvoudig kunt afwisselen. \nVoor bezoekers\n\nType markt: braderie en vlooienmarkt\nPlaats: Zuidlaren\nDatum: zondag 20 september 2026\nTijd: 10.00 – 16.30 uur\nLocatie: De Brink\, 9470 AE Zuidlaren\nEntree: gratis\nParkeren: gratis in de nabije omgeving\n\nVoor standhouders\n\nReserveren: verplicht\n\nBraderie: \n\nStandplaats 4 meter: vanaf €37\,50\nExtra meters: €6\,50 per meter\nKraam (4 meter met bovenbouw): €52\,50 (extra kraam €41)\nFoodstandplaats (4 meter): €75\n\nVlooienmarkt: \n\nStandplaats 5 meter: €22\,50\nExtra meters: €4 per meter\nStandplaats incl. kraam (4 meter): €37\,50\n\nHobby/Ambachten: \n\nStandplaats incl. kraam (4 meter): €40\nDiepte standplaats: 2\,5 meter\nFood toegestaan: ja (op aanvraag)\nOpbouw: 08.00 – 09.30 uur\n\nStandhouders kunnen tijdens het opbouwen met de auto bij hun standplaats komen. Daarna wordt deze elders geparkeerd\, tenzij anders aangegeven. Het is belangrijk dat de stand tot het einde van de markt open blijft. \nDe Zuidlaren Hondsrugmarkt biedt een combinatie van sfeer\, locatie en een gevarieerd aanbod.
URL:https://marktenmeer.nl/markt/zuidlaren-hondsrugmarkt-20-september-2026/
LOCATION:Zuidlaren\, Zuidlaren\, Netherlands
CATEGORIES:Braderie Drenthe,Braderieën,Drenthe,Rommelmarkten,Rommelmarkten Drenthe
END:VEVENT
END:VCALENDAR