BEGIN:VCALENDAR
VERSION:2.0
PRODID:-//Markten en meer - ECPv6.15.20//NONSGML v1.0//EN
CALSCALE:GREGORIAN
METHOD:PUBLISH
X-WR-CALNAME:Markten en meer
X-ORIGINAL-URL:https://marktenmeer.nl
X-WR-CALDESC:Evenementen voor Markten en meer
REFRESH-INTERVAL;VALUE=DURATION:PT1H
X-Robots-Tag:noindex
X-PUBLISHED-TTL:PT1H
BEGIN:VTIMEZONE
TZID:Europe/Amsterdam
BEGIN:DAYLIGHT
TZOFFSETFROM:+0100
TZOFFSETTO:+0200
TZNAME:CEST
DTSTART:20250330T010000
END:DAYLIGHT
BEGIN:STANDARD
TZOFFSETFROM:+0200
TZOFFSETTO:+0100
TZNAME:CET
DTSTART:20251026T010000
END:STANDARD
BEGIN:DAYLIGHT
TZOFFSETFROM:+0100
TZOFFSETTO:+0200
TZNAME:CEST
DTSTART:20260329T010000
END:DAYLIGHT
BEGIN:STANDARD
TZOFFSETFROM:+0200
TZOFFSETTO:+0100
TZNAME:CET
DTSTART:20261025T010000
END:STANDARD
BEGIN:DAYLIGHT
TZOFFSETFROM:+0100
TZOFFSETTO:+0200
TZNAME:CEST
DTSTART:20270328T010000
END:DAYLIGHT
BEGIN:STANDARD
TZOFFSETFROM:+0200
TZOFFSETTO:+0100
TZNAME:CET
DTSTART:20271031T010000
END:STANDARD
END:VTIMEZONE
BEGIN:VEVENT
DTSTART;TZID=Europe/Amsterdam:20260926T100000
DTEND;TZID=Europe/Amsterdam:20260927T170000
DTSTAMP:20260420T024744
CREATED:20260416T103117Z
LAST-MODIFIED:20260416T103117Z
UID:25771-1790416800-1790528400@marktenmeer.nl
SUMMARY:Bricks & Build – Hoogeveen – 26 & 27 september 2026
DESCRIPTION:Op zaterdag 26 en zondag 27 september 2026 vindt Bricks & Build plaats in Hoogeveen. Deze legobeurs in Hoogeveen staat bekend als een toegankelijk evenement voor liefhebbers van alle leeftijden. Bezoekers kunnen hier bouwen\, kijken en genieten van een breed aanbod aan LEGO®-gerelateerde activiteiten. De combinatie van exposities\, verkoop en interactieve onderdelen maakt het een compleet dagje uit voor gezinnen en hobbyisten. \nDe sfeer is creatief en laagdrempelig. Je vindt er indrukwekkende bouwwerken\, stands met nieuwe en gebruikte LEGO®-sets en losse onderdelen. Daarnaast is er ruimte om zelf actief bezig te zijn en inspiratie op te doen. Het evenement trekt zowel verzamelaars als gezinnen met kinderen\, waardoor er een gevarieerd publiek aanwezig is gedurende beide dagen. \nVoor bezoekers\n\nData: zaterdag 26 en zondag 27 september 2026\nTijd: 10:00 – 17:00\nLocatie: Het Activum\, Sportveldenweg 2\, Hoogeveen\nType evenement: legobeurs / markt / beurs\nEntree:\n\nVoorverkoop: € 5\,00 (excl. servicekosten)\nAan de deur: € 6\,50\n\n\nAanbod: LEGO® bouwwerken\, verkoop van sets en onderdelen\nTickets: online en aan de kassa verkrijgbaar\nKenmerk: creatief evenement voor jong en oud\n\nVoor standhouders\nBricks & Build biedt standhouders de mogelijkheid om producten en collecties te presenteren aan een gericht publiek van LEGO®-liefhebbers. \n\nKraamprijs: € 60\,00 per 4 meter per dag\nTafels: 4 x 1 meter\nExtra optie: plaats met achterwand en extra ruimte (€ 15 per 4 meter per dag)\nStroom aanwezig: op aanvraag\nEigen opstelling: mogelijk (afmetingen vooraf doorgeven)\nAanmelden: via inschrijfformulier op de website\n\nStandhouders profiteren van een publiek dat specifiek interesse heeft in LEGO®\, wat zorgt voor gerichte verkoop en contact met bezoekers. \nBricks & Build in Hoogeveen is een toegankelijke en creatieve beurs voor liefhebbers van bouwen en verzamelen.
URL:https://marktenmeer.nl/markt/bricks-build-hoogeveen-26-27-september-2026/
LOCATION:Hoogeveen\, Hoogeveen\, Netherlands
CATEGORIES:Drenthe,Verzamelbeurs,Verzamelbeurs Drenthe
END:VEVENT
END:VCALENDAR